Workbook

Sheet G1 LB1 09271137
A1: Nutrient | B1: Length | C1: Width | D1: Length/Width | E1: Surface Area | F1: Volume | G1: SA/V
A2: LB | B2: 1.127 | C2: 0.993 | D2: =B2/C2 -> 1.1349446 | E2: =((4*PI()*(C2/2)^2)+((PI()*C2)*(B2-C2))) -> 3.5157909 | F2: =(((4/3)*PI()*(C2/2)^3)+(PI()*((C2/2)^2)*(B2-C2))) -> 0.61645509 | G2: =E2/F2 -> 5.7032393
A3: LB | B3: 1.29 | C3: 1.038 | D3: =B3/C3 -> 1.2427746 | E3: =((4*PI()*(C3/2)^2)+((PI()*C3)*(B3-C3))) -> 4.2066554 | F3: =(((4/3)*PI()*(C3/2)^3)+(PI()*((C3/2)^2)*(B3-C3))) -> 0.79883408 | G3: =E3/F3 -> 5.2659939
A4: LB | B4: 1.41 | C4: 0.882 | D4: =B4/C4 -> 1.5986395 | E4: =((4*PI()*(C4/2)^2)+((PI()*C4)*(B4-C4))) -> 3.9069475 | F4: =(((4/3)*PI()*(C4/2)^3)+(PI()*((C4/2)^2)*(B4-C4))) -> 0.68185377 | G4: =E4/F4 -> 5.7298905
A5: LB | B5: 1.894 | C5: 1.196 | D5: =B5/C5 -> 1.583612 | E5: =((4*PI()*(C5/2)^2)+((PI()*C5)*(B5-C5))) -> 7.1164111 | F5: =(((4/3)*PI()*(C5/2)^3)+(PI()*((C5/2)^2)*(B5-C5))) -> 1.6799264 | G5: =E5/F5 -> 4.2361446
A6: LB | B6: 1.405 | C6: 0.936 | D6: =B6/C6 -> 1.5010684 | E6: =((4*PI()*(C6/2)^2)+((PI()*C6)*(B6-C6))) -> 4.1314457 | F6: =(((4/3)*PI()*(C6/2)^3)+(PI()*((C6/2)^2)*(B6-C6))) -> 0.75207602 | G6: =E6/F6 -> 5.4933884
A7: LB | B7: 1.115 | C7: 0.914 | D7: =B7/C7 -> 1.2199125 | E7: =((4*PI()*(C7/2)^2)+((PI()*C7)*(B7-C7))) -> 3.2016285 | F7: =(((4/3)*PI()*(C7/2)^3)+(PI()*((C7/2)^2)*(B7-C7))) -> 0.53167468 | G7: =E7/F7 -> 6.021781
A8: LB | B8: 2.018 | C8: 1.153 | D8: =B8/C8 -> 1.7502168 | E8: =((4*PI()*(C8/2)^2)+((PI()*C8)*(B8-C8))) -> 7.3097133 | F8: =(((4/3)*PI()*(C8/2)^3)+(PI()*((C8/2)^2)*(B8-C8))) -> 1.7057365 | G8: =E8/F8 -> 4.2853707
A9: LB | B9: 1.638 | C9: 1.171 | D9: =B9/C9 -> 1.3988044 | E9: =((4*PI()*(C9/2)^2)+((PI()*C9)*(B9-C9))) -> 6.0258826 | F9: =(((4/3)*PI()*(C9/2)^3)+(PI()*((C9/2)^2)*(B9-C9))) -> 1.3436998 | G9: =E9/F9 -> 4.4845454
A10: LB | B10: 1.29 | C10: 1.055 | D10: =B10/C10 -> 1.2227488 | E10: =((4*PI()*(C10/2)^2)+((PI()*C10)*(B10-C10))) -> 4.2755505 | F10: =(((4/3)*PI()*(C10/2)^3)+(PI()*((C10/2)^2)*(B10-C10))) -> 0.82026078 | G10: =E10/F10 -> 5.2124283
A11: LB | B11: 1.526 | C11: 1.036 | D11: =B11/C11 -> 1.472973 | E11: =((4*PI()*(C11/2)^2)+((PI()*C11)*(B11-C11))) -> 4.9666569 | F11: =(((4/3)*PI()*(C11/2)^3)+(PI()*((C11/2)^2)*(B11-C11))) -> 0.99526033 | G11: =E11/F11 -> 4.9903093
A12: LB | B12: 1.881 | C12: 1.123 | D12: =B12/C12 -> 1.6749777 | E12: =((4*PI()*(C12/2)^2)+((PI()*C12)*(B12-C12))) -> 6.6361841 | F12: =(((4/3)*PI()*(C12/2)^3)+(PI()*((C12/2)^2)*(B12-C12))) -> 1.4923359 | G12: =E12/F12 -> 4.4468436
A13: LB | B13: 1.316 | C13: 1.095 | D13: =B13/C13 -> 1.2018265 | E13: =((4*PI()*(C13/2)^2)+((PI()*C13)*(B13-C13))) -> 4.5270978 | F13: =(((4/3)*PI()*(C13/2)^3)+(PI()*((C13/2)^2)*(B13-C13))) -> 0.89556814 | G13: =E13/F13 -> 5.055001
... A19: LB | B19: 2.321 | C19: 0.9 | D19: =B19/C19 -> 2.5788889 | E19: =((4*PI()*(C19/2)^2)+((PI()*C19)*(B19-C19))) -> 6.5624729 | F19: =(((4/3)*PI()*(C19/2)^3)+(PI()*((C19/2)^2)*(B19-C19))) -> 1.2857046 | G19: =E19/F19 -> 5.1041838
A20: LB | B20: 1.424 | C20: =(0.804+0.235)/2 -> 0.5195 | D20: =B20/C20 -> 2.7410972 | E20: =((4*PI()*(C20/2)^2)+((PI()*C20)*(B20-C20))) -> 2.3240497 | F20: =(((4/3)*PI()*(C20/2)^3)+(PI()*((C20/2)^2)*(B20-C20))) -> 0.26513095 | G20: =E20/F20 -> 8.7656673
A21: LB | B21: 1.245 | C21: 0.974 | D21: =B21/C21 -> 1.2782341 | E21: =((4*PI()*(C21/2)^2)+((PI()*C21)*(B21-C21))) -> 3.8095895 | F21: =(((4/3)*PI()*(C21/2)^3)+(PI()*((C21/2)^2)*(B21-C21))) -> 0.68572968 | G21: =E21/F21 -> 5.5555266
A22: LB | B22: 1.276 | C22: 0.732 | D22: =B22/C22 -> 1.7431694 | E22: =((4*PI()*(C22/2)^2)+((PI()*C22)*(B22-C22))) -> 2.9343481 | F22: =(((4/3)*PI()*(C22/2)^3)+(PI()*((C22/2)^2)*(B22-C22))) -> 0.43430191 | G22: =E22/F22 -> 6.7564705
A23: LB | B23: 1.543 | C23: 1.09 | D23: =B23/C23 -> 1.4155963 | E23: =((4*PI()*(C23/2)^2)+((PI()*C23)*(B23-C23))) -> 5.2837504 | F23: =(((4/3)*PI()*(C23/2)^3)+(PI()*((C23/2)^2)*(B23-C23))) -> 1.1007842 | G23: =E23/F23 -> 4.7999876
A24: LB | B24: 2.074 | C24: 1.095 | D24: =B24/C24 -> 1.8940639 | E24: =((4*PI()*(C24/2)^2)+((PI()*C24)*(B24-C24))) -> 7.1346512 | F24: =(((4/3)*PI()*(C24/2)^3)+(PI()*((C24/2)^2)*(B24-C24))) -> 1.6093859 | G24: =E24/F24 -> 4.4331514
A25: LB | B25: 1.389 | C25: 1.121 | D25: =B25/C25 -> 1.2390723 | E25: =((4*PI()*(C25/2)^2)+((PI()*C25)*(B25-C25))) -> 4.8916765 | F25: =(((4/3)*PI()*(C25/2)^3)+(PI()*((C25/2)^2)*(B25-C25))) -> 1.002097 | G25: =E25/F25 -> 4.8814403
A26: LB | B26: 1.526 | C26: 1 | D26: =B26/C26 -> 1.526 | E26: =((4*PI()*(C26/2)^2)+((PI()*C26)*(B26-C26))) -> 4.7940704 | F26: =(((4/3)*PI()*(C26/2)^3)+(PI()*((C26/2)^2)*(B26-C26))) -> 0.93671821 | G26: =E26/F26 -> 5.117943
A27: LB | B27: 1.509 | C27: 1.083 | D27: =B27/C27 -> 1.3933518 | E27: =((4*PI()*(C27/2)^2)+((PI()*C27)*(B27-C27))) -> 5.1341384 | F27: =(((4/3)*PI()*(C27/2)^3)+(PI()*((C27/2)^2)*(B27-C27))) -> 1.0575202 | G27: =E27/F27 -> 4.8548843
A28: LB | B28: 1.175 | C28: =(1.044+0.741)/2 -> 0.8925 | D28: =B28/C28 -> 1.3165266 | E28: =((4*PI()*(C28/2)^2)+((PI()*C28)*(B28-C28))) -> 3.2945489 | F28: =(((4/3)*PI()*(C28/2)^3)+(PI()*((C28/2)^2)*(B28-C28))) -> 0.54897612 | G28: =E28/F28 -> 6.0012609
A29: LB | B29: 1.372 | C29: 1.086 | D29: =B29/C29 -> 1.2633517 | E29: =((4*PI()*(C29/2)^2)+((PI()*C29)*(B29-C29))) -> 4.6809479 | F29: =(((4/3)*PI()*(C29/2)^3)+(PI()*((C29/2)^2)*(B29-C29))) -> 0.93555841 | G29: =E29/F29 -> 5.0033733
A30: LB | B30: 1.855 | C30: 1.033 | D30: =B30/C30 -> 1.7957406 | E30: =((4*PI()*(C30/2)^2)+((PI()*C30)*(B30-C30))) -> 6.019967 | F30: =(((4/3)*PI()*(C30/2)^3)+(PI()*((C30/2)^2)*(B30-C30))) -> 1.2660742 | G30: =E30/F30 -> 4.7548294
A31: LB | B31: 1.118 | C31: 0.983 | D31: =B31/C31 -> 1.1373347 | E31: =((4*PI()*(C31/2)^2)+((PI()*C31)*(B31-C31))) -> 3.4525915 | F31: =(((4/3)*PI()*(C31/2)^3)+(PI()*((C31/2)^2)*(B31-C31))) -> 0.59980104 | G31: =E31/F31 -> 5.7562279
A32: LB | B32: 1.704 | C32: 0.954 | D32: =B32/C32 -> 1.7861635 | E32: =((4*PI()*(C32/2)^2)+((PI()*C32)*(B32-C32))) -> 5.1070233 | F32: =(((4/3)*PI()*(C32/2)^3)+(PI()*((C32/2)^2)*(B32-C32))) -> 0.99071756 | G32: =E32/F32 -> 5.1548731
A33: LB | B33: 1.659 | C33: 1.042 | D33: =B33/C33 -> 1.5921305 | E33: =((4*PI()*(C33/2)^2)+((PI()*C33)*(B33-C33))) -> 5.4308021 | F33: =(((4/3)*PI()*(C33/2)^3)+(PI()*((C33/2)^2)*(B33-C33))) -> 1.118533 | G33: =E33/F33 -> 4.85529
A34: LB | B34: 2.306 | C34: 1.042 | D34: =B34/C34 -> 2.2130518 | E34: =((4*PI()*(C34/2)^2)+((PI()*C34)*(B34-C34))) -> 7.5487822 | F34: =(((4/3)*PI()*(C34/2)^3)+(PI()*((C34/2)^2)*(B34-C34))) -> 1.6702668 | G34: =E34/F34 -> 4.5195068
A35: LB | B35: 1.497 | C35: 1.104 | D35: =B35/C35 -> 1.3559783 | E35: =((4*PI()*(C35/2)^2)+((PI()*C35)*(B35-C35))) -> 5.1920725 | F35: =(((4/3)*PI()*(C35/2)^3)+(PI()*((C35/2)^2)*(B35-C35))) -> 1.0807419 | G35: =E35/F35 -> 4.8041745
A36: LB | B36: 1.509 | C36: 1.056 | D36: =B36/C36 -> 1.4289773 | E36: =((4*PI()*(C36/2)^2)+((PI()*C36)*(B36-C36))) -> 5.0061405 | F36: =(((4/3)*PI()*(C36/2)^3)+(PI()*((C36/2)^2)*(B36-C36))) -> 1.0133304 | G36: =E36/F36 -> 4.9402844
A37: LB | B37: 1.951 | C37: 1.089 | D37: =B37/C37 -> 1.7915519 | E37: =((4*PI()*(C37/2)^2)+((PI()*C37)*(B37-C37))) -> 6.6747503 | F37: =(((4/3)*PI()*(C37/2)^3)+(PI()*((C37/2)^2)*(B37-C37))) -> 1.4790952 | G37: =E37/F37 -> 4.5127251
A38: LB | B38: 1.357 | C38: 0.871 | D38: =B38/C38 -> 1.5579793 | E38: =((4*PI()*(C38/2)^2)+((PI()*C38)*(B38-C38))) -> 3.713196 | F38: =(((4/3)*PI()*(C38/2)^3)+(PI()*((C38/2)^2)*(B38-C38))) -> 0.6355576 | G38: =E38/F38 -> 5.8424225
A39: LB | B39: 1.629 | C39: 0.91 | D39: =B39/C39 -> 1.7901099 | E39: =((4*PI()*(C39/2)^2)+((PI()*C39)*(B39-C39))) -> 4.6570655 | F39: =(((4/3)*PI()*(C39/2)^3)+(PI()*((C39/2)^2)*(B39-C39))) -> 0.86219798 | G39: =E39/F39 -> 5.4013876
A40: LB | B40: 2.187 | C40: 0.887 | D40: =B40/C40 -> 2.4656144 | E40: =((4*PI()*(C40/2)^2)+((PI()*C40)*(B40-C40))) -> 6.0942782 | F40: =(((4/3)*PI()*(C40/2)^3)+(PI()*((C40/2)^2)*(B40-C40))) -> 1.1687058 | G40: =E40/F40 -> 5.2145529
A41: LB | B41: 1.958 | C41: =(0.926+0.577)/2 -> 0.7515 | D41: =B41/C41 -> 2.6054558 | E41: =((4*PI()*(C41/2)^2)+((PI()*C41)*(B41-C41))) -> 4.6226557 | F41: =(((4/3)*PI()*(C41/2)^3)+(PI()*((C41/2)^2)*(B41-C41))) -> 0.75737081 | G41: =E41/F41 -> 6.1035567
A42: LB | B42: 1.324 | C42: 1.072 | D42: =B42/C42 -> 1.2350746 | E42: =((4*PI()*(C42/2)^2)+((PI()*C42)*(B42-C42))) -> 4.4589504 | F42: =(((4/3)*PI()*(C42/2)^3)+(PI()*((C42/2)^2)*(B42-C42))) -> 0.87248144 | G42: =E42/F42 -> 5.1106536
A43: LB | B43: 2.367 | C43: 1.158 | D43: =B43/C43 -> 2.0440415 | E43: =((4*PI()*(C43/2)^2)+((PI()*C43)*(B43-C43))) -> 8.6110615 | F43: =(((4/3)*PI()*(C43/2)^3)+(PI()*((C43/2)^2)*(B43-C43))) -> 2.0863707 | G43: =E43/F43 -> 4.1272922
A44: LB | B44: 1.175 | C44: =(0.941+0.527)/2 -> 0.734 | D44: =B44/C44 -> 1.6008174 | E44: =((4*PI()*(C44/2)^2)+((PI()*C44)*(B44-C44))) -> 2.7094666 | F44: =(((4/3)*PI()*(C44/2)^3)+(PI()*((C44/2)^2)*(B44-C44))) -> 0.39365936 | G44: =E44/F44 -> 6.8827694
A45: LB | B45: 1.227 | C45: 1.042 | D45: =B45/C45 -> 1.1775432 | E45: =((4*PI()*(C45/2)^2)+((PI()*C45)*(B45-C45))) -> 4.016633 | F45: =(((4/3)*PI()*(C45/2)^3)+(PI()*((C45/2)^2)*(B45-C45))) -> 0.75014195 | G45: =E45/F45 -> 5.3544972
A46: LB | B46: 1.208 | C46: =(1.223+0.993)/2 -> 1.108 | D46: =B46/C46 -> 1.0902527 | E46: =((4*PI()*(C46/2)^2)+((PI()*C46)*(B46-C46))) -> 4.2049087 | F46: =(((4/3)*PI()*(C46/2)^3)+(PI()*((C46/2)^2)*(B46-C46))) -> 0.80864664 | G46: =E46/F46 -> 5.1999334
A47: LB | B47: 1.447 | C47: 1.139 | D47: =B47/C47 -> 1.2704126 | E47: =((4*PI()*(C47/2)^2)+((PI()*C47)*(B47-C47))) -> 5.1777625 | F47: =(((4/3)*PI()*(C47/2)^3)+(PI()*((C47/2)^2)*(B47-C47))) -> 1.0875204 | G47: =E47/F47 -> 4.7610717
A48: LB | B48: 1.368 | C48: =(0.95+0.537)/2 -> 0.7435 | D48: =B48/C48 -> 1.8399462 | E48: =((4*PI()*(C48/2)^2)+((PI()*C48)*(B48-C48))) -> 3.195339 | F48: =(((4/3)*PI()*(C48/2)^3)+(PI()*((C48/2)^2)*(B48-C48))) -> 0.48633382 | G48: =E48/F48 -> 6.5702587
A49: LB | B49: 1.704 | C49: 1.025 | D49: =B49/C49 -> 1.662439 | E49: =((4*PI()*(C49/2)^2)+((PI()*C49)*(B49-C49))) -> 5.4871057 | F49: =(((4/3)*PI()*(C49/2)^3)+(PI()*((C49/2)^2)*(B49-C49))) -> 1.1241415 | G49: =E49/F49 -> 4.881152
A50: LB | B50: 1.423 | C50: 0.984 | D50: =B50/C50 -> 1.4461382 | E50: =((4*PI()*(C50/2)^2)+((PI()*C50)*(B50-C50))) -> 4.3989586 | F50: =(((4/3)*PI()*(C50/2)^3)+(PI()*((C50/2)^2)*(B50-C50))) -> 0.8327108 | G50: =E50/F50 -> 5.2826967
A51: LB | B51: 1.862 | C51: 1.197 | D51: =B51/C51 -> 1.5555556 | E51: =((4*PI()*(C51/2)^2)+((PI()*C51)*(B51-C51))) -> 7.0020257 | F51: =(((4/3)*PI()*(C51/2)^3)+(PI()*((C51/2)^2)*(B51-C51))) -> 1.6463513 | G51: =E51/F51 -> 4.2530569
A52: LB | B52: 1.147 | C52: 1.047 | D52: =B52/C52 -> 1.095511 | E52: =((4*PI()*(C52/2)^2)+((PI()*C52)*(B52-C52))) -> 3.7727669 | F52: =(((4/3)*PI()*(C52/2)^3)+(PI()*((C52/2)^2)*(B52-C52))) -> 0.68704651 | G52: =E52/F52 -> 5.4912831
A53: LB | B53: 1.574 | C53: 0.869 | D53: =B53/C53 -> 1.8112773 | E53: =((4*PI()*(C53/2)^2)+((PI()*C53)*(B53-C53))) -> 4.2970893 | F53: =(((4/3)*PI()*(C53/2)^3)+(PI()*((C53/2)^2)*(B53-C53))) -> 0.76174075 | G53: =E53/F53 -> 5.641144
A54: LB | B54: 2.312 | C54: =(0.888+0.519)/2 -> 0.7035 | D54: =B54/C54 -> 3.286425 | E54: =((4*PI()*(C54/2)^2)+((PI()*C54)*(B54-C54))) -> 5.1097753 | F54: =(((4/3)*PI()*(C54/2)^3)+(PI()*((C54/2)^2)*(B54-C54))) -> 0.80753084 | G54: =E54/F54 -> 6.3276535
A55: LB | B55: 1.386 | C55: =(0.992+0.308)/2 -> 0.65 | D55: =B55/C55 -> 2.1323077 | E55: =((4*PI()*(C55/2)^2)+((PI()*C55)*(B55-C55))) -> 2.8302608 | F55: =(((4/3)*PI()*(C55/2)^3)+(PI()*((C55/2)^2)*(B55-C55))) -> 0.38802073 | G55: =E55/F55 -> 7.294097
A56: LB | B56: 2.432 | C56: 1.114 | D56: =B56/C56 -> 2.1831239 | E56: =((4*PI()*(C56/2)^2)+((PI()*C56)*(B56-C56))) -> 8.5113536 | F56: =(((4/3)*PI()*(C56/2)^3)+(PI()*((C56/2)^2)*(B56-C56))) -> 2.0084823 | G56: =E56/F56 -> 4.2377041
A57: LB | B57: 1.609 | C57: 0.877 | D57: =B57/C57 -> 1.8346636 | E57: =((4*PI()*(C57/2)^2)+((PI()*C57)*(B57-C57))) -> 4.4330794 | F57: =(((4/3)*PI()*(C57/2)^3)+(PI()*((C57/2)^2)*(B57-C57))) -> 0.79536213 | G57: =E57/F57 -> 5.5736616
A58: LB | B58: 1.847 | C58: 1.041 | D58: =B58/C58 -> 1.7742555 | E58: =((4*PI()*(C58/2)^2)+((PI()*C58)*(B58-C58))) -> 6.040425 | F58: =(((4/3)*PI()*(C58/2)^3)+(PI()*((C58/2)^2)*(B58-C58))) -> 1.2766816 | G58: =E58/F58 -> 4.7313481
A59: LB | B59: 1.458 | C59: 1.03 | D59: =B59/C59 -> 1.415534 | E59: =((4*PI()*(C59/2)^2)+((PI()*C59)*(B59-C59))) -> 4.7178554 | F59: =(((4/3)*PI()*(C59/2)^3)+(PI()*((C59/2)^2)*(B59-C59))) -> 0.92877249 | G59: =E59/F59 -> 5.0796674
A60: LB | B60: 1.464 | C60: 1.111 | D60: =B60/C60 -> 1.3177318 | E60: =((4*PI()*(C60/2)^2)+((PI()*C60)*(B60-C60))) -> 5.109813 | F60: =(((4/3)*PI()*(C60/2)^3)+(PI()*((C60/2)^2)*(B60-C60))) -> 1.060237 | G60: =E60/F60 -> 4.8195005
A61: LB | B61: 2.036 | C61: 0.841 | D61: =B61/C61 -> 2.4209275 | E61: =((4*PI()*(C61/2)^2)+((PI()*C61)*(B61-C61))) -> 5.3792737 | F61: =(((4/3)*PI()*(C61/2)^3)+(PI()*((C61/2)^2)*(B61-C61))) -> 0.97526791 | G61: =E61/F61 -> 5.5156882
A62: LB | B62: 1.399 | C62: 1.022 | D62: =B62/C62 -> 1.3688845 | E62: =((4*PI()*(C62/2)^2)+((PI()*C62)*(B62-C62))) -> 4.4917801 | F62: =(((4/3)*PI()*(C62/2)^3)+(PI()*((C62/2)^2)*(B62-C62))) -> 0.86818874 | G62: =E62/F62 -> 5.1737368
A63: LB | B63: 2.464 | C63: 0.905 | D63: =B63/C63 -> 2.7226519 | E63: =((4*PI()*(C63/2)^2)+((PI()*C63)*(B63-C63))) -> 7.0055003 | F63: =(((4/3)*PI()*(C63/2)^3)+(PI()*((C63/2)^2)*(B63-C63))) -> 1.3909441 | G63: =E63/F63 -> 5.0365074
A64: LB | B64: 1.313 | C64: 1.102 | D64: =B64/C64 -> 1.1914701 | E64: =((4*PI()*(C64/2)^2)+((PI()*C64)*(B64-C64))) -> 4.5456521 | F64: =(((4/3)*PI()*(C64/2)^3)+(PI()*((C64/2)^2)*(B64-C64))) -> 0.90196804 | G64: =E64/F64 -> 5.0397041
A65: LB | B65: 1.33 | C65: 0.741 | D65: =B65/C65 -> 1.7948718 | E65: =((4*PI()*(C65/2)^2)+((PI()*C65)*(B65-C65))) -> 3.0961338 | F65: =(((4/3)*PI()*(C65/2)^3)+(PI()*((C65/2)^2)*(B65-C65))) -> 0.46704073 | G65: =E65/F65 -> 6.6292587
A66: LB | B66: 2.526 | C66: 0.876 | D66: =B66/C66 -> 2.8835616 | E66: =((4*PI()*(C66/2)^2)+((PI()*C66)*(B66-C66))) -> 6.9516408 | F66: =(((4/3)*PI()*(C66/2)^3)+(PI()*((C66/2)^2)*(B66-C66))) -> 1.3464222 | G66: =E66/F66 -> 5.1630468
A67: LB | B67: 1.523 | C67: 1.117 | D67: =B67/C67 -> 1.3634736 | E67: =((4*PI()*(C67/2)^2)+((PI()*C67)*(B67-C67))) -> 5.3444491 | F67: =(((4/3)*PI()*(C67/2)^3)+(PI()*((C67/2)^2)*(B67-C67))) -> 1.1275758 | G67: =E67/F67 -> 4.7397691
... A73: LB | B73: 1.338 | C73: 1.067 | D73: =B73/C73 -> 1.2539831 | E73: =((4*PI()*(C73/2)^2)+((PI()*C73)*(B73-C73))) -> 4.4850822 | F73: =(((4/3)*PI()*(C73/2)^3)+(PI()*((C73/2)^2)*(B73-C73))) -> 0.87837022 | G73: =E73/F73 -> 5.106141
A74: LB | B74: 1.936 | C74: =(0.717+1.143)/2 -> 0.93 | D74: =B74/C74 -> 2.0817204 | E74: =((4*PI()*(C74/2)^2)+((PI()*C74)*(B74-C74))) -> 5.6563747 | F74: =(((4/3)*PI()*(C74/2)^3)+(PI()*((C74/2)^2)*(B74-C74))) -> 1.104527 | G74: =E74/F74 -> 5.1210835
A75: LB | B75: 1.529 | C75: 0.723 | D75: =B75/C75 -> 2.1147994 | E75: =((4*PI()*(C75/2)^2)+((PI()*C75)*(B75-C75))) -> 3.472927 | F75: =(((4/3)*PI()*(C75/2)^3)+(PI()*((C75/2)^2)*(B75-C75))) -> 0.52878891 | G75: =E75/F75 -> 6.5677001
A76: LB | B76: 1.633 | C76: 1.094 | D76: =B76/C76 -> 1.4926874 | E76: =((4*PI()*(C76/2)^2)+((PI()*C76)*(B76-C76))) -> 5.6124616 | F76: =(((4/3)*PI()*(C76/2)^3)+(PI()*((C76/2)^2)*(B76-C76))) -> 1.1922242 | G76: =E76/F76 -> 4.7075555
A105: Count | B105: =COUNT(B1:B103) -> 75 | C105: =COUNT(C1:C103) -> 75 | D105: =COUNT(D1:D103) -> 75 | E105: =COUNT(E1:E103) -> 75 | F105: =COUNT(F1:F103) -> 75 | G105: =COUNT(G1:G103) -> 75
A106: Average | B106: =AVERAGE(B2:B103) -> 1.62376 | C106: =AVERAGE(C2:C103) -> 0.9903 | D106: =AVERAGE(D2:D103) -> 1.6753748 | E106: =AVERAGE(E2:E103) -> 5.0634509 | F106: =AVERAGE(F2:F103) -> 1.0123164 | G106: =AVERAGE(G2:G103) -> 5.2481475
A107: Standard Dev. | B107: =_xlfn.STDEV.S(B2:B103) -> 0.37441518 | C107: =_xlfn.STDEV.S(C2:C103) -> 0.13922083 | D107: =_xlfn.STDEV.S(D2:D103) -> 0.47187675 | E107: =_xlfn.STDEV.S(E2:E103) -> 1.4035232 | F107: =_xlfn.STDEV.S(F2:F103) -> 0.3906767 | G107: =_xlfn.STDEV.S(G2:G103) -> 0.77969064

Sheet G2 LB1 09291950
A1: Nutrient | B1: Length (mm) | C1: Width (mm) | D1: Length/Width | E1: Surface Area (µm^2) | F1: Volume (µm^3) | G1: SA/V (1/µm)
A2: LB | B2: 1.894 | C2: 0.99 | D2: =B2/C2 -> 1.9131313 | E2: =((4*PI()*(C2/2)^2)+((PI()*C2)*(B2-C2))) -> 5.8906747 | F2: =(((4/3)*PI()*(C2/2)^3)+(PI()*((C2/2)^2)*(B2-C2))) -> 1.2039183 | G2: =E2/F2 -> 4.892919
A3: LB | B3: 1.094 | C3: 1.056 | D3: =B3/C3 -> 1.0359848 | E3: =((4*PI()*(C3/2)^2)+((PI()*C3)*(B3-C3))) -> 3.6293689 | F3: =(((4/3)*PI()*(C3/2)^3)+(PI()*((C3/2)^2)*(B3-C3))) -> 0.64986272 | G3: =E3/F3 -> 5.584824
A4: LB | B4: 0.973 | C4: =(0.99+0.504)/2 -> 0.747 | D4: =B4/C4 -> 1.3025435 | E4: =((4*PI()*(C4/2)^2)+((PI()*C4)*(B4-C4))) -> 2.2834069 | F4: =(((4/3)*PI()*(C4/2)^3)+(PI()*((C4/2)^2)*(B4-C4))) -> 0.31729969 | G4: =E4/F4 -> 7.196373
A5: LB | B5: 0.975 | C5: 0.819 | D5: =B5/C5 -> 1.1904762 | E5: =((4*PI()*(C5/2)^2)+((PI()*C5)*(B5-C5))) -> 2.5086403 | F5: =(((4/3)*PI()*(C5/2)^3)+(PI()*((C5/2)^2)*(B5-C5))) -> 0.36982375 | G5: =E5/F5 -> 6.7833401
A6: LB | B6: 1.337 | C6: 1.125 | D6: =B6/C6 -> 1.1884444 | E6: =((4*PI()*(C6/2)^2)+((PI()*C6)*(B6-C6))) -> 4.7253481 | F6: =(((4/3)*PI()*(C6/2)^3)+(PI()*((C6/2)^2)*(B6-C6))) -> 0.95624681 | G6: =E6/F6 -> 4.9415569
A7: LB | B7: 1.032 | C7: 0.906 | D7: =B7/C7 -> 1.1390728 | E7: =((4*PI()*(C7/2)^2)+((PI()*C7)*(B7-C7))) -> 2.937364 | F7: =(((4/3)*PI()*(C7/2)^3)+(PI()*((C7/2)^2)*(B7-C7))) -> 0.47061865 | G7: =E7/F7 -> 6.2414951
A8: LB | B8: 1.037 | C8: 0.856 | D8: =B8/C8 -> 1.2114486 | E8: =((4*PI()*(C8/2)^2)+((PI()*C8)*(B8-C8))) -> 2.7887038 | F8: =(((4/3)*PI()*(C8/2)^3)+(PI()*((C8/2)^2)*(B8-C8))) -> 0.43257628 | G8: =E8/F8 -> 6.4467331
A9: LB | B9: 0.94 | C9: 0.858 | D9: =B9/C9 -> 1.0955711 | E9: =((4*PI()*(C9/2)^2)+((PI()*C9)*(B9-C9))) -> 2.5337573 | F9: =(((4/3)*PI()*(C9/2)^3)+(PI()*((C9/2)^2)*(B9-C9))) -> 0.37813093 | G9: =E9/F9 -> 6.7007406
A10: LB | B10: 1.167 | C10: =(0.976+0.609)/2 -> 0.7925 | D10: =B10/C10 -> 1.4725552 | E10: =((4*PI()*(C10/2)^2)+((PI()*C10)*(B10-C10))) -> 2.9054941 | F10: =(((4/3)*PI()*(C10/2)^3)+(PI()*((C10/2)^2)*(B10-C10))) -> 0.44534441 | G10: =E10/F10 -> 6.5241508
A11: LB | B11: 1.083 | C11: 0.961 | D11: =B11/C11 -> 1.1269511 | E11: =((4*PI()*(C11/2)^2)+((PI()*C11)*(B11-C11))) -> 3.2696534 | F11: =(((4/3)*PI()*(C11/2)^3)+(PI()*((C11/2)^2)*(B11-C11))) -> 0.55318631 | G11: =E11/F11 -> 5.9105827
A12: LB | B12: 1.357 | C12: 0.957 | D12: =B12/C12 -> 1.4179728 | E12: =((4*PI()*(C12/2)^2)+((PI()*C12)*(B12-C12))) -> 4.0798262 | F12: =(((4/3)*PI()*(C12/2)^3)+(PI()*((C12/2)^2)*(B12-C12))) -> 0.74663976 | G12: =E12/F12 -> 5.4642498
A13: LB | B13: 1.027 | C13: 0.946 | D13: =B13/C13 -> 1.0856237 | E13: =((4*PI()*(C13/2)^2)+((PI()*C13)*(B13-C13))) -> 3.0521892 | F13: =(((4/3)*PI()*(C13/2)^3)+(PI()*((C13/2)^2)*(B13-C13))) -> 0.50020586 | G13: =E13/F13 -> 6.1018661
A14: LB | B14: 1.874 | C14: 1.062 | D14: =B14/C14 -> 1.7645951 | E14: =((4*PI()*(C14/2)^2)+((PI()*C14)*(B14-C14))) -> 6.25236 | F14: =(((4/3)*PI()*(C14/2)^3)+(PI()*((C14/2)^2)*(B14-C14))) -> 1.346426 | G14: =E14/F14 -> 4.6436713
A15: LB | B15: 1.226 | C15: 1.051 | D15: =B15/C15 -> 1.1665081 | E15: =((4*PI()*(C15/2)^2)+((PI()*C15)*(B15-C15))) -> 4.0480238 | F15: =(((4/3)*PI()*(C15/2)^3)+(PI()*((C15/2)^2)*(B15-C15))) -> 0.75968601 | G15: =E15/F15 -> 5.3285486
A16: LB | B16: 1.34 | C16: 1.01 | D16: =B16/C16 -> 1.3267327 | E16: =((4*PI()*(C16/2)^2)+((PI()*C16)*(B16-C16))) -> 4.2518315 | F16: =(((4/3)*PI()*(C16/2)^3)+(PI()*((C16/2)^2)*(B16-C16))) -> 0.80385528 | G16: =E16/F16 -> 5.2892997
A17: LB | B17: 1.809 | C17: 1.104 | D17: =B17/C17 -> 1.638587 | E17: =((4*PI()*(C17/2)^2)+((PI()*C17)*(B17-C17))) -> 6.2741878 | F17: =(((4/3)*PI()*(C17/2)^3)+(PI()*((C17/2)^2)*(B17-C17))) -> 1.3794057 | G17: =E17/F17 -> 4.5484718
A18: LB | B18: 1.76 | C18: 1.032 | D18: =B18/C18 -> 1.7054264 | E18: =((4*PI()*(C18/2)^2)+((PI()*C18)*(B18-C18))) -> 5.7061376 | F18: =(((4/3)*PI()*(C18/2)^3)+(PI()*((C18/2)^2)*(B18-C18))) -> 1.1844385 | G18: =E18/F18 -> 4.8175886
A19: LB | B19: 0.988 | C19: 0.95 | D19: =B19/C19 -> 1.04 | E19: =((4*PI()*(C19/2)^2)+((PI()*C19)*(B19-C19))) -> 2.9486989 | F19: =(((4/3)*PI()*(C19/2)^3)+(PI()*((C19/2)^2)*(B19-C19))) -> 0.47585573 | G19: =E19/F19 -> 6.1966236
A20: LB | B20: 2.407 | C20: 1.034 | D20: =B20/C20 -> 2.327853 | E20: =((4*PI()*(C20/2)^2)+((PI()*C20)*(B20-C20))) -> 7.8189152 | F20: =(((4/3)*PI()*(C20/2)^3)+(PI()*((C20/2)^2)*(B20-C20))) -> 1.7317684 | G20: =E20/F20 -> 4.5149888
A21: LB | B21: 1.23 | C21: 0.938 | D21: =B21/C21 -> 1.3113006 | E21: =((4*PI()*(C21/2)^2)+((PI()*C21)*(B21-C21))) -> 3.6245811 | F21: =(((4/3)*PI()*(C21/2)^3)+(PI()*((C21/2)^2)*(B21-C21))) -> 0.63390289 | G21: =E21/F21 -> 5.7178807
A22: LB | B22: 1.067 | C22: 0.965 | D22: =B22/C22 -> 1.1056995 | E22: =((4*PI()*(C22/2)^2)+((PI()*C22)*(B22-C22))) -> 3.2347566 | F22: =(((4/3)*PI()*(C22/2)^3)+(PI()*((C22/2)^2)*(B22-C22))) -> 0.54512369 | G22: =E22/F22 -> 5.9339865
... A33: LB | B33: 1.101 | C33: 0.859 | D33: =B33/C33 -> 1.2817229 | E33: =((4*PI()*(C33/2)^2)+((PI()*C33)*(B33-C33))) -> 2.9711895 | F33: =(((4/3)*PI()*(C33/2)^3)+(PI()*((C33/2)^2)*(B33-C33))) -> 0.47212408 | G33: =E33/F33 -> 6.2932386
A34: LB | B34: 1.34 | C34: =(1.028+0.714)/2 -> 0.871 | D34: =B34/C34 -> 1.5384615 | E34: =((4*PI()*(C34/2)^2)+((PI()*C34)*(B34-C34))) -> 3.6666784 | F34: =(((4/3)*PI()*(C34/2)^3)+(PI()*((C34/2)^2)*(B34-C34))) -> 0.6254284 | G34: =E34/F34 -> 5.862667
A35: LB | B35: 1.045 | C35: 0.993 | D35: =B35/C35 -> 1.0523666 | E35: =((4*PI()*(C35/2)^2)+((PI()*C35)*(B35-C35))) -> 3.2599836 | F35: =(((4/3)*PI()*(C35/2)^3)+(PI()*((C35/2)^2)*(B35-C35))) -> 0.55295093 | G35: =E35/F35 -> 5.895611
A36: LB | B36: 1.865 | C36: 1.053 | D36: =B36/C36 -> 1.7711301 | E36: =((4*PI()*(C36/2)^2)+((PI()*C36)*(B36-C36))) -> 6.169601 | F36: =(((4/3)*PI()*(C36/2)^3)+(PI()*((C36/2)^2)*(B36-C36))) -> 1.3184768 | G36: =E36/F36 -> 4.6793398
A37: LB | B37: 1.587 | C37: 0.982 | D37: =B37/C37 -> 1.6160896 | E37: =((4*PI()*(C37/2)^2)+((PI()*C37)*(B37-C37))) -> 4.8959648 | F37: =(((4/3)*PI()*(C37/2)^3)+(PI()*((C37/2)^2)*(B37-C37))) -> 0.9540442 | G37: =E37/F37 -> 5.1318008
A38: LB | B38: 1.057 | C38: 0.925 | D38: =B38/C38 -> 1.1427027 | E38: =((4*PI()*(C38/2)^2)+((PI()*C38)*(B38-C38))) -> 3.0716137 | F38: =(((4/3)*PI()*(C38/2)^3)+(PI()*((C38/2)^2)*(B38-C38))) -> 0.50310872 | G38: =E38/F38 -> 6.1052682
A39: LB | B39: 1.404 | C39: 1.087 | D39: =B39/C39 -> 1.2916283 | E39: =((4*PI()*(C39/2)^2)+((PI()*C39)*(B39-C39))) -> 4.7945353 | F39: =(((4/3)*PI()*(C39/2)^3)+(PI()*((C39/2)^2)*(B39-C39))) -> 0.96666888 | G39: =E39/F39 -> 4.9598528
A40: LB | B40: 1.015 | C40: 0.996 | D40: =B40/C40 -> 1.0190763 | E40: =((4*PI()*(C40/2)^2)+((PI()*C40)*(B40-C40))) -> 3.1759617 | F40: =(((4/3)*PI()*(C40/2)^3)+(PI()*((C40/2)^2)*(B40-C40))) -> 0.53214411 | G40: =E40/F40 -> 5.968236
A41: LB | B41: 1.211 | C41: 1.042 | D41: =B41/C41 -> 1.1621881 | E41: =((4*PI()*(C41/2)^2)+((PI()*C41)*(B41-C41))) -> 3.9642564 | F41: =(((4/3)*PI()*(C41/2)^3)+(PI()*((C41/2)^2)*(B41-C41))) -> 0.73649784 | G41: =E41/F41 -> 5.3825771
A42: LB | B42: 1.092 | C42: 0.997 | D42: =B42/C42 -> 1.0952859 | E42: =((4*PI()*(C42/2)^2)+((PI()*C42)*(B42-C42))) -> 3.4203273 | F42: =(((4/3)*PI()*(C42/2)^3)+(PI()*((C42/2)^2)*(B42-C42))) -> 0.59306633 | G42: =E42/F42 -> 5.7671919
A43: LB | B43: 1.233 | C43: 0.907 | D43: =B43/C43 -> 1.3594267 | E43: =((4*PI()*(C43/2)^2)+((PI()*C43)*(B43-C43))) -> 3.5133405 | F43: =(((4/3)*PI()*(C43/2)^3)+(PI()*((C43/2)^2)*(B43-C43))) -> 0.60131026 | G43: =E43/F43 -> 5.8428081
A44: LB | B44: 1.686 | C44: 0.911 | D44: =B44/C44 -> 1.8507135 | E44: =((4*PI()*(C44/2)^2)+((PI()*C44)*(B44-C44))) -> 4.8253167 | F44: =(((4/3)*PI()*(C44/2)^3)+(PI()*((C44/2)^2)*(B44-C44))) -> 0.90103034 | G44: =E44/F44 -> 5.3553321
A45: LB | B45: 1.06 | C45: 1.06 | D45: =B45/C45 -> 1 | E45: =((4*PI()*(C45/2)^2)+((PI()*C45)*(B45-C45))) -> 3.5298935 | F45: =(((4/3)*PI()*(C45/2)^3)+(PI()*((C45/2)^2)*(B45-C45))) -> 0.62361452 | G45: =E45/F45 -> 5.6603774
A46: LB | B46: 1.019 | C46: 1.013 | D46: =B46/C46 -> 1.005923 | E46: =((4*PI()*(C46/2)^2)+((PI()*C46)*(B46-C46))) -> 3.2428996 | F46: =(((4/3)*PI()*(C46/2)^3)+(PI()*((C46/2)^2)*(B46-C46))) -> 0.54912145 | G46: =E46/F46 -> 5.9056145
... A55: LB | B55: 1.618 | C55: 0.982 | D55: =B55/C55 -> 1.6476578 | E55: =((4*PI()*(C55/2)^2)+((PI()*C55)*(B55-C55))) -> 4.9916012 | F55: =(((4/3)*PI()*(C55/2)^3)+(PI()*((C55/2)^2)*(B55-C55))) -> 0.97752292 | G55: =E55/F55 -> 5.1063776
A56: LB | B56: 1.211 | C56: =(1+0.509)/2 -> 0.7545 | D56: =B56/C56 -> 1.6050364 | E56: =((4*PI()*(C56/2)^2)+((PI()*C56)*(B56-C56))) -> 2.8704716 | F56: =(((4/3)*PI()*(C56/2)^3)+(PI()*((C56/2)^2)*(B56-C56))) -> 0.4289961 | G56: =E56/F56 -> 6.6911368
A57: LB | B57: 1.514 | C57: 1.004 | D57: =B57/C57 -> 1.5079681 | E57: =((4*PI()*(C57/2)^2)+((PI()*C57)*(B57-C57))) -> 4.7753968 | F57: =(((4/3)*PI()*(C57/2)^3)+(PI()*((C57/2)^2)*(B57-C57))) -> 0.93367102 | G57: =E57/F57 -> 5.114646
A58: LB | B58: 1.602 | C58: 0.996 | D58: =B58/C58 -> 1.6084337 | E58: =((4*PI()*(C58/2)^2)+((PI()*C58)*(B58-C58))) -> 5.0127001 | F58: =(((4/3)*PI()*(C58/2)^3)+(PI()*((C58/2)^2)*(B58-C58))) -> 0.98949198 | G58: =E58/F58 -> 5.065933
A59: LB | B59: 1.155 | C59: 1.015 | D59: =B59/C59 -> 1.137931 | E59: =((4*PI()*(C59/2)^2)+((PI()*C59)*(B59-C59))) -> 3.6829676 | F59: =(((4/3)*PI()*(C59/2)^3)+(PI()*((C59/2)^2)*(B59-C59))) -> 0.66079507 | G59: =E59/F59 -> 5.5735398
A60: LB | B60: 1.05 | C60: 0.994 | D60: =B60/C60 -> 1.056338 | E60: =((4*PI()*(C60/2)^2)+((PI()*C60)*(B60-C60))) -> 3.2788803 | F60: =(((4/3)*PI()*(C60/2)^3)+(PI()*((C60/2)^2)*(B60-C60))) -> 0.55768653 | G60: =E60/F60 -> 5.8794324
A61: LB | B61: 1.339 | C61: 1.117 | D61: =B61/C61 -> 1.1987466 | E61: =((4*PI()*(C61/2)^2)+((PI()*C61)*(B61-C61))) -> 4.6987639 | F61: =(((4/3)*PI()*(C61/2)^3)+(PI()*((C61/2)^2)*(B61-C61))) -> 0.94726823 | G61: =E61/F61 -> 4.9603309
A62: LB | B62: 1.158 | C62: 1.006 | D62: =B62/C62 -> 1.1510934 | E62: =((4*PI()*(C62/2)^2)+((PI()*C62)*(B62-C62))) -> 3.6597921 | F62: =(((4/3)*PI()*(C62/2)^3)+(PI()*((C62/2)^2)*(B62-C62))) -> 0.6538976 | G62: =E62/F62 -> 5.5968887
A63: LB | B63: 3.259 | C63: 1.035 | D63: =B63/C63 -> 3.1487923 | E63: =((4*PI()*(C63/2)^2)+((PI()*C63)*(B63-C63))) -> 10.596796 | F63: =(((4/3)*PI()*(C63/2)^3)+(PI()*((C63/2)^2)*(B63-C63))) -> 2.4516594 | G63: =E63/F63 -> 4.3222955
A64: LB | B64: 1.034 | C64: 1.021 | D64: =B64/C64 -> 1.0127326 | E64: =((4*PI()*(C64/2)^2)+((PI()*C64)*(B64-C64))) -> 3.3166233 | F64: =(((4/3)*PI()*(C64/2)^3)+(PI()*((C64/2)^2)*(B64-C64))) -> 0.56792657 | G64: =E64/F64 -> 5.8398805
A65: LB | B65: 1.691 | C65: 0.91 | D65: =B65/C65 -> 1.8582418 | E65: =((4*PI()*(C65/2)^2)+((PI()*C65)*(B65-C65))) -> 4.8343142 | F65: =(((4/3)*PI()*(C65/2)^3)+(PI()*((C65/2)^2)*(B65-C65))) -> 0.90252205 | G65: =E65/F65 -> 5.3564499
A66: LB | B66: 1.269 | C66: 0.991 | D66: =B66/C66 -> 1.2805247 | E66: =((4*PI()*(C66/2)^2)+((PI()*C66)*(B66-C66))) -> 3.9508009 | F66: =(((4/3)*PI()*(C66/2)^3)+(PI()*((C66/2)^2)*(B66-C66))) -> 0.7240167 | G66: =E66/F66 -> 5.4567815
A67: LB | B67: 1.52 | C67: 0.987 | D67: =B67/C67 -> 1.5400203 | E67: =((4*PI()*(C67/2)^2)+((PI()*C67)*(B67-C67))) -> 4.713143 | F67: =(((4/3)*PI()*(C67/2)^3)+(PI()*((C67/2)^2)*(B67-C67))) -> 0.91124666 | G67: =E67/F67 -> 5.1721923
A68: LB | B68: 1.638 | C68: 0.94 | D68: =B68/C68 -> 1.7425532 | E68: =((4*PI()*(C68/2)^2)+((PI()*C68)*(B68-C68))) -> 4.837173 | F68: =(((4/3)*PI()*(C68/2)^3)+(PI()*((C68/2)^2)*(B68-C68))) -> 0.91928928 | G68: =E68/F68 -> 5.2618617
... A76: LB | B76: 0.932 | C76: 0.787 | D76: =B76/C76 -> 1.184244 | E76: =((4*PI()*(C76/2)^2)+((PI()*C76)*(B76-C76))) -> 2.3043079 | F76: =(((4/3)*PI()*(C76/2)^3)+(PI()*((C76/2)^2)*(B76-C76))) -> 0.3257602 | G76: =E76/F76 -> 7.0736324
A105: Count | B105: =COUNT(B2:B103) -> 75 | C105: =COUNT(C2:C103) -> 75 | D105: =COUNT(D2:D103) -> 75 | E105: =COUNT(E2:E103) -> 75 | F105: =COUNT(F2:F103) -> 75 | G105: =COUNT(G2:G103) -> 75
A106: Average | B106: =AVERAGE(B2:B103) -> 1.3369867 | C106: =AVERAGE(C2:C103) -> 0.98354667 | D106: =AVERAGE(D2:D103) -> 1.3599894 | E106: =AVERAGE(E2:E103) -> 4.1654635 | F106: =AVERAGE(F2:F103) -> 0.78566376 | G106: =AVERAGE(G2:G103) -> 5.5603955
A107: Standard Dev. | B107: =_xlfn.STDEV.S(B2:B103) -> 0.38061907 | C107: =_xlfn.STDEV.S(C2:C103) -> 0.093060144 | D107: =_xlfn.STDEV.S(D2:D103) -> 0.36095148 | E107: =_xlfn.STDEV.S(E2:E103) -> 1.3663004 | F107: =_xlfn.STDEV.S(F2:F103) -> 0.35711968 | G107: =_xlfn.STDEV.S(G2:G103) -> 0.65869931

Sheet G3 LB1 09261610
A1: Nutrient | B1: Length (mm) | C1: Width (mm) | D1: Length/Width | E1: Surface Area (µm^2) | F1: Volume (µm^3) | G1: SA/V (1/µm)
A2: LB | B2: 1.478 | C2: 1.162 | D2: =B2/C2 -> 1.2719449 | E2: =((4*PI()*(C2/2)^2)+((PI()*C2)*(B2-C2))) -> 5.3954843 | F2: =(((4/3)*PI()*(C2/2)^3)+(PI()*((C2/2)^2)*(B2-C2))) -> 1.1566293 | G2: =E2/F2 -> 4.6648347
A3: LB | B3: 1.73 | C3: 0.956 | D3: =B3/C3 -> 1.8096234 | E3: =((4*PI()*(C3/2)^2)+((PI()*C3)*(B3-C3))) -> 5.1958173 | F3: =(((4/3)*PI()*(C3/2)^3)+(PI()*((C3/2)^2)*(B3-C3))) -> 1.0130602 | G3: =E3/F3 -> 5.1288335
A4: LB | B4: 1.455 | C4: 1.105 | D4: =B4/C4 -> 1.3167421 | E4: =((4*PI()*(C4/2)^2)+((PI()*C4)*(B4-C4))) -> 5.0509741 | F4: =(((4/3)*PI()*(C4/2)^3)+(PI()*((C4/2)^2)*(B4-C4))) -> 1.0421033 | G4: =E4/F4 -> 4.8469034
A5: LB | B5: 1.061 | C5: 0.987 | D5: =B5/C5 -> 1.0749747 | E5: =((4*PI()*(C5/2)^2)+((PI()*C5)*(B5-C5))) -> 3.2898978 | F5: =(((4/3)*PI()*(C5/2)^3)+(PI()*((C5/2)^2)*(B5-C5))) -> 0.56006092 | G5: =E5/F5 -> 5.8741785
A6: LB | B6: 1.327 | C6: =(0.978+0.785)/2 -> 0.8815 | D6: =B6/C6 -> 1.5053885 | E6: =((4*PI()*(C6/2)^2)+((PI()*C6)*(B6-C6))) -> 3.6748796 | F6: =(((4/3)*PI()*(C6/2)^3)+(PI()*((C6/2)^2)*(B6-C6))) -> 0.63052876 | G6: =E6/F6 -> 5.8282505
A7: LB | B7: 1.293 | C7: 1.1 | D7: =B7/C7 -> 1.1754545 | E7: =((4*PI()*(C7/2)^2)+((PI()*C7)*(B7-C7))) -> 4.4682872 | F7: =(((4/3)*PI()*(C7/2)^3)+(PI()*((C7/2)^2)*(B7-C7))) -> 0.880324 | G7: =E7/F7 -> 5.0757303
A8: LB | B8: 1.533 | C8: 1.181 | D8: =B8/C8 -> 1.2980525 | E8: =((4*PI()*(C8/2)^2)+((PI()*C8)*(B8-C8))) -> 5.6877687 | F8: =(((4/3)*PI()*(C8/2)^3)+(PI()*((C8/2)^2)*(B8-C8))) -> 1.2480744 | G8: =E8/F8 -> 4.5572352
A9: LB | B9: 1.118 | C9: 1.067 | D9: =B9/C9 -> 1.0477976 | E9: =((4*PI()*(C9/2)^2)+((PI()*C9)*(B9-C9))) -> 3.7476247 | F9: =(((4/3)*PI()*(C9/2)^3)+(PI()*((C9/2)^2)*(B9-C9))) -> 0.68165344 | G9: =E9/F9 -> 5.4978447
A10: LB | B10: 1.15 | C10: 1.098 | D10: =B10/C10 -> 1.0473588 | E10: =((4*PI()*(C10/2)^2)+((PI()*C10)*(B10-C10))) -> 3.966889 | F10: =(((4/3)*PI()*(C10/2)^3)+(PI()*((C10/2)^2)*(B10-C10))) -> 0.74235327 | G10: =E10/F10 -> 5.3436675
A11: LB | B11: 1.198 | C11: 1.111 | D11: =B11/C11 -> 1.0783078 | E11: =((4*PI()*(C11/2)^2)+((PI()*C11)*(B11-C11))) -> 4.1813907 | F11: =(((4/3)*PI()*(C11/2)^3)+(PI()*((C11/2)^2)*(B11-C11))) -> 0.80236775 | G11: =E11/F11 -> 5.2113145
A12: LB | B12: 2.046 | C12: 1.097 | D12: =B12/C12 -> 1.8650866 | E12: =((4*PI()*(C12/2)^2)+((PI()*C12)*(B12-C12))) -> 7.0511853 | F12: =(((4/3)*PI()*(C12/2)^3)+(PI()*((C12/2)^2)*(B12-C12))) -> 1.5881758 | G12: =E12/F12 -> 4.4398015
A13: LB | B13: 1.337 | C13: 1.052 | D13: =B13/C13 -> 1.2709125 | E13: =((4*PI()*(C13/2)^2)+((PI()*C13)*(B13-C13))) -> 4.4187255 | F13: =(((4/3)*PI()*(C13/2)^3)+(PI()*((C13/2)^2)*(B13-C13))) -> 0.85732418 | G13: =E13/F13 -> 5.1540894
A14: LB | B14: 1.33 | C14: 1.108 | D14: =B14/C14 -> 1.200361 | E14: =((4*PI()*(C14/2)^2)+((PI()*C14)*(B14-C14))) -> 4.6295766 | F14: =(((4/3)*PI()*(C14/2)^3)+(PI()*((C14/2)^2)*(B14-C14))) -> 0.92627965 | G14: =E14/F14 -> 4.9980334
A15: LB | B15: 1.594 | C15: 0.989 | D15: =B15/C15 -> 1.611729 | E15: =((4*PI()*(C15/2)^2)+((PI()*C15)*(B15-C15))) -> 4.952614 | F15: =(((4/3)*PI()*(C15/2)^3)+(PI()*((C15/2)^2)*(B15-C15))) -> 0.97127912 | G15: =E15/F15 -> 5.0990636
A16: LB | B16: 2.288 | C16: 1.082 | D16: =B16/C16 -> 2.1146026 | E16: =((4*PI()*(C16/2)^2)+((PI()*C16)*(B16-C16))) -> 7.777377 | F16: =(((4/3)*PI()*(C16/2)^3)+(PI()*((C16/2)^2)*(B16-C16))) -> 1.7721531 | G16: =E16/F16 -> 4.3886598
A17: LB | B17: 1.409 | C17: 1.086 | D17: =B17/C17 -> 1.2974217 | E17: =((4*PI()*(C17/2)^2)+((PI()*C17)*(B17-C17))) -> 4.8071834 | F17: =(((4/3)*PI()*(C17/2)^3)+(PI()*((C17/2)^2)*(B17-C17))) -> 0.96983134 | G17: =E17/F17 -> 4.956721
A18: LB | B18: 1.741 | C18: 1.114 | D18: =B18/C18 -> 1.5628366 | E18: =((4*PI()*(C18/2)^2)+((PI()*C18)*(B18-C18))) -> 6.0930373 | F18: =(((4/3)*PI()*(C18/2)^3)+(PI()*((C18/2)^2)*(B18-C18))) -> 1.3349812 | G18: =E18/F18 -> 4.5641371
... A20: LB | B20: 1.279 | C20: 1.02 | D20: =B20/C20 -> 1.2539216 | E20: =((4*PI()*(C20/2)^2)+((PI()*C20)*(B20-C20))) -> 4.0984589 | F20: =(((4/3)*PI()*(C20/2)^3)+(PI()*((C20/2)^2)*(B20-C20))) -> 0.76728343 | G20: =E20/F20 -> 5.3415189
A21: LB | B21: 1.066 | C21: =(0.934+0.78)/2 -> 0.857 | D21: =B21/C21 -> 1.243874 | E21: =((4*PI()*(C21/2)^2)+((PI()*C21)*(B21-C21))) -> 2.8700397 | F21: =(((4/3)*PI()*(C21/2)^3)+(PI()*((C21/2)^2)*(B21-C21))) -> 0.4501235 | G21: =E21/F21 -> 6.3761161
A22: LB | B22: 1.068 | C22: 0.935 | D22: =B22/C22 -> 1.142246 | E22: =((4*PI()*(C22/2)^2)+((PI()*C22)*(B22-C22))) -> 3.1371316 | F22: =(((4/3)*PI()*(C22/2)^3)+(PI()*((C22/2)^2)*(B22-C22))) -> 0.51930959 | G22: =E22/F22 -> 6.040966
A23: LB | B23: 1.292 | C23: 1.049 | D23: =B23/C23 -> 1.2316492 | E23: =((4*PI()*(C23/2)^2)+((PI()*C23)*(B23-C23))) -> 4.2578257 | F23: =(((4/3)*PI()*(C23/2)^3)+(PI()*((C23/2)^2)*(B23-C23))) -> 0.81441434 | G23: =E23/F23 -> 5.2280829
A24: LB | B24: 1.416 | C24: =(1.008+0.625)/2 -> 0.8165 | D24: =B24/C24 -> 1.7342315 | E24: =((4*PI()*(C24/2)^2)+((PI()*C24)*(B24-C24))) -> 3.6321963 | F24: =(((4/3)*PI()*(C24/2)^3)+(PI()*((C24/2)^2)*(B24-C24))) -> 0.59891475 | G24: =E24/F24 -> 6.06463
A25: LB | B25: 1.435 | C25: 1.068 | D25: =B25/C25 -> 1.343633 | E25: =((4*PI()*(C25/2)^2)+((PI()*C25)*(B25-C25))) -> 4.8147421 | F25: =(((4/3)*PI()*(C25/2)^3)+(PI()*((C25/2)^2)*(B25-C25))) -> 0.96661567 | G25: =E25/F25 -> 4.9810304
A26: LB | B26: 1.402 | C26: 1.037 | D26: =B26/C26 -> 1.3519769 | E26: =((4*PI()*(C26/2)^2)+((PI()*C26)*(B26-C26))) -> 4.5674799 | F26: =(((4/3)*PI()*(C26/2)^3)+(PI()*((C26/2)^2)*(B26-C26))) -> 0.89217157 | G26: =E26/F26 -> 5.1195084
A27: LB | B27: 1.379 | C27: =(1.049+0.661)/2 -> 0.855 | D27: =B27/C27 -> 1.6128655 | E27: =((4*PI()*(C27/2)^2)+((PI()*C27)*(B27-C27))) -> 3.7040791 | F27: =(((4/3)*PI()*(C27/2)^3)+(PI()*((C27/2)^2)*(B27-C27))) -> 0.62811539 | G27: =E27/F27 -> 5.8971316
A28: LB | B28: 1.324 | C28: 1.047 | D28: =B28/C28 -> 1.2645654 | E28: =((4*PI()*(C28/2)^2)+((PI()*C28)*(B28-C28))) -> 4.3549637 | F28: =(((4/3)*PI()*(C28/2)^3)+(PI()*((C28/2)^2)*(B28-C28))) -> 0.83943652 | G28: =E28/F28 -> 5.1879607
A29: LB | B29: 1.999 | C29: 1.06 | D29: =B29/C29 -> 1.8858491 | E29: =((4*PI()*(C29/2)^2)+((PI()*C29)*(B29-C29))) -> 6.6568463 | F29: =(((4/3)*PI()*(C29/2)^3)+(PI()*((C29/2)^2)*(B29-C29))) -> 1.452257 | G29: =E29/F29 -> 4.5837935
A30: LB | B30: 2.324 | C30: 1.118 | D30: =B30/C30 -> 2.078712 | E30: =((4*PI()*(C30/2)^2)+((PI()*C30)*(B30-C30))) -> 8.1625866 | F30: =(((4/3)*PI()*(C30/2)^3)+(PI()*((C30/2)^2)*(B30-C30))) -> 1.9156005 | G30: =E30/F30 -> 4.261111
A31: LB | B31: 1.652 | C31: 1.026 | D31: =B31/C31 -> 1.6101365 | E31: =((4*PI()*(C31/2)^2)+((PI()*C31)*(B31-C31))) -> 5.3248488 | F31: =(((4/3)*PI()*(C31/2)^3)+(PI()*((C31/2)^2)*(B31-C31))) -> 1.0830684 | G31: =E31/F31 -> 4.9164472
A32: LB | B32: 1.434 | C32: =(1.137+0.897)/2 -> 1.017 | D32: =B32/C32 -> 1.4100295 | E32: =((4*PI()*(C32/2)^2)+((PI()*C32)*(B32-C32))) -> 4.5816296 | F32: =(((4/3)*PI()*(C32/2)^3)+(PI()*((C32/2)^2)*(B32-C32))) -> 0.88949991 | G32: =E32/F32 -> 5.1507927
A33: LB | B33: 1.934 | C33: 1.126 | D33: =B33/C33 -> 1.7175844 | E33: =((4*PI()*(C33/2)^2)+((PI()*C33)*(B33-C33))) -> 6.8413961 | F33: =(((4/3)*PI()*(C33/2)^3)+(PI()*((C33/2)^2)*(B33-C33))) -> 1.5521008 | G33: =E33/F33 -> 4.4078299
A34: LB | B34: 1.249 | C34: 0.993 | D34: =B34/C34 -> 1.2578046 | E34: =((4*PI()*(C34/2)^2)+((PI()*C34)*(B34-C34))) -> 3.8963823 | F34: =(((4/3)*PI()*(C34/2)^3)+(PI()*((C34/2)^2)*(B34-C34))) -> 0.71093691 | G34: =E34/F34 -> 5.4806302
A35: LB | B35: 1.903 | C35: 1.126 | D35: =B35/C35 -> 1.6900533 | E35: =((4*PI()*(C35/2)^2)+((PI()*C35)*(B35-C35))) -> 6.7317356 | F35: =(((4/3)*PI()*(C35/2)^3)+(PI()*((C35/2)^2)*(B35-C35))) -> 1.5212313 | G35: =E35/F35 -> 4.4251886
A36: LB | B36: 0.998 | C36: 0.888 | D36: =B36/C36 -> 1.1238739 | E36: =((4*PI()*(C36/2)^2)+((PI()*C36)*(B36-C36))) -> 2.7841548 | F36: =(((4/3)*PI()*(C36/2)^3)+(PI()*((C36/2)^2)*(B36-C36))) -> 0.43476335 | G36: =E36/F36 -> 6.4038397
A37: LB | B37: 2.438 | C37: 1.167 | D37: =B37/C37 -> 2.0891174 | E37: =((4*PI()*(C37/2)^2)+((PI()*C37)*(B37-C37))) -> 8.9382898 | F37: =(((4/3)*PI()*(C37/2)^3)+(PI()*((C37/2)^2)*(B37-C37))) -> 2.1916619 | G37: =E37/F37 -> 4.078316
A38: LB | B38: 1.461 | C38: 1.096 | D38: =B38/C38 -> 1.3330292 | E38: =((4*PI()*(C38/2)^2)+((PI()*C38)*(B38-C38))) -> 5.0304941 | F38: =(((4/3)*PI()*(C38/2)^3)+(PI()*((C38/2)^2)*(B38-C38))) -> 1.0336879 | G38: =E38/F38 -> 4.8665502
A39: LB | B39: 1.275 | C39: 1.239 | D39: =B39/C39 -> 1.0290557 | E39: =((4*PI()*(C39/2)^2)+((PI()*C39)*(B39-C39))) -> 4.9628525 | F39: =(((4/3)*PI()*(C39/2)^3)+(PI()*((C39/2)^2)*(B39-C39))) -> 1.0392972 | G39: =E39/F39 -> 4.7752004
A40: LB | B40: 1.499 | C40: =(0.784+0.488)/2 -> 0.636 | D40: =B40/C40 -> 2.3569182 | E40: =((4*PI()*(C40/2)^2)+((PI()*C40)*(B40-C40))) -> 2.9950813 | F40: =(((4/3)*PI()*(C40/2)^3)+(PI()*((C40/2)^2)*(B40-C40))) -> 0.40886756 | G40: =E40/F40 -> 7.3253092
A41: LB | B41: 1.216 | C41: 1.025 | D41: =B41/C41 -> 1.1863415 | E41: =((4*PI()*(C41/2)^2)+((PI()*C41)*(B41-C41))) -> 3.9156811 | F41: =(((4/3)*PI()*(C41/2)^3)+(PI()*((C41/2)^2)*(B41-C41))) -> 0.72146397 | G41: =E41/F41 -> 5.4274104
A42: LB | B42: 1.072 | C42: 0.983 | D42: =B42/C42 -> 1.0905392 | E42: =((4*PI()*(C42/2)^2)+((PI()*C42)*(B42-C42))) -> 3.3105349 | F42: =(((4/3)*PI()*(C42/2)^3)+(PI()*((C42/2)^2)*(B42-C42))) -> 0.56489065 | G42: =E42/F42 -> 5.8604881
A43: LB | B43: 1.583 | C43: 0.886 | D43: =B43/C43 -> 1.7866817 | E43: =((4*PI()*(C43/2)^2)+((PI()*C43)*(B43-C43))) -> 4.4062031 | F43: =(((4/3)*PI()*(C43/2)^3)+(PI()*((C43/2)^2)*(B43-C43))) -> 0.79389082 | G43: =E43/F43 -> 5.5501374
A44: LB | B44: 1.252 | C44: =(1.235+0.794)/2 -> 1.0145 | D44: =B44/C44 -> 1.2341055 | E44: =((4*PI()*(C44/2)^2)+((PI()*C44)*(B44-C44))) -> 3.9903065 | F44: =(((4/3)*PI()*(C44/2)^3)+(PI()*((C44/2)^2)*(B44-C44))) -> 0.73868789 | G44: =E44/F44 -> 5.4018842
A45: LB | B45: 1.162 | C45: 0.949 | D45: =B45/C45 -> 1.2244468 | E45: =((4*PI()*(C45/2)^2)+((PI()*C45)*(B45-C45))) -> 3.4643536 | F45: =(((4/3)*PI()*(C45/2)^3)+(PI()*((C45/2)^2)*(B45-C45))) -> 0.59816572 | G45: =E45/F45 -> 5.7916285
A46: LB | B46: 1.357 | C46: 0.957 | D46: =B46/C46 -> 1.4179728 | E46: =((4*PI()*(C46/2)^2)+((PI()*C46)*(B46-C46))) -> 4.0798262 | F46: =(((4/3)*PI()*(C46/2)^3)+(PI()*((C46/2)^2)*(B46-C46))) -> 0.74663976 | G46: =E46/F46 -> 5.4642498
A47: LB | B47: 1.292 | C47: 1.083 | D47: =B47/C47 -> 1.1929825 | E47: =((4*PI()*(C47/2)^2)+((PI()*C47)*(B47-C47))) -> 4.3958295 | F47: =(((4/3)*PI()*(C47/2)^3)+(PI()*((C47/2)^2)*(B47-C47))) -> 0.85762311 | G47: =E47/F47 -> 5.1255959
A48: LB | B48: 1.272 | C48: =(1.271+0.708)/2 -> 0.9895 | D48: =B48/C48 -> 1.2854977 | E48: =((4*PI()*(C48/2)^2)+((PI()*C48)*(B48-C48))) -> 3.9541467 | F48: =(((4/3)*PI()*(C48/2)^3)+(PI()*((C48/2)^2)*(B48-C48))) -> 0.72451806 | G48: =E48/F48 -> 5.4576235
A49: LB | B49: 1.126 | C49: 0.984 | D49: =B49/C49 -> 1.1443089 | E49: =((4*PI()*(C49/2)^2)+((PI()*C49)*(B49-C49))) -> 3.4808344 | F49: =(((4/3)*PI()*(C49/2)^3)+(PI()*((C49/2)^2)*(B49-C49))) -> 0.60685225 | G49: =E49/F49 -> 5.7358844
A50: LB | B50: 1.518 | C50: 1.059 | D50: =B50/C50 -> 1.4334278 | E50: =((4*PI()*(C50/2)^2)+((PI()*C50)*(B50-C50))) -> 5.050305 | F50: =(((4/3)*PI()*(C50/2)^3)+(PI()*((C50/2)^2)*(B50-C50))) -> 1.0261426 | G50: =E50/F50 -> 4.9216404
A51: LB | B51: 1.188 | C51: 0.901 | D51: =B51/C51 -> 1.318535 | E51: =((4*PI()*(C51/2)^2)+((PI()*C51)*(B51-C51))) -> 3.3627231 | F51: =(((4/3)*PI()*(C51/2)^3)+(PI()*((C51/2)^2)*(B51-C51))) -> 0.56596474 | G51: =E51/F51 -> 5.941577
A52: LB | B52: 1.486 | C52: 1.206 | D52: =B52/C52 -> 1.2321725 | E52: =((4*PI()*(C52/2)^2)+((PI()*C52)*(B52-C52))) -> 5.6300985 | F52: =(((4/3)*PI()*(C52/2)^3)+(PI()*((C52/2)^2)*(B52-C52))) -> 1.2382655 | G52: =E52/F52 -> 4.5467619
A53: LB | B53: 1.918 | C53: 1.004 | D53: =B53/C53 -> 1.9103586 | E53: =((4*PI()*(C53/2)^2)+((PI()*C53)*(B53-C53))) -> 6.049677 | F53: =(((4/3)*PI()*(C53/2)^3)+(PI()*((C53/2)^2)*(B53-C53))) -> 1.2535154 | G53: =E53/F53 -> 4.826169
A54: LB | B54: 1.383 | C54: 1.191 | D54: =B54/C54 -> 1.1612091 | E54: =((4*PI()*(C54/2)^2)+((PI()*C54)*(B54-C54))) -> 5.1746838 | F54: =(((4/3)*PI()*(C54/2)^3)+(PI()*((C54/2)^2)*(B54-C54))) -> 1.0984754 | G54: =E54/F54 -> 4.7107873
A55: LB | B55: 1.633 | C55: 1.023 | D55: =B55/C55 -> 1.5962854 | E55: =((4*PI()*(C55/2)^2)+((PI()*C55)*(B55-C55))) -> 5.2482159 | F55: =(((4/3)*PI()*(C55/2)^3)+(PI()*((C55/2)^2)*(B55-C55))) -> 1.061949 | G55: =E55/F55 -> 4.9420602
A56: LB | B56: 1.304 | C56: 1.096 | D56: =B56/C56 -> 1.189781 | E56: =((4*PI()*(C56/2)^2)+((PI()*C56)*(B56-C56))) -> 4.489914 | F56: =(((4/3)*PI()*(C56/2)^3)+(PI()*((C56/2)^2)*(B56-C56))) -> 0.88556896 | G56: =E56/F56 -> 5.0700896
A57: LB | B57: 1.482 | C57: 1.132 | D57: =B57/C57 -> 1.3091873 | E57: =((4*PI()*(C57/2)^2)+((PI()*C57)*(B57-C57))) -> 5.2704112 | F57: =(((4/3)*PI()*(C57/2)^3)+(PI()*((C57/2)^2)*(B57-C57))) -> 1.1117675 | G57: =E57/F57 -> 4.7405695
A58: LB | B58: 1.974 | C58: 1.013 | D58: =B58/C58 -> 1.9486673 | E58: =((4*PI()*(C58/2)^2)+((PI()*C58)*(B58-C58))) -> 6.2821234 | F58: =(((4/3)*PI()*(C58/2)^3)+(PI()*((C58/2)^2)*(B58-C58))) -> 1.3188049 | G58: =E58/F58 -> 4.7634972
A59: LB | B59: 2.439 | C59: 1.08 | D59: =B59/C59 -> 2.2583333 | E59: =((4*PI()*(C59/2)^2)+((PI()*C59)*(B59-C59))) -> 8.275332 | F59: =(((4/3)*PI()*(C59/2)^3)+(PI()*((C59/2)^2)*(B59-C59))) -> 1.9045478 | G59: =E59/F59 -> 4.3450377
A60: LB | B60: 0.924 | C60: 0.824 | D60: =B60/C60 -> 1.1213592 | E60: =((4*PI()*(C60/2)^2)+((PI()*C60)*(B60-C60))) -> 2.3919332 | F60: =(((4/3)*PI()*(C60/2)^3)+(PI()*((C60/2)^2)*(B60-C60))) -> 0.34626772 | G60: =E60/F60 -> 6.907757
... A76: LB | B76: 2.26 | C76: 1.114 | D76: =B76/C76 -> 2.0287253 | E76: =((4*PI()*(C76/2)^2)+((PI()*C76)*(B76-C76))) -> 7.9093993 | F76: =(((4/3)*PI()*(C76/2)^3)+(PI()*((C76/2)^2)*(B76-C76))) -> 1.840838 | G76: =E76/F76 -> 4.2966297
A105: Count | B105: =COUNT(B2:B103) -> 75 | C105: =COUNT(C2:C103) -> 75 | D105: =COUNT(D2:D103) -> 75 | E105: =COUNT(E2:E103) -> 75 | F105: =COUNT(F2:F103) -> 75 | G105: =COUNT(G2:G103) -> 75
A106: Average | B106: =AVERAGE(B2:B102) -> 1.4942267 | C106: =AVERAGE(C2:C102) -> 1.0359333 | D106: =AVERAGE(D2:D102) -> 1.4491275 | E106: =AVERAGE(E2:E102) -> 4.9042008 | F106: =AVERAGE(F2:F102) -> 0.99385802 | G106: =AVERAGE(G2:G102) -> 5.1713651
A107: Standard Dev. | B107: =_xlfn.STDEV.S(B2:B103) -> 0.35340653 | C107: =_xlfn.STDEV.S(C2:C103) -> 0.1152534 | D107: =_xlfn.STDEV.S(D2:D103) -> 0.32936002 | E107: =_xlfn.STDEV.S(E2:E103) -> 1.4250427 | F107: =_xlfn.STDEV.S(F2:F103) -> 0.39936356 | G107: =_xlfn.STDEV.S(G2:G103) -> 0.67729525

Sheet G4 LB1 09281126
A1: Nutrient | B1: Length (mm) | C1: Width (mm) | D1: Length/Width | E1: Surface Area (µm^2) | F1: Volume (µm^3) | G1: SA/V (1/µm)
A2: LB | B2: 1.639 | C2: =(1.116+0.785)/2 -> 0.9505 | D2: =B2/C2 -> 1.7243556 | E2: =((4*PI()*(C2/2)^2)+((PI()*C2)*(B2-C2))) -> 4.8941914 | F2: =(((4/3)*PI()*(C2/2)^3)+(PI()*((C2/2)^2)*(B2-C2))) -> 0.93816738 | G2: =E2/F2 -> 5.2167571
A3: LB | B3: 1.373 | C3: =(1.012+0.363)/2 -> 0.6875 | D3: =B3/C3 -> 1.9970909 | E3: =((4*PI()*(C3/2)^2)+((PI()*C3)*(B3-C3))) -> 2.9654671 | F3: =(((4/3)*PI()*(C3/2)^3)+(PI()*((C3/2)^2)*(B3-C3))) -> 0.42461764 | G3: =E3/F3 -> 6.9838528
A4: LB | B4: 1.849 | C4: 1.264 | D4: =B4/C4 -> 1.4628165 | E4: =((4*PI()*(C4/2)^2)+((PI()*C4)*(B4-C4))) -> 7.3423293 | F4: =(((4/3)*PI()*(C4/2)^3)+(PI()*((C4/2)^2)*(B4-C4))) -> 1.7914754 | G4: =E4/F4 -> 4.0984818
A5: LB | B5: 1.237 | C5: 1.053 | D5: =B5/C5 -> 1.1747388 | E5: =((4*PI()*(C5/2)^2)+((PI()*C5)*(B5-C5))) -> 4.0921161 | F5: =(((4/3)*PI()*(C5/2)^3)+(PI()*((C5/2)^2)*(B5-C5))) -> 0.77157891 | G5: =E5/F5 -> 5.3035614
A6: LB | B6: 2.219 | C6: 1.206 | D6: =B6/C6 -> 1.8399668 | E6: =((4*PI()*(C6/2)^2)+((PI()*C6)*(B6-C6))) -> 8.4072601 | F6: =(((4/3)*PI()*(C6/2)^3)+(PI()*((C6/2)^2)*(B6-C6))) -> 2.0755797 | G6: =E6/F6 -> 4.0505599
A7: LB | B7: 2.421 | C7: 1.395 | D7: =B7/C7 -> 1.7354839 | E7: =((4*PI()*(C7/2)^2)+((PI()*C7)*(B7-C7))) -> 10.610085 | F7: =(((4/3)*PI()*(C7/2)^3)+(PI()*((C7/2)^2)*(B7-C7))) -> 2.9895591 | G7: =E7/F7 -> 3.5490468
A8: LB | B8: 1.358 | C8: 1.077 | D8: =B8/C8 -> 1.2609099 | E8: =((4*PI()*(C8/2)^2)+((PI()*C8)*(B8-C8))) -> 4.5947866 | F8: =(((4/3)*PI()*(C8/2)^3)+(PI()*((C8/2)^2)*(B8-C8))) -> 0.9100951 | G8: =E8/F8 -> 5.0486884
A9: LB | B9: 1.303 | C9: 1.133 | D9: =B9/C9 -> 1.1500441 | E9: =((4*PI()*(C9/2)^2)+((PI()*C9)*(B9-C9))) -> 4.6379301 | F9: =(((4/3)*PI()*(C9/2)^3)+(PI()*((C9/2)^2)*(B9-C9))) -> 0.93292753 | G9: =E9/F9 -> 4.9713723
A10: LB | B10: 1.113 | C10: 0.888 | D10: =B10/C10 -> 1.2533784 | E10: =((4*PI()*(C10/2)^2)+((PI()*C10)*(B10-C10))) -> 3.1049742 | F10: =(((4/3)*PI()*(C10/2)^3)+(PI()*((C10/2)^2)*(B10-C10))) -> 0.50598526 | G10: =E10/F10 -> 6.1364914
A11: LB | B11: 1.459 | C11: 1.178 | D11: =B11/C11 -> 1.2385399 | E11: =((4*PI()*(C11/2)^2)+((PI()*C11)*(B11-C11))) -> 5.3994616 | F11: =(((4/3)*PI()*(C11/2)^3)+(PI()*((C11/2)^2)*(B11-C11))) -> 1.1621801 | G11: =E11/F11 -> 4.6459765
A12: LB | B12: 1.408 | C12: 1.025 | D12: =B12/C12 -> 1.3736585 | E12: =((4*PI()*(C12/2)^2)+((PI()*C12)*(B12-C12))) -> 4.5339465 | F12: =(((4/3)*PI()*(C12/2)^3)+(PI()*((C12/2)^2)*(B12-C12))) -> 0.87989449 | G12: =E12/F12 -> 5.1528298
A13: LB | B13: 1.769 | C13: 1.119 | D13: =B13/C13 -> 1.5808758 | E13: =((4*PI()*(C13/2)^2)+((PI()*C13)*(B13-C13))) -> 6.2188172 | F13: =(((4/3)*PI()*(C13/2)^3)+(PI()*((C13/2)^2)*(B13-C13))) -> 1.3728891 | G13: =E13/F13 -> 4.52973
A14: LB | B14: 0.988 | C14: =(1.293+0.595)/2 -> 0.944 | D14: =B14/C14 -> 1.0466102 | E14: =((4*PI()*(C14/2)^2)+((PI()*C14)*(B14-C14))) -> 2.9300755 | F14: =(((4/3)*PI()*(C14/2)^3)+(PI()*((C14/2)^2)*(B14-C14))) -> 0.4712637 | G14: =E14/F14 -> 6.2174862
A15: LB | B15: 1.429 | C15: 1.055 | D15: =B15/C15 -> 1.3545024 | E15: =((4*PI()*(C15/2)^2)+((PI()*C15)*(B15-C15))) -> 4.7362494 | F15: =(((4/3)*PI()*(C15/2)^3)+(PI()*((C15/2)^2)*(B15-C15))) -> 0.9417701 | G15: =E15/F15 -> 5.029093
A16: LB | B16: 2.041 | C16: 1.187 | D16: =B16/C16 -> 1.7194608 | E16: =((4*PI()*(C16/2)^2)+((PI()*C16)*(B16-C16))) -> 7.6110328 | F16: =(((4/3)*PI()*(C16/2)^3)+(PI()*((C16/2)^2)*(B16-C16))) -> 1.8207286 | G16: =E16/F16 -> 4.1802127
A17: LB | B17: 1.959 | C17: 1.129 | D17: =B17/C17 -> 1.7351639 | E17: =((4*PI()*(C17/2)^2)+((PI()*C17)*(B17-C17))) -> 6.948295 | F17: =(((4/3)*PI()*(C17/2)^3)+(PI()*((C17/2)^2)*(B17-C17))) -> 1.5844087 | G17: =E17/F17 -> 4.3854184
A18: LB | B18: 1.418 | C18: 1.26 | D18: =B18/C18 -> 1.1253968 | E18: =((4*PI()*(C18/2)^2)+((PI()*C18)*(B18-C18))) -> 5.6130208 | F18: =(((4/3)*PI()*(C18/2)^3)+(PI()*((C18/2)^2)*(B18-C18))) -> 1.2444043 | G18: =E18/F18 -> 4.5106085
A19: LB | B19: 1.736 | C19: 1.097 | D19: =B19/C19 -> 1.5824977 | E19: =((4*PI()*(C19/2)^2)+((PI()*C19)*(B19-C19))) -> 5.9828239 | F19: =(((4/3)*PI()*(C19/2)^3)+(PI()*((C19/2)^2)*(B19-C19))) -> 1.2951777 | G19: =E19/F19 -> 4.6193074
A20: LB | B20: 1.511 | C20: 1.217 | D20: =B20/C20 -> 1.2415776 | E20: =((4*PI()*(C20/2)^2)+((PI()*C20)*(B20-C20))) -> 5.7770339 | F20: =(((4/3)*PI()*(C20/2)^3)+(PI()*((C20/2)^2)*(B20-C20))) -> 1.285773 | G20: =E20/F20 -> 4.4930434
A21: LB | B21: 1.374 | C21: 1.045 | D21: =B21/C21 -> 1.3148325 | E21: =((4*PI()*(C21/2)^2)+((PI()*C21)*(B21-C21))) -> 4.510793 | F21: =(((4/3)*PI()*(C21/2)^3)+(PI()*((C21/2)^2)*(B21-C21))) -> 0.87968807 | G21: =E21/F21 -> 5.1277187
A22: LB | B22: 1.506 | C22: 1.239 | D22: =B22/C22 -> 1.2154964 | E22: =((4*PI()*(C22/2)^2)+((PI()*C22)*(B22-C22))) -> 5.8620045 | F22: =(((4/3)*PI()*(C22/2)^3)+(PI()*((C22/2)^2)*(B22-C22))) -> 1.3178096 | G22: =E22/F22 -> 4.4482941
A23: LB | B23: 1.531 | C23: 0.905 | D23: =B23/C23 -> 1.6917127 | E23: =((4*PI()*(C23/2)^2)+((PI()*C23)*(B23-C23))) -> 4.3528494 | F23: =(((4/3)*PI()*(C23/2)^3)+(PI()*((C23/2)^2)*(B23-C23))) -> 0.79078186 | G23: =E23/F23 -> 5.5044882
A24: LB | B24: 2.308 | C24: =(1.011+0.568)/2 -> 0.7895 | D24: =B24/C24 -> 2.9233692 | E24: =((4*PI()*(C24/2)^2)+((PI()*C24)*(B24-C24))) -> 5.7245033 | F24: =(((4/3)*PI()*(C24/2)^3)+(PI()*((C24/2)^2)*(B24-C24))) -> 1.0010415 | G24: =E24/F24 -> 5.7185477
A25: LB | B25: 1.845 | C25: 0.896 | D25: =B25/C25 -> 2.0591518 | E25: =((4*PI()*(C25/2)^2)+((PI()*C25)*(B25-C25))) -> 5.1934296 | F25: =(((4/3)*PI()*(C25/2)^3)+(PI()*((C25/2)^2)*(B25-C25))) -> 0.97500988 | G25: =E25/F25 -> 5.3265405
A26: LB | B26: 1.563 | C26: 1.243 | D26: =B26/C26 -> 1.2574417 | E26: =((4*PI()*(C26/2)^2)+((PI()*C26)*(B26-C26))) -> 6.1035145 | F26: =(((4/3)*PI()*(C26/2)^3)+(PI()*((C26/2)^2)*(B26-C26))) -> 1.3938825 | G26: =E26/F26 -> 4.378787
A27: LB | B27: 1.303 | C27: 1.166 | D27: =B27/C27 -> 1.1174957 | E27: =((4*PI()*(C27/2)^2)+((PI()*C27)*(B27-C27))) -> 4.7730154 | F27: =(((4/3)*PI()*(C27/2)^3)+(PI()*((C27/2)^2)*(B27-C27))) -> 0.97631854 | G27: =E27/F27 -> 4.8887891
A28: LB | B28: 1.344 | C28: =(1.049+0.404) -> 1.453 | D28: =B28/C28 -> 0.92498279 | E28: =((4*PI()*(C28/2)^2)+((PI()*C28)*(B28-C28))) -> 6.1350027 | F28: =(((4/3)*PI()*(C28/2)^3)+(PI()*((C28/2)^2)*(B28-C28))) -> 1.4254474 | G28: =E28/F28 -> 4.3039137
A29: LB | B29: 1.416 | C29: 1.142 | D29: =B29/C29 -> 1.2399299 | E29: =((4*PI()*(C29/2)^2)+((PI()*C29)*(B29-C29))) -> 5.0801815 | F29: =(((4/3)*PI()*(C29/2)^3)+(PI()*((C29/2)^2)*(B29-C29))) -> 1.0604795 | G29: =E29/F29 -> 4.790457
A30: LB | B30: 2.075 | C30: 0.974 | D30: =B30/C30 -> 2.1303901 | E30: =((4*PI()*(C30/2)^2)+((PI()*C30)*(B30-C30))) -> 6.3493158 | F30: =(((4/3)*PI()*(C30/2)^3)+(PI()*((C30/2)^2)*(B30-C30))) -> 1.304153 | G30: =E30/F30 -> 4.8685358
A31: LB | B31: 1.768 | C31: 0.763 | D31: =B31/C31 -> 2.3171691 | E31: =((4*PI()*(C31/2)^2)+((PI()*C31)*(B31-C31))) -> 4.2379582 | F31: =(((4/3)*PI()*(C31/2)^3)+(PI()*((C31/2)^2)*(B31-C31))) -> 0.69210057 | G31: =E31/F31 -> 6.1233272
A32: LB | B32: 1.46 | C32: 0.99 | D32: =B32/C32 -> 1.4747475 | E32: =((4*PI()*(C32/2)^2)+((PI()*C32)*(B32-C32))) -> 4.540858 | F32: =(((4/3)*PI()*(C32/2)^3)+(PI()*((C32/2)^2)*(B32-C32))) -> 0.86983868 | G32: =E32/F32 -> 5.220345
A33: LB | B33: 1.273 | C33: 1.063 | D33: =B33/C33 -> 1.1975541 | E33: =((4*PI()*(C33/2)^2)+((PI()*C33)*(B33-C33))) -> 4.2512 | F33: =(((4/3)*PI()*(C33/2)^3)+(PI()*((C33/2)^2)*(B33-C33))) -> 0.81529423 | G33: =E33/F33 -> 5.2143139
A34: LB | B34: 1.25 | C34: 1.068 | D34: =B34/C34 -> 1.170412 | E34: =((4*PI()*(C34/2)^2)+((PI()*C34)*(B34-C34))) -> 4.1940262 | F34: =(((4/3)*PI()*(C34/2)^3)+(PI()*((C34/2)^2)*(B34-C34))) -> 0.80088453 | G34: =E34/F34 -> 5.2367427
A35: LB | B35: 0.989 | C35: 0.87 | D35: =B35/C35 -> 1.1367816 | E35: =((4*PI()*(C35/2)^2)+((PI()*C35)*(B35-C35))) -> 2.7031206 | F35: =(((4/3)*PI()*(C35/2)^3)+(PI()*((C35/2)^2)*(B35-C35))) -> 0.41553304 | G35: =E35/F35 -> 6.505188
A36: LB | B36: 2.03 | C36: 1.084 | D36: =B36/C36 -> 1.8726937 | E36: =((4*PI()*(C36/2)^2)+((PI()*C36)*(B36-C36))) -> 6.9131375 | F36: =(((4/3)*PI()*(C36/2)^3)+(PI()*((C36/2)^2)*(B36-C36))) -> 1.5399905 | G36: =E36/F36 -> 4.4890781
A37: LB | B37: 1.832 | C37: 1.186 | D37: =B37/C37 -> 1.544688 | E37: =((4*PI()*(C37/2)^2)+((PI()*C37)*(B37-C37))) -> 6.8259017 | F37: =(((4/3)*PI()*(C37/2)^3)+(PI()*((C37/2)^2)*(B37-C37))) -> 1.5871401 | G37: =E37/F37 -> 4.3007555
A38: LB | B38: 1.387 | C38: 0.965 | D38: =B38/C38 -> 1.4373057 | E38: =((4*PI()*(C38/2)^2)+((PI()*C38)*(B38-C38))) -> 4.2048804 | F38: =(((4/3)*PI()*(C38/2)^3)+(PI()*((C38/2)^2)*(B38-C38))) -> 0.77916606 | G38: =E38/F38 -> 5.3966422
A39: LB | B39: 1.338 | C39: 1.147 | D39: =B39/C39 -> 1.1665214 | E39: =((4*PI()*(C39/2)^2)+((PI()*C39)*(B39-C39))) -> 4.8213583 | F39: =(((4/3)*PI()*(C39/2)^3)+(PI()*((C39/2)^2)*(B39-C39))) -> 0.98746828 | G39: =E39/F39 -> 4.8825449
A40: LB | B40: 2.402 | C40: 1.217 | D40: =B40/C40 -> 1.9737058 | E40: =((4*PI()*(C40/2)^2)+((PI()*C40)*(B40-C40))) -> 9.1836105 | F40: =(((4/3)*PI()*(C40/2)^3)+(PI()*((C40/2)^2)*(B40-C40))) -> 2.3222239 | G40: =E40/F40 -> 3.9546619
... A49: LB | B49: 1.96 | C49: 0.986 | D49: =B49/C49 -> 1.9878296 | E49: =((4*PI()*(C49/2)^2)+((PI()*C49)*(B49-C49))) -> 6.0713163 | F49: =(((4/3)*PI()*(C49/2)^3)+(PI()*((C49/2)^2)*(B49-C49))) -> 1.2456224 | G49: =E49/F49 -> 4.8741225
A50: LB | B50: 1.282 | C50: =(1.093+0.591)/2 -> 0.842 | D50: =B50/C50 -> 1.5225653 | E50: =((4*PI()*(C50/2)^2)+((PI()*C50)*(B50-C50))) -> 3.3911733 | F50: =(((4/3)*PI()*(C50/2)^3)+(PI()*((C50/2)^2)*(B50-C50))) -> 0.55756145 | G50: =E50/F50 -> 6.0821517
A51: LB | B51: 1.583 | C51: 1.31 | D51: =B51/C51 -> 1.2083969 | E51: =((4*PI()*(C51/2)^2)+((PI()*C51)*(B51-C51))) -> 6.5148149 | F51: =(((4/3)*PI()*(C51/2)^3)+(PI()*((C51/2)^2)*(B51-C51))) -> 1.545053 | G51: =E51/F51 -> 4.2165639
A52: LB | B52: 2.247 | C52: 1.086 | D52: =B52/C52 -> 2.0690608 | E52: =((4*PI()*(C52/2)^2)+((PI()*C52)*(B52-C52))) -> 7.6662463 | F52: =(((4/3)*PI()*(C52/2)^3)+(PI()*((C52/2)^2)*(B52-C52))) -> 1.7460669 | G52: =E52/F52 -> 4.3905799
A53: LB | B53: 1.426 | C53: 1.057 | D53: =B53/C53 -> 1.3491012 | E53: =((4*PI()*(C53/2)^2)+((PI()*C53)*(B53-C53))) -> 4.7352661 | F53: =(((4/3)*PI()*(C53/2)^3)+(PI()*((C53/2)^2)*(B53-C53))) -> 0.94212673 | G53: =E53/F53 -> 5.0261455
A54: LB | B54: 1.409 | C54: 1.025 | D54: =B54/C54 -> 1.3746341 | E54: =((4*PI()*(C54/2)^2)+((PI()*C54)*(B54-C54))) -> 4.5371667 | F54: =(((4/3)*PI()*(C54/2)^3)+(PI()*((C54/2)^2)*(B54-C54))) -> 0.88071965 | G54: =E54/F54 -> 5.1516583
A55: LB | B55: 1.449 | C55: 0.875 | D55: =B55/C55 -> 1.656 | E55: =((4*PI()*(C55/2)^2)+((PI()*C55)*(B55-C55))) -> 3.9831468 | F55: =(((4/3)*PI()*(C55/2)^3)+(PI()*((C55/2)^2)*(B55-C55))) -> 0.69592822 | G55: =E55/F55 -> 5.7235023
A56: LB | B56: 1.467 | C56: 1.123 | D56: =B56/C56 -> 1.3063224 | E56: =((4*PI()*(C56/2)^2)+((PI()*C56)*(B56-C56))) -> 5.1755885 | F56: =(((4/3)*PI()*(C56/2)^3)+(PI()*((C56/2)^2)*(B56-C56))) -> 1.0822737 | G56: =E56/F56 -> 4.7821441
A57: LB | B57: 1.934 | C57: 1.246 | D57: =B57/C57 -> 1.5521669 | E57: =((4*PI()*(C57/2)^2)+((PI()*C57)*(B57-C57))) -> 7.5704969 | F57: =(((4/3)*PI()*(C57/2)^3)+(PI()*((C57/2)^2)*(B57-C57))) -> 1.8517759 | G57: =E57/F57 -> 4.088236
A58: LB | B58: 1.796 | C58: 0.924 | D58: =B58/C58 -> 1.9437229 | E58: =((4*PI()*(C58/2)^2)+((PI()*C58)*(B58-C58))) -> 5.2134856 | F58: =(((4/3)*PI()*(C58/2)^3)+(PI()*((C58/2)^2)*(B58-C58))) -> 0.9977845 | G58: =E58/F58 -> 5.2250617
A59: LB | B59: 1.537 | C59: 1.2 | D59: =B59/C59 -> 1.2808333 | E59: =((4*PI()*(C59/2)^2)+((PI()*C59)*(B59-C59))) -> 5.7943535 | F59: =(((4/3)*PI()*(C59/2)^3)+(PI()*((C59/2)^2)*(B59-C59))) -> 1.2859167 | G59: =E59/F59 -> 4.50601
A60: LB | B60: 1.194 | C60: 1.115 | D60: =B60/C60 -> 1.070852 | E60: =((4*PI()*(C60/2)^2)+((PI()*C60)*(B60-C60))) -> 4.1824337 | F60: =(((4/3)*PI()*(C60/2)^3)+(PI()*((C60/2)^2)*(B60-C60))) -> 0.80294817 | G60: =E60/F60 -> 5.2088465
A61: LB | B61: 1.316 | C61: 1.048 | D61: =B61/C61 -> 1.2557252 | E61: =((4*PI()*(C61/2)^2)+((PI()*C61)*(B61-C61))) -> 4.3327841 | F61: =(((4/3)*PI()*(C61/2)^3)+(PI()*((C61/2)^2)*(B61-C61))) -> 0.83385241 | G61: =E61/F61 -> 5.1961042
A62: LB | B62: 1.578 | C62: 1.017 | D62: =B62/C62 -> 1.5516224 | E62: =((4*PI()*(C62/2)^2)+((PI()*C62)*(B62-C62))) -> 5.0417096 | F62: =(((4/3)*PI()*(C62/2)^3)+(PI()*((C62/2)^2)*(B62-C62))) -> 1.0064752 | G62: =E62/F62 -> 5.0092733
... A77: LB | B77: 2.046 | C77: 1.168 | D77: =B77/C77 -> 1.7517123 | E77: =((4*PI()*(C77/2)^2)+((PI()*C77)*(B77-C77))) -> 7.5075519 | F77: =(((4/3)*PI()*(C77/2)^3)+(PI()*((C77/2)^2)*(B77-C77))) -> 1.7750504 | G77: =E77/F77 -> 4.2294865
A105: Count | B105: =COUNT(B2:B103) -> 76 | C105: =COUNT(C2:C103) -> 76 | D105: =COUNT(D2:D103) -> 76 | E105: =COUNT(E2:E103) -> 76 | F105: =COUNT(F2:F103) -> 76 | G105: =COUNT(G2:G103) -> 76
A106: Average | B106: =AVERAGE(B2:B102) -> 1.6914737 | C106: =AVERAGE(C2:C102) -> 1.0733618 | D106: =AVERAGE(D2:D102) -> 1.5923165 | E106: =AVERAGE(E2:E102) -> 5.7467157 | F106: =AVERAGE(F2:F102) -> 1.2390824 | G106: =AVERAGE(G2:G102) -> 4.9028298
A107: Standard Dev. | B107: =_xlfn.STDEV.S(B2:B103) -> 0.43706248 | C107: =_xlfn.STDEV.S(C2:C103) -> 0.14145095 | D107: =_xlfn.STDEV.S(D2:D103) -> 0.43126423 | E107: =_xlfn.STDEV.S(E2:E103) -> 1.7939416 | F107: =_xlfn.STDEV.S(F2:F103) -> 0.53822695 | G107: =_xlfn.STDEV.S(G2:G103) -> 0.70393997

Sheet G1 LE1 09271304
A1: Nutrient | B1: Length (mm) | C1: Width (mm) | D1: Length/Width | E1: Surface Area (µm^2) | F1: Volume (µm^3) | G1: SA/V (1/µm)
A2: LE | B2: 1.564 | C2: 0.765 | D2: =B2/C2 -> 2.0444444 | E2: =((4*PI()*(C2/2)^2)+((PI()*C2)*(B2-C2))) -> 3.7587899 | F2: =(((4/3)*PI()*(C2/2)^3)+(PI()*((C2/2)^2)*(B2-C2))) -> 0.60166174 | G2: =E2/F2 -> 6.2473474
A3: LE | B3: 1.744 | C3: 1.202 | D3: =B3/C3 -> 1.4509151 | E3: =((4*PI()*(C3/2)^2)+((PI()*C3)*(B3-C3))) -> 6.585683 | F3: =(((4/3)*PI()*(C3/2)^3)+(PI()*((C3/2)^2)*(B3-C3))) -> 1.5243427 | G3: =E3/F3 -> 4.3203429
A4: LE | B4: 1.801 | C4: 1.348 | D4: =B4/C4 -> 1.3360534 | E4: =((4*PI()*(C4/2)^2)+((PI()*C4)*(B4-C4))) -> 7.6269953 | F4: =(((4/3)*PI()*(C4/2)^3)+(PI()*((C4/2)^2)*(B4-C4))) -> 1.9290313 | G4: =E4/F4 -> 3.9537955
A5: LE | B5: 1.773 | C5: 1.147 | D5: =B5/C5 -> 1.5457716 | E5: =((4*PI()*(C5/2)^2)+((PI()*C5)*(B5-C5))) -> 6.3888402 | F5: =(((4/3)*PI()*(C5/2)^3)+(PI()*((C5/2)^2)*(B5-C5))) -> 1.4369437 | G5: =E5/F5 -> 4.4461311
A6: LE | B6: 1.629 | C6: 1.094 | D6: =B6/C6 -> 1.4890311 | E6: =((4*PI()*(C6/2)^2)+((PI()*C6)*(B6-C6))) -> 5.5987139 | F6: =(((4/3)*PI()*(C6/2)^3)+(PI()*((C6/2)^2)*(B6-C6))) -> 1.1884642 | G6: =E6/F6 -> 4.7108813
A7: LE | B7: 1.41 | C7: 1.251 | D7: =B7/C7 -> 1.1270983 | E7: =((4*PI()*(C7/2)^2)+((PI()*C7)*(B7-C7))) -> 5.5414867 | F7: =(((4/3)*PI()*(C7/2)^3)+(PI()*((C7/2)^2)*(B7-C7))) -> 1.2205449 | G7: =E7/F7 -> 4.5401745
A8: LE | B8: 1.018 | C8: 1.101 | D8: =B8/C8 -> 0.92461399 | E8: =((4*PI()*(C8/2)^2)+((PI()*C8)*(B8-C8))) -> 3.5211536 | F8: =(((4/3)*PI()*(C8/2)^3)+(PI()*((C8/2)^2)*(B8-C8))) -> 0.61979135 | G8: =E8/F8 -> 5.6811919
A9: LE | B9: 1.89 | C9: 1.207 | D9: =B9/C9 -> 1.5658658 | E9: =((4*PI()*(C9/2)^2)+((PI()*C9)*(B9-C9))) -> 7.1666954 | F9: =(((4/3)*PI()*(C9/2)^3)+(PI()*((C9/2)^2)*(B9-C9))) -> 1.7021979 | G9: =E9/F9 -> 4.2102598
A10: LE | B10: 1.703 | C10: 1.222 | D10: =B10/C10 -> 1.393617 | E10: =((4*PI()*(C10/2)^2)+((PI()*C10)*(B10-C10))) -> 6.5378617 | F10: =(((4/3)*PI()*(C10/2)^3)+(PI()*((C10/2)^2)*(B10-C10))) -> 1.519587 | G10: =E10/F10 -> 4.3023937
A11: LE | B11: 1.353 | C11: 1.191 | D11: =B11/C11 -> 1.1360202 | E11: =((4*PI()*(C11/2)^2)+((PI()*C11)*(B11-C11))) -> 5.0624347 | F11: =(((4/3)*PI()*(C11/2)^3)+(PI()*((C11/2)^2)*(B11-C11))) -> 1.0650532 | G11: =E11/F11 -> 4.7532224
A12: LE | B12: 2.577 | C12: 1.066 | D12: =B12/C12 -> 2.4174484 | E12: =((4*PI()*(C12/2)^2)+((PI()*C12)*(B12-C12))) -> 8.6302126 | F12: =(((4/3)*PI()*(C12/2)^3)+(PI()*((C12/2)^2)*(B12-C12))) -> 1.9828195 | G12: =E12/F12 -> 4.3524953
A13: LE | B13: 1.471 | C13: 1 | D13: =B13/C13 -> 1.471 | E13: =((4*PI()*(C13/2)^2)+((PI()*C13)*(B13-C13))) -> 4.6212828 | F13: =(((4/3)*PI()*(C13/2)^3)+(PI()*((C13/2)^2)*(B13-C13))) -> 0.89352131 | G13: =E13/F13 -> 5.1719895
... A28: LE | B28: 1.41 | C28: 0.831 | D28: =B28/C28 -> 1.6967509 | E28: =((4*PI()*(C28/2)^2)+((PI()*C28)*(B28-C28))) -> 3.6810355 | F28: =(((4/3)*PI()*(C28/2)^3)+(PI()*((C28/2)^2)*(B28-C28))) -> 0.61449993 | G28: =E28/F28 -> 5.9902944
A29: LE | B29: =1.044+0.98 -> 2.024 | C29: 1.113 | D29: =B29/C29 -> 1.8185085 | E29: =((4*PI()*(C29/2)^2)+((PI()*C29)*(B29-C29))) -> 7.0771035 | F29: =(((4/3)*PI()*(C29/2)^3)+(PI()*((C29/2)^2)*(B29-C29))) -> 1.6082482 | G29: =E29/F29 -> 4.4005046
A30: LE | B30: 2.894 | C30: 1.166 | D30: =B30/C30 -> 2.4819897 | E30: =((4*PI()*(C30/2)^2)+((PI()*C30)*(B30-C30))) -> 10.601003 | F30: =(((4/3)*PI()*(C30/2)^3)+(PI()*((C30/2)^2)*(B30-C30))) -> 2.6751769 | G30: =E30/F30 -> 3.9627297
A31: LE | B31: 2.34 | C31: 1.132 | D31: =B31/C31 -> 2.0671378 | E31: =((4*PI()*(C31/2)^2)+((PI()*C31)*(B31-C31))) -> 8.3217019 | F31: =(((4/3)*PI()*(C31/2)^3)+(PI()*((C31/2)^2)*(B31-C31))) -> 1.9752828 | G31: =E31/F31 -> 4.2129167
A32: LE | B32: 1.546 | C32: 1.319 | D32: =B32/C32 -> 1.1721001 | E32: =((4*PI()*(C32/2)^2)+((PI()*C32)*(B32-C32))) -> 6.4062541 | F32: =(((4/3)*PI()*(C32/2)^3)+(PI()*((C32/2)^2)*(B32-C32))) -> 1.5116995 | G32: =E32/F32 -> 4.2377827
A33: LE | B33: 1.617 | C33: 1.095 | D33: =B33/C33 -> 1.4767123 | E33: =((4*PI()*(C33/2)^2)+((PI()*C33)*(B33-C33))) -> 5.5625511 | F33: =(((4/3)*PI()*(C33/2)^3)+(PI()*((C33/2)^2)*(B33-C33))) -> 1.1790235 | G33: =E33/F33 -> 4.7179308
A34: LE | B34: 1.537 | C34: 0.98 | D34: =B34/C34 -> 1.5683673 | E34: =((4*PI()*(C34/2)^2)+((PI()*C34)*(B34-C34))) -> 4.7320554 | F34: =(((4/3)*PI()*(C34/2)^3)+(PI()*((C34/2)^2)*(B34-C34))) -> 0.91295007 | G34: =E34/F34 -> 5.1832575
A35: LE | B35: 2.585 | C35: 1.124 | D35: =B35/C35 -> 2.2998221 | E35: =((4*PI()*(C35/2)^2)+((PI()*C35)*(B35-C35))) -> 9.1280231 | F35: =(((4/3)*PI()*(C35/2)^3)+(PI()*((C35/2)^2)*(B35-C35))) -> 2.1932103 | G35: =E35/F35 -> 4.1619461
A36: LE | B36: 2.28 | C36: 1.275 | D36: =B36/C36 -> 1.7882353 | E36: =((4*PI()*(C36/2)^2)+((PI()*C36)*(B36-C36))) -> 9.1326098 | F36: =(((4/3)*PI()*(C36/2)^3)+(PI()*((C36/2)^2)*(B36-C36))) -> 2.3683952 | G36: =E36/F36 -> 3.856033
A37: LE | B37: 1.432 | C37: 1.195 | D37: =B37/C37 -> 1.1983264 | E37: =((4*PI()*(C37/2)^2)+((PI()*C37)*(B37-C37))) -> 5.376019 | F37: =(((4/3)*PI()*(C37/2)^3)+(PI()*((C37/2)^2)*(B37-C37))) -> 1.1593277 | G37: =E37/F37 -> 4.6371868
A38: LE | B38: 2.158 | C38: 1.264 | D38: =B38/C38 -> 1.7072785 | E38: =((4*PI()*(C38/2)^2)+((PI()*C38)*(B38-C38))) -> 8.56936 | F38: =(((4/3)*PI()*(C38/2)^3)+(PI()*((C38/2)^2)*(B38-C38))) -> 2.1792171 | G38: =E38/F38 -> 3.9323113
A39: LE | B39: 1.587 | C39: =(1.085+0.686)/2 -> 0.8855 | D39: =B39/C39 -> 1.7922078 | E39: =((4*PI()*(C39/2)^2)+((PI()*C39)*(B39-C39))) -> 4.414844 | F39: =(((4/3)*PI()*(C39/2)^3)+(PI()*((C39/2)^2)*(B39-C39))) -> 0.79556103 | G39: =E39/F39 -> 5.5493468
A40: LE | B40: 2.017 | C40: 1.146 | D40: =B40/C40 -> 1.7600349 | E40: =((4*PI()*(C40/2)^2)+((PI()*C40)*(B40-C40))) -> 7.2617349 | F40: =(((4/3)*PI()*(C40/2)^3)+(PI()*((C40/2)^2)*(B40-C40))) -> 1.6864632 | G40: =E40/F40 -> 4.3058958
A41: LE | B41: 1.655 | C41: 1.229 | D41: =B41/C41 -> 1.3466233 | E41: =((4*PI()*(C41/2)^2)+((PI()*C41)*(B41-C41))) -> 6.3899837 | F41: =(((4/3)*PI()*(C41/2)^3)+(PI()*((C41/2)^2)*(B41-C41))) -> 1.4773359 | G41: =E41/F41 -> 4.3253424
A42: LE | B42: 1.428 | C42: 0.903 | D42: =B42/C42 -> 1.5813953 | E42: =((4*PI()*(C42/2)^2)+((PI()*C42)*(B42-C42))) -> 4.0510335 | F42: =(((4/3)*PI()*(C42/2)^3)+(PI()*((C42/2)^2)*(B42-C42))) -> 0.72175416 | G42: =E42/F42 -> 5.6127608
A43: LE | B43: 1.66 | C43: 1.294 | D43: =B43/C43 -> 1.2828439 | E43: =((4*PI()*(C43/2)^2)+((PI()*C43)*(B43-C43))) -> 6.7482667 | F43: =(((4/3)*PI()*(C43/2)^3)+(PI()*((C43/2)^2)*(B43-C43))) -> 1.6158183 | G43: =E43/F43 -> 4.1763773
A44: LE | B44: 1.419 | C44: 1.093 | D44: =B44/C44 -> 1.2982617 | E44: =((4*PI()*(C44/2)^2)+((PI()*C44)*(B44-C44))) -> 4.8725065 | F44: =(((4/3)*PI()*(C44/2)^3)+(PI()*((C44/2)^2)*(B44-C44))) -> 0.9895675 | G44: =E44/F44 -> 4.9238748
A45: LE | B45: 1.933 | C45: 1.15 | D45: =B45/C45 -> 1.6808696 | E45: =((4*PI()*(C45/2)^2)+((PI()*C45)*(B45-C45))) -> 6.9836034 | F45: =(((4/3)*PI()*(C45/2)^3)+(PI()*((C45/2)^2)*(B45-C45))) -> 1.6096218 | G45: =E45/F45 -> 4.338661
A46: LE | B46: 1.403 | C46: 1.273 | D46: =B46/C46 -> 1.102121 | E46: =((4*PI()*(C46/2)^2)+((PI()*C46)*(B46-C46))) -> 5.6109442 | F46: =(((4/3)*PI()*(C46/2)^3)+(PI()*((C46/2)^2)*(B46-C46))) -> 1.2456083 | G46: =E46/F46 -> 4.5045816
A47: LE | B47: 1.749 | C47: 1.206 | D47: =B47/C47 -> 1.4502488 | E47: =((4*PI()*(C47/2)^2)+((PI()*C47)*(B47-C47))) -> 6.6265425 | F47: =(((4/3)*PI()*(C47/2)^3)+(PI()*((C47/2)^2)*(B47-C47))) -> 1.5386934 | G47: =E47/F47 -> 4.3066036
A48: LE | B48: 1.934 | C48: 1.097 | D48: =B48/C48 -> 1.76299 | E48: =((4*PI()*(C48/2)^2)+((PI()*C48)*(B48-C48))) -> 6.6651967 | F48: =(((4/3)*PI()*(C48/2)^3)+(PI()*((C48/2)^2)*(B48-C48))) -> 1.4823184 | G48: =E48/F48 -> 4.4964675
A49: LE | B49: 1.869 | C49: 1.341 | D49: =B49/C49 -> 1.393736 | E49: =((4*PI()*(C49/2)^2)+((PI()*C49)*(B49-C49))) -> 7.8738648 | F49: =(((4/3)*PI()*(C49/2)^3)+(PI()*((C49/2)^2)*(B49-C49))) -> 2.0083853 | G49: =E49/F49 -> 3.9204951
A50: LE | B50: 1.877 | C50: 1.147 | D50: =B50/C50 -> 1.6364429 | E50: =((4*PI()*(C50/2)^2)+((PI()*C50)*(B50-C50))) -> 6.7635945 | F50: =(((4/3)*PI()*(C50/2)^3)+(PI()*((C50/2)^2)*(B50-C50))) -> 1.5444045 | G50: =E50/F50 -> 4.379419
A51: LE | B51: 1.935 | C51: 1.173 | D51: =B51/C51 -> 1.6496164 | E51: =((4*PI()*(C51/2)^2)+((PI()*C51)*(B51-C51))) -> 7.1306456 | F51: =(((4/3)*PI()*(C51/2)^3)+(PI()*((C51/2)^2)*(B51-C51))) -> 1.6685269 | G51: =E51/F51 -> 4.2736175
... A56: LE | B56: 1.419 | C56: 1.329 | D56: =B56/C56 -> 1.0677201 | E56: =((4*PI()*(C56/2)^2)+((PI()*C56)*(B56-C56))) -> 5.9245756 | F56: =(((4/3)*PI()*(C56/2)^3)+(PI()*((C56/2)^2)*(B56-C56))) -> 1.3539096 | G56: =E56/F56 -> 4.375902
A57: LE | B57: 1.688 | C57: =(1.122+0.537)/2 -> 0.8295 | D57: =B57/C57 -> 2.0349608 | E57: =((4*PI()*(C57/2)^2)+((PI()*C57)*(B57-C57))) -> 4.3988455 | F57: =(((4/3)*PI()*(C57/2)^3)+(PI()*((C57/2)^2)*(B57-C57))) -> 0.76278746 | G57: =E57/F57 -> 5.7668036
A58: LE | B58: 2.353 | C58: 1.287 | D58: =B58/C58 -> 1.8282828 | E58: =((4*PI()*(C58/2)^2)+((PI()*C58)*(B58-C58))) -> 9.5137196 | F58: =(((4/3)*PI()*(C58/2)^3)+(PI()*((C58/2)^2)*(B58-C58))) -> 2.5029492 | G58: =E58/F58 -> 3.8010038
A59: LE | B59: 2.052 | C59: 1.129 | D59: =B59/C59 -> 1.8175376 | E59: =((4*PI()*(C59/2)^2)+((PI()*C59)*(B59-C59))) -> 7.2781528 | F59: =(((4/3)*PI()*(C59/2)^3)+(PI()*((C59/2)^2)*(B59-C59))) -> 1.6775111 | G59: =E59/F59 -> 4.3386616
A60: LE | B60: 1.948 | C60: 1.196 | D60: =B60/C60 -> 1.6287625 | E60: =((4*PI()*(C60/2)^2)+((PI()*C60)*(B60-C60))) -> 7.3193077 | F60: =(((4/3)*PI()*(C60/2)^3)+(PI()*((C60/2)^2)*(B60-C60))) -> 1.7405925 | G60: =E60/F60 -> 4.2050668
A61: LE | B61: 2.186 | C61: 1.172 | D61: =B61/C61 -> 1.8651877 | E61: =((4*PI()*(C61/2)^2)+((PI()*C61)*(B61-C61))) -> 8.0487352 | F61: =(((4/3)*PI()*(C61/2)^3)+(PI()*((C61/2)^2)*(B61-C61))) -> 1.9368242 | G61: =E61/F61 -> 4.1556355
A62: LE | B62: 1.579 | C62: 0.978 | D62: =B62/C62 -> 1.6145194 | E62: =((4*PI()*(C62/2)^2)+((PI()*C62)*(B62-C62))) -> 4.8514422 | F62: =(((4/3)*PI()*(C62/2)^3)+(PI()*((C62/2)^2)*(B62-C62))) -> 0.94127963 | G62: =E62/F62 -> 5.1540923
A63: LE | B63: 1.349 | C63: =(1.206+0.81)/2 -> 1.008 | D63: =B63/C63 -> 1.3382937 | E63: =((4*PI()*(C63/2)^2)+((PI()*C63)*(B63-C63))) -> 4.2719126 | F63: =(((4/3)*PI()*(C63/2)^3)+(PI()*((C63/2)^2)*(B63-C63))) -> 0.80838899 | G63: =E63/F63 -> 5.2844764
A64: LE | B64: 1.917 | C64: 1.195 | D64: =B64/C64 -> 1.6041841 | E64: =((4*PI()*(C64/2)^2)+((PI()*C64)*(B64-C64))) -> 7.1968076 | F64: =(((4/3)*PI()*(C64/2)^3)+(PI()*((C64/2)^2)*(B64-C64))) -> 1.7032883 | G64: =E64/F64 -> 4.2252435
A65: LE | B65: 1.551 | C65: 1.225 | D65: =B65/C65 -> 1.2661224 | E65: =((4*PI()*(C65/2)^2)+((PI()*C65)*(B65-C65))) -> 5.9689475 | F65: =(((4/3)*PI()*(C65/2)^3)+(PI()*((C65/2)^2)*(B65-C65))) -> 1.3467334 | G65: =E65/F65 -> 4.4321673
A66: LE | B66: 2.001 | C66: 1.122 | D66: =B66/C66 -> 1.7834225 | E66: =((4*PI()*(C66/2)^2)+((PI()*C66)*(B66-C66))) -> 7.0532588 | F66: =(((4/3)*PI()*(C66/2)^3)+(PI()*((C66/2)^2)*(B66-C66))) -> 1.6086559 | G66: =E66/F66 -> 4.3845666
A67: LE | B67: 1.387 | C67: 0.818 | D67: =B67/C67 -> 1.695599 | E67: =((4*PI()*(C67/2)^2)+((PI()*C67)*(B67-C67))) -> 3.5643442 | F67: =(((4/3)*PI()*(C67/2)^3)+(PI()*((C67/2)^2)*(B67-C67))) -> 0.58561422 | G67: =E67/F67 -> 6.0865056
A68: LE | B68: 2.405 | C68: 1.068 | D68: =B68/C68 -> 2.2518727 | E68: =((4*PI()*(C68/2)^2)+((PI()*C68)*(B68-C68))) -> 8.0693064 | F68: =(((4/3)*PI()*(C68/2)^3)+(PI()*((C68/2)^2)*(B68-C68))) -> 1.8355843 | G68: =E68/F68 -> 4.3960423
A69: LE | B69: 2.008 | C69: 1.173 | D69: =B69/C69 -> 1.71185 | E69: =((4*PI()*(C69/2)^2)+((PI()*C69)*(B69-C69))) -> 7.3996571 | F69: =(((4/3)*PI()*(C69/2)^3)+(PI()*((C69/2)^2)*(B69-C69))) -> 1.7474145 | G69: =E69/F69 -> 4.2346319
A70: LE | B70: 1.472 | C70: 1.152 | D70: =B70/C70 -> 1.2777778 | E70: =((4*PI()*(C70/2)^2)+((PI()*C70)*(B70-C70))) -> 5.3273369 | F70: =(((4/3)*PI()*(C70/2)^3)+(PI()*((C70/2)^2)*(B70-C70))) -> 1.1340279 | G70: =E70/F70 -> 4.6977124
A71: LE | B71: 1.847 | C71: 1.329 | D71: =B71/C71 -> 1.3897667 | E71: =((4*PI()*(C71/2)^2)+((PI()*C71)*(B71-C71))) -> 7.7115512 | F71: =(((4/3)*PI()*(C71/2)^3)+(PI()*((C71/2)^2)*(B71-C71))) -> 1.9476322 | G71: =E71/F71 -> 3.9594494
A72: LE | B72: 1.753 | C72: 1.221 | D72: =B72/C72 -> 1.4357084 | E72: =((4*PI()*(C72/2)^2)+((PI()*C72)*(B72-C72))) -> 6.7243058 | F72: =(((4/3)*PI()*(C72/2)^3)+(PI()*((C72/2)^2)*(B72-C72))) -> 1.5760365 | G72: =E72/F72 -> 4.2665927
A73: LE | B73: 1.715 | C73: 1.165 | D73: =B73/C73 -> 1.472103 | E73: =((4*PI()*(C73/2)^2)+((PI()*C73)*(B73-C73))) -> 6.2768236 | F73: =(((4/3)*PI()*(C73/2)^3)+(PI()*((C73/2)^2)*(B73-C73))) -> 1.4141763 | G73: =E73/F73 -> 4.4385015
A74: LE | B74: 1.639 | C74: 1.242 | D74: =B74/C74 -> 1.3196457 | E74: =((4*PI()*(C74/2)^2)+((PI()*C74)*(B74-C74))) -> 6.3951454 | F74: =(((4/3)*PI()*(C74/2)^3)+(PI()*((C74/2)^2)*(B74-C74))) -> 1.4841205 | G74: =E74/F74 -> 4.3090473
A75: LE | B75: 1.629 | C75: 0.823 | D75: =B75/C75 -> 1.9793439 | E75: =((4*PI()*(C75/2)^2)+((PI()*C75)*(B75-C75))) -> 4.2118296 | F75: =(((4/3)*PI()*(C75/2)^3)+(PI()*((C75/2)^2)*(B75-C75))) -> 0.72064603 | G75: =E75/F75 -> 5.8445193
A76: LE | B76: 2.295 | C76: 1.165 | D76: =B76/C76 -> 1.9699571 | E76: =((4*PI()*(C76/2)^2)+((PI()*C76)*(B76-C76))) -> 8.3995977 | F76: =(((4/3)*PI()*(C76/2)^3)+(PI()*((C76/2)^2)*(B76-C76))) -> 2.0324343 | G76: =E76/F76 -> 4.1327771
A105: Count | B105: =COUNT(B2:B95) -> 75 | C105: =COUNT(C2:C95) -> 75 | D105: =COUNT(D2:D95) -> 75 | E105: =COUNT(E2:E95) -> 75 | F105: =COUNT(F2:F95) -> 75 | G105: =COUNT(G2:G95) -> 75
A106: Average | B106: =AVERAGE(B2:B95) -> 1.838032 | C106: =AVERAGE(C2:C95) -> 1.1469067 | D106: =AVERAGE(D2:D95) -> 1.6184703 | E106: =AVERAGE(E2:E95) -> 6.6467176 | F106: =AVERAGE(F2:F95) -> 1.5249068 | G106: =AVERAGE(G2:G95) -> 4.5248758
A107: Standard Dev. | B107: =_xlfn.STDEV.S(B2:B95) -> 0.39193708 | C107: =_xlfn.STDEV.S(C2:C95) -> 0.13164602 | D107: =_xlfn.STDEV.S(D2:D95) -> 0.36218875 | E107: =_xlfn.STDEV.S(E2:E95) -> 1.6569296 | F107: =_xlfn.STDEV.S(F2:F95) -> 0.5069194 | G107: =_xlfn.STDEV.S(G2:G95) -> 0.56677445

Sheet G1 LE1 (2) 10091418
A1: Nutrient | B1: Length (mm) | C1: Width (mm) | D1: Length/Width | E1: Surface Area (µm^2) | F1: Volume (µm^3) | G1: SA/V (1/µm)
A2: LE | B2: 1.561 | C2: 1.106 | D2: =B2/C2 -> 1.4113924 | E2: =((4*PI()*(C2/2)^2)+((PI()*C2)*(B2-C2))) -> 5.4238529 | F2: =(((4/3)*PI()*(C2/2)^3)+(PI()*((C2/2)^2)*(B2-C2))) -> 1.1455072 | G2: =E2/F2 -> 4.734892
A3: LE | B3: 2.488 | C3: 1.285 | D3: =B3/C3 -> 1.9361868 | E3: =((4*PI()*(C3/2)^2)+((PI()*C3)*(B3-C3))) -> 10.043923 | F3: =(((4/3)*PI()*(C3/2)^3)+(PI()*((C3/2)^2)*(B3-C3))) -> 2.671118 | G3: =E3/F3 -> 3.7601944
A4: LE | B4: 1.564 | C4: 1.147 | D4: =B4/C4 -> 1.3635571 | E4: =((4*PI()*(C4/2)^2)+((PI()*C4)*(B4-C4))) -> 5.6357282 | F4: =(((4/3)*PI()*(C4/2)^3)+(PI()*((C4/2)^2)*(B4-C4))) -> 1.2209889 | G4: =E4/F4 -> 4.6157081
A5: LE | B5: 1.986 | C5: 1.16 | D5: =B5/C5 -> 1.712069 | E5: =((4*PI()*(C5/2)^2)+((PI()*C5)*(B5-C5))) -> 7.2374755 | F5: =(((4/3)*PI()*(C5/2)^3)+(PI()*((C5/2)^2)*(B5-C5))) -> 1.6902263 | G5: =E5/F5 -> 4.2819566
A6: LE | B6: 2.908 | C6: 1.131 | D6: =B6/C6 -> 2.571176 | E6: =((4*PI()*(C6/2)^2)+((PI()*C6)*(B6-C6))) -> 10.332535 | F6: =(((4/3)*PI()*(C6/2)^3)+(PI()*((C6/2)^2)*(B6-C6))) -> 2.5427709 | G6: =E6/F6 -> 4.0634942
A7: LE | B7: 1.561 | C7: 1.198 | D7: =B7/C7 -> 1.303005 | E7: =((4*PI()*(C7/2)^2)+((PI()*C7)*(B7-C7))) -> 5.8750233 | F7: =(((4/3)*PI()*(C7/2)^3)+(PI()*((C7/2)^2)*(B7-C7))) -> 1.3094383 | G7: =E7/F7 -> 4.4866743
A8: LE | B8: 1.791 | C8: 1.319 | D8: =B8/C8 -> 1.3578469 | E8: =((4*PI()*(C8/2)^2)+((PI()*C8)*(B8-C8))) -> 7.4214754 | F8: =(((4/3)*PI()*(C8/2)^3)+(PI()*((C8/2)^2)*(B8-C8))) -> 1.8464688 | G8: =E8/F8 -> 4.0192803
A9: LE | B9: 1.748 | C9: 1.219 | D9: =B9/C9 -> 1.4339623 | E9: =((4*PI()*(C9/2)^2)+((PI()*C9)*(B9-C9))) -> 6.6941433 | F9: =(((4/3)*PI()*(C9/2)^3)+(PI()*((C9/2)^2)*(B9-C9))) -> 1.5658203 | G9: =E9/F9 -> 4.275167
A10: LE | B10: 1.37 | C10: 1.155 | D10: =B10/C10 -> 1.1861472 | E10: =((4*PI()*(C10/2)^2)+((PI()*C10)*(B10-C10))) -> 4.9710991 | F10: =(((4/3)*PI()*(C10/2)^3)+(PI()*((C10/2)^2)*(B10-C10))) -> 1.0320247 | G10: =E10/F10 -> 4.8168414
A11: LE | B11: 1.422 | C11: 0.919 | D11: =B11/C11 -> 1.5473341 | E11: =((4*PI()*(C11/2)^2)+((PI()*C11)*(B11-C11))) -> 4.1054898 | F11: =(((4/3)*PI()*(C11/2)^3)+(PI()*((C11/2)^2)*(B11-C11))) -> 0.74004029 | G11: =E11/F11 -> 5.5476572
A12: LE | B12: 1.365 | C12: 1.384 | D12: =B12/C12 -> 0.98627168 | E12: =((4*PI()*(C12/2)^2)+((PI()*C12)*(B12-C12))) -> 5.9349712 | F12: =(((4/3)*PI()*(C12/2)^3)+(PI()*((C12/2)^2)*(B12-C12))) -> 1.3594722 | G12: =E12/F12 -> 4.3656437
A13: LE | B13: 1.668 | C13: 1.165 | D13: =B13/C13 -> 1.4317597 | E13: =((4*PI()*(C13/2)^2)+((PI()*C13)*(B13-C13))) -> 6.1048057 | F13: =(((4/3)*PI()*(C13/2)^3)+(PI()*((C13/2)^2)*(B13-C13))) -> 1.3640761 | G13: =E13/F13 -> 4.4754144
... A76: LE | B76: 2.68 | C76: 1.054 | D76: =B76/C76 -> 2.5426945 | E76: =((4*PI()*(C76/2)^2)+((PI()*C76)*(B76-C76))) -> 8.8741196 | F76: =(((4/3)*PI()*(C76/2)^3)+(PI()*((C76/2)^2)*(B76-C76))) -> 2.0317882 | G76: =E76/F76 -> 4.3676401
A105: Count | B105: =COUNT(B2:B104) -> 75 | C105: =COUNT(C2:C104) -> 75 | D105: =COUNT(D2:D104) -> 75 | E105: =COUNT(E2:E104) -> 75 | F105: =COUNT(F2:F104) -> 75 | G105: =COUNT(G2:G104) -> 75
A106: Average | B106: =AVERAGE(B2:B104) -> 1.7672133 | C106: =AVERAGE(C2:C104) -> 1.1353333 | D106: =AVERAGE(D2:D104) -> 1.5756497 | E106: =AVERAGE(E2:E104) -> 6.3013026 | F106: =AVERAGE(F2:F104) -> 1.4118652 | G106: =AVERAGE(G2:G104) -> 4.6061192
A107: Standard Dev. | B107: =_xlfn.STDEV.S(B2:B104) -> 0.41073695 | C107: =_xlfn.STDEV.S(C2:C104) -> 0.12367441 | D107: =_xlfn.STDEV.S(D2:D104) -> 0.41427151 | E107: =_xlfn.STDEV.S(E2:E104) -> 1.5784621 | F107: =_xlfn.STDEV.S(F2:F104) -> 0.47762969 | G107: =_xlfn.STDEV.S(G2:G104) -> 0.48088779

Sheet G1 LE2 09291453
A1: Nutrient | B1: Length (mm) | C1: Width (mm) | D1: Length/Width | E1: Surface Area (µm^2) | F1: Volume (µm^3) | G1: SA/V (1/µm)
A2: LE | B2: 1.825 | C2: 1.063 | D2: =B2/C2 -> 1.7168391 | E2: =((4*PI()*(C2/2)^2)+((PI()*C2)*(B2-C2))) -> 6.0946112 | F2: =(((4/3)*PI()*(C2/2)^3)+(PI()*((C2/2)^2)*(B2-C2))) -> 1.3051807 | G2: =E2/F2 -> 4.6695534
A3: LE | B3: 1.41 | C3: 1.277 | D3: =B3/C3 -> 1.1041504 | E3: =((4*PI()*(C3/2)^2)+((PI()*C3)*(B3-C3))) -> 5.6566575 | F3: =(((4/3)*PI()*(C3/2)^3)+(PI()*((C3/2)^2)*(B3-C3))) -> 1.2607061 | G3: =E3/F3 -> 4.4868961
A4: LE | B4: 2.047 | C4: 1.089 | D4: =B4/C4 -> 1.8797062 | E4: =((4*PI()*(C4/2)^2)+((PI()*C4)*(B4-C4))) -> 7.0031849 | F4: =(((4/3)*PI()*(C4/2)^3)+(PI()*((C4/2)^2)*(B4-C4))) -> 1.5685116 | G4: =E4/F4 -> 4.4648602
A5: LE | B5: 2.225 | C5: 1.105 | D5: =B5/C5 -> 2.0135747 | E5: =((4*PI()*(C5/2)^2)+((PI()*C5)*(B5-C5))) -> 7.7239982 | F5: =(((4/3)*PI()*(C5/2)^3)+(PI()*((C5/2)^2)*(B5-C5))) -> 1.7805262 | G5: =E5/F5 -> 4.3380424
A6: LE | B6: 2.592 | C6: 1.209 | D6: =B6/C6 -> 2.1439206 | E6: =((4*PI()*(C6/2)^2)+((PI()*C6)*(B6-C6))) -> 9.8448969 | F6: =(((4/3)*PI()*(C6/2)^3)+(PI()*((C6/2)^2)*(B6-C6))) -> 2.5129754 | G6: =E6/F6 -> 3.9176256
A7: LE | B7: 2.437 | C7: 1.366 | D7: =B7/C7 -> 1.784041 | E7: =((4*PI()*(C7/2)^2)+((PI()*C7)*(B7-C7))) -> 10.45818 | F7: =(((4/3)*PI()*(C7/2)^3)+(PI()*((C7/2)^2)*(B7-C7))) -> 2.904169 | G7: =E7/F7 -> 3.601092
A8: LE | B8: 2.398 | C8: =(1.341+1.124)/2 -> 1.2325 | D8: =B8/C8 -> 1.9456389 | E8: =((4*PI()*(C8/2)^2)+((PI()*C8)*(B8-C8))) -> 9.285087 | F8: =(((4/3)*PI()*(C8/2)^3)+(PI()*((C8/2)^2)*(B8-C8))) -> 2.370817 | G8: =E8/F8 -> 3.9164082
A9: LE | B9: 2.66 | C9: 1.168 | D9: =B9/C9 -> 2.2773973 | E9: =((4*PI()*(C9/2)^2)+((PI()*C9)*(B9-C9))) -> 9.7605514 | F9: =(((4/3)*PI()*(C9/2)^3)+(PI()*((C9/2)^2)*(B9-C9))) -> 2.4329263 | G9: =E9/F9 -> 4.0118566
A10: LE | B10: 1.759 | C10: 1.17 | D10: =B10/C10 -> 1.5034188 | E10: =((4*PI()*(C10/2)^2)+((PI()*C10)*(B10-C10))) -> 6.4654919 | F10: =(((4/3)*PI()*(C10/2)^3)+(PI()*((C10/2)^2)*(B10-C10))) -> 1.4718551 | G10: =E10/F10 -> 4.3927503
A11: LE | B11: 1.69 | C11: 1.237 | D11: =B11/C11 -> 1.3662086 | E11: =((4*PI()*(C11/2)^2)+((PI()*C11)*(B11-C11))) -> 6.5675937 | F11: =(((4/3)*PI()*(C11/2)^3)+(PI()*((C11/2)^2)*(B11-C11))) -> 1.5354895 | G11: =E11/F11 -> 4.2771988
A12: LE | B12: 1.739 | C12: 0.963 | D12: =B12/C12 -> 1.8058152 | E12: =((4*PI()*(C12/2)^2)+((PI()*C12)*(B12-C12))) -> 5.2610901 | F12: =(((4/3)*PI()*(C12/2)^3)+(PI()*((C12/2)^2)*(B12-C12))) -> 1.0328058 | G12: =E12/F12 -> 5.0939779
A13: LE | B13: 1.255 | C13: 1.107 | D13: =B13/C13 -> 1.1336947 | E13: =((4*PI()*(C13/2)^2)+((PI()*C13)*(B13-C13))) -> 4.3645675 | F13: =(((4/3)*PI()*(C13/2)^3)+(PI()*((C13/2)^2)*(B13-C13))) -> 0.85274434 | G13: =E13/F13 -> 5.1182604
A14: LE | B14: 1.972 | C14: =(1.156+1.067)/2 -> 1.1115 | D14: =B14/C14 -> 1.774179 | E14: =((4*PI()*(C14/2)^2)+((PI()*C14)*(B14-C14))) -> 6.8859878 | F14: =(((4/3)*PI()*(C14/2)^3)+(PI()*((C14/2)^2)*(B14-C14))) -> 1.5539454 | G14: =E14/F14 -> 4.4312933
A15: LE | B15: 1.425 | C15: 0.873 | D15: =B15/C15 -> 1.6323024 | E15: =((4*PI()*(C15/2)^2)+((PI()*C15)*(B15-C15))) -> 3.9082198 | F15: =(((4/3)*PI()*(C15/2)^3)+(PI()*((C15/2)^2)*(B15-C15))) -> 0.67878373 | G15: =E15/F15 -> 5.7576804
A16: LE | B16: 2.497 | C16: =(1.309+1.04)/2 -> 1.1745 | D16: =B16/C16 -> 2.1260111 | E16: =((4*PI()*(C16/2)^2)+((PI()*C16)*(B16-C16))) -> 9.213432 | F16: =(((4/3)*PI()*(C16/2)^3)+(PI()*((C16/2)^2)*(B16-C16))) -> 2.281136 | G16: =E16/F16 -> 4.0389666
A17: LE | B17: 1.779 | C17: 0.797 | D17: =B17/C17 -> 2.2321205 | E17: =((4*PI()*(C17/2)^2)+((PI()*C17)*(B17-C17))) -> 4.454348 | F17: =(((4/3)*PI()*(C17/2)^3)+(PI()*((C17/2)^2)*(B17-C17))) -> 0.75498987 | G17: =E17/F17 -> 5.8998778
A18: LE | B18: 1.617 | C18: 0.857 | D18: =B18/C18 -> 1.8868145 | E18: =((4*PI()*(C18/2)^2)+((PI()*C18)*(B18-C18))) -> 4.3535217 | F18: =(((4/3)*PI()*(C18/2)^3)+(PI()*((C18/2)^2)*(B18-C18))) -> 0.76795952 | G18: =E18/F18 -> 5.6689468
A19: LE | B19: 1.542 | C19: 0.88 | D19: =B19/C19 -> 1.7522727 | E19: =((4*PI()*(C19/2)^2)+((PI()*C19)*(B19-C19))) -> 4.2630156 | F19: =(((4/3)*PI()*(C19/2)^3)+(PI()*((C19/2)^2)*(B19-C19))) -> 0.75945447 | G19: =E19/F19 -> 5.6132602
A20: LE | B20: 2.08 | C20: 1.223 | D20: =B20/C20 -> 1.7007359 | E20: =((4*PI()*(C20/2)^2)+((PI()*C20)*(B20-C20))) -> 7.9917091 | F20: =(((4/3)*PI()*(C20/2)^3)+(PI()*((C20/2)^2)*(B20-C20))) -> 1.9645616 | G20: =E20/F20 -> 4.0679352
A21: LE | B21: 1.645 | C21: 1.058 | D21: =B21/C21 -> 1.5548204 | E21: =((4*PI()*(C21/2)^2)+((PI()*C21)*(B21-C21))) -> 5.4676593 | F21: =(((4/3)*PI()*(C21/2)^3)+(PI()*((C21/2)^2)*(B21-C21))) -> 1.1361502 | G21: =E21/F21 -> 4.8124439
A22: LE | B22: 1.093 | C22: 0.847 | D22: =B22/C22 -> 1.2904368 | E22: =((4*PI()*(C22/2)^2)+((PI()*C22)*(B22-C22))) -> 2.9083954 | F22: =(((4/3)*PI()*(C22/2)^3)+(PI()*((C22/2)^2)*(B22-C22))) -> 0.45677152 | G22: =E22/F22 -> 6.367287
A23: LE | B23: 2.339 | C23: 1.298 | D23: =B23/C23 -> 1.8020031 | E23: =((4*PI()*(C23/2)^2)+((PI()*C23)*(B23-C23))) -> 9.5379444 | F23: =(((4/3)*PI()*(C23/2)^3)+(PI()*((C23/2)^2)*(B23-C23))) -> 2.5225403 | G23: =E23/F23 -> 3.7810871
A24: LE | B24: 1.332 | C24: 1.224 | D24: =B24/C24 -> 1.0882353 | E24: =((4*PI()*(C24/2)^2)+((PI()*C24)*(B24-C24))) -> 5.1219521 | F24: =(((4/3)*PI()*(C24/2)^3)+(PI()*((C24/2)^2)*(B24-C24))) -> 1.0872382 | G24: =E24/F24 -> 4.7109753
A25: LE | B25: 1.749 | C25: 1.166 | D25: =B25/C25 -> 1.5 | E25: =((4*PI()*(C25/2)^2)+((PI()*C25)*(B25-C25))) -> 6.4067567 | F25: =(((4/3)*PI()*(C25/2)^3)+(PI()*((C25/2)^2)*(B25-C25))) -> 1.4525541 | G25: =E25/F25 -> 4.4106837
A26: LE | B26: 1.497 | C26: 1.31 | D26: =B26/C26 -> 1.1427481 | E26: =((4*PI()*(C26/2)^2)+((PI()*C26)*(B26-C26))) -> 6.1608831 | F26: =(((4/3)*PI()*(C26/2)^3)+(PI()*((C26/2)^2)*(B26-C26))) -> 1.4291404 | G26: =E26/F26 -> 4.3109013
A27: LE | B27: 2.195 | C27: 1.056 | D27: =B27/C27 -> 2.0785985 | E27: =((4*PI()*(C27/2)^2)+((PI()*C27)*(B27-C27))) -> 7.2819604 | F27: =(((4/3)*PI()*(C27/2)^3)+(PI()*((C27/2)^2)*(B27-C27))) -> 1.6141469 | G27: =E27/F27 -> 4.5113369
A28: LE | B28: 1.614 | C28: 1.185 | D28: =B28/C28 -> 1.3620253 | E28: =((4*PI()*(C28/2)^2)+((PI()*C28)*(B28-C28))) -> 6.0085787 | F28: =(((4/3)*PI()*(C28/2)^3)+(PI()*((C28/2)^2)*(B28-C28))) -> 1.3444055 | G28: =E28/F28 -> 4.4693202
... A71: LE | B71: 2.74 | C71: 0.985 | D71: =B71/C71 -> 2.7817259 | E71: =((4*PI()*(C71/2)^2)+((PI()*C71)*(B71-C71))) -> 8.4788444 | F71: =(((4/3)*PI()*(C71/2)^3)+(PI()*((C71/2)^2)*(B71-C71))) -> 1.8377212 | G71: =E71/F71 -> 4.6137817
A72: LE | B72: 1.484 | C72: =(1.154+0.655)/2 -> 0.9045 | D72: =B72/C72 -> 1.6406855 | E72: =((4*PI()*(C72/2)^2)+((PI()*C72)*(B72-C72))) -> 4.2168907 | F72: =(((4/3)*PI()*(C72/2)^3)+(PI()*((C72/2)^2)*(B72-C72))) -> 0.75981554 | G72: =E72/F72 -> 5.5498874
A73: LE | B73: 1.459 | C73: 0.989 | D73: =B73/C73 -> 1.4752275 | E73: =((4*PI()*(C73/2)^2)+((PI()*C73)*(B73-C73))) -> 4.5331643 | F73: =(((4/3)*PI()*(C73/2)^3)+(PI()*((C73/2)^2)*(B73-C73))) -> 0.86757017 | G73: =E73/F73 -> 5.2251269
A74: LE | B74: 1.38 | C74: 1.142 | D74: =B74/C74 -> 1.2084063 | E74: =((4*PI()*(C74/2)^2)+((PI()*C74)*(B74-C74))) -> 4.9510244 | F74: =(((4/3)*PI()*(C74/2)^3)+(PI()*((C74/2)^2)*(B74-C74))) -> 1.0236052 | G74: =E74/F74 -> 4.8368498
A75: LE | B75: 1.368 | C75: 1.209 | D75: =B75/C75 -> 1.1315136 | E75: =((4*PI()*(C75/2)^2)+((PI()*C75)*(B75-C75))) -> 5.1959178 | F75: =(((4/3)*PI()*(C75/2)^3)+(PI()*((C75/2)^2)*(B75-C75))) -> 1.1078215 | G75: =E75/F75 -> 4.690212
A76: LE | B76: 1.447 | C76: 1.004 | D76: =B76/C76 -> 1.4412351 | E76: =((4*PI()*(C76/2)^2)+((PI()*C76)*(B76-C76))) -> 4.5640681 | F76: =(((4/3)*PI()*(C76/2)^3)+(PI()*((C76/2)^2)*(B76-C76))) -> 0.88062753 | G76: =E76/F76 -> 5.1827452
A105: Count | B105: =COUNT(B2:B101) -> 75 | C105: =COUNT(C2:C101) -> 75 | D105: =COUNT(D2:D101) -> 75 | E105: =COUNT(E2:E101) -> 75 | F105: =COUNT(F2:F101) -> 75 | G105: =COUNT(G2:G101) -> 75
A106: Average | B106: =AVERAGE(B2:B101) -> 1.78024 | C106: =AVERAGE(C2:C101) -> 1.0841467 | D106: =AVERAGE(D2:D101) -> 1.6534097 | E106: =AVERAGE(E2:E101) -> 6.135387 | F106: =AVERAGE(F2:F101) -> 1.3586993 | G106: =AVERAGE(G2:G101) -> 4.7886143
A107: Standard Dev. | B107: =_xlfn.STDEV.S(B2:B101) -> 0.4419227 | C107: =_xlfn.STDEV.S(C2:C101) -> 0.14544588 | D107: =_xlfn.STDEV.S(D2:D101) -> 0.38426867 | E107: =_xlfn.STDEV.S(E2:E101) -> 1.9562799 | F107: =_xlfn.STDEV.S(F2:F101) -> 0.59721716 | G107: =_xlfn.STDEV.S(G2:G101) -> 0.73182396

Sheet G1 LE4 10041045
A1: Nutrient | B1: Length (mm) | C1: Width (mm) | D1: Length/Width | E1: Surface Area (µm^2) | F1: Volume (µm^3) | G1: SA/V (1/µm)
A2: LE | B2: 1.356 | C2: 1.281 | D2: =B2/C2 -> 1.058548 | E2: =((4*PI()*(C2/2)^2)+((PI()*C2)*(B2-C2))) -> 5.4570595 | F2: =(((4/3)*PI()*(C2/2)^3)+(PI()*((C2/2)^2)*(B2-C2))) -> 1.1973024 | G2: =E2/F2 -> 4.5577955
A3: LE | B3: 1.379 | C3: 1.007 | D3: =B3/C3 -> 1.3694141 | E3: =((4*PI()*(C3/2)^2)+((PI()*C3)*(B3-C3))) -> 4.3625821 | F3: =(((4/3)*PI()*(C3/2)^3)+(PI()*((C3/2)^2)*(B3-C3))) -> 0.83094429 | G3: =E3/F3 -> 5.2501499
A4: LE | B4: 1.718 | C4: 1.09 | D4: =B4/C4 -> 1.5761468 | E4: =((4*PI()*(C4/2)^2)+((PI()*C4)*(B4-C4))) -> 5.8830092 | F4: =(((4/3)*PI()*(C4/2)^3)+(PI()*((C4/2)^2)*(B4-C4))) -> 1.2640822 | G4: =E4/F4 -> 4.6539767
A5: LE | B5: 1.964 | C5: 1.112 | D5: =B5/C5 -> 1.7661871 | E5: =((4*PI()*(C5/2)^2)+((PI()*C5)*(B5-C5))) -> 6.8611378 | F5: =(((4/3)*PI()*(C5/2)^3)+(PI()*((C5/2)^2)*(B5-C5))) -> 1.5474125 | G5: =E5/F5 -> 4.4339424
A6: LE | B6: 1.435 | C6: 1.176 | D6: =B6/C6 -> 1.2202381 | E6: =((4*PI()*(C6/2)^2)+((PI()*C6)*(B6-C6))) -> 5.3016261 | F6: =(((4/3)*PI()*(C6/2)^3)+(PI()*((C6/2)^2)*(B6-C6))) -> 1.1328928 | G6: =E6/F6 -> 4.6797242
A7: LE | B7: 1.334 | C7: 0.967 | D7: =B7/C7 -> 1.3795243 | E7: =((4*PI()*(C7/2)^2)+((PI()*C7)*(B7-C7))) -> 4.0525854 | F7: =(((4/3)*PI()*(C7/2)^3)+(PI()*((C7/2)^2)*(B7-C7))) -> 0.74298538 | G7: =E7/F7 -> 5.4544618
A8: LE | B8: 1.724 | C8: 1.149 | D8: =B8/C8 -> 1.5004352 | E8: =((4*PI()*(C8/2)^2)+((PI()*C8)*(B8-C8))) -> 6.2231055 | F8: =(((4/3)*PI()*(C8/2)^3)+(PI()*((C8/2)^2)*(B8-C8))) -> 1.3904607 | G8: =E8/F8 -> 4.475571
A9: LE | B9: 1.912 | C9: 1.251 | D9: =B9/C9 -> 1.5283773 | E9: =((4*PI()*(C9/2)^2)+((PI()*C9)*(B9-C9))) -> 7.5144132 | F9: =(((4/3)*PI()*(C9/2)^3)+(PI()*((C9/2)^2)*(B9-C9))) -> 1.8375776 | G9: =E9/F9 -> 4.0893038
A10: LE | B10: 1.616 | C10: 1.234 | D10: =B10/C10 -> 1.3095624 | E10: =((4*PI()*(C10/2)^2)+((PI()*C10)*(B10-C10))) -> 6.2647881 | F10: =(((4/3)*PI()*(C10/2)^3)+(PI()*((C10/2)^2)*(B10-C10))) -> 1.4407449 | G10: =E10/F10 -> 4.3482979
A11: LE | B11: 1.617 | C11: 1.12 | D11: =B11/C11 -> 1.44375 | E11: =((4*PI()*(C11/2)^2)+((PI()*C11)*(B11-C11))) -> 5.68955 | F11: =(((4/3)*PI()*(C11/2)^3)+(PI()*((C11/2)^2)*(B11-C11))) -> 1.2252647 | G11: =E11/F11 -> 4.6435272
A12: LE | B12: 1.876 | C12: 0.964 | D12: =B12/C12 -> 1.9460581 | E12: =((4*PI()*(C12/2)^2)+((PI()*C12)*(B12-C12))) -> 5.6814572 | F12: =(((4/3)*PI()*(C12/2)^3)+(PI()*((C12/2)^2)*(B12-C12))) -> 1.1347005 | G12: =E12/F12 -> 5.0070105
A13: LE | B13: 1.393 | C13: 1.115 | D13: =B13/C13 -> 1.2493274 | E13: =((4*PI()*(C13/2)^2)+((PI()*C13)*(B13-C13))) -> 4.879506 | F13: =(((4/3)*PI()*(C13/2)^3)+(PI()*((C13/2)^2)*(B13-C13))) -> 0.99725707 | G13: =E13/F13 -> 4.892927
... A33: LE | B33: 1.742 | C33: 0.888 | D33: =B33/C33 -> 1.9617117 | E33: =((4*PI()*(C33/2)^2)+((PI()*C33)*(B33-C33))) -> 4.8597171 | F33: =(((4/3)*PI()*(C33/2)^3)+(PI()*((C33/2)^2)*(B33-C33))) -> 0.89553818 | G33: =E33/F33 -> 5.4265884
A34: LE | B34: 2.308 | C34: =(1.103+1.26)/2 -> 1.1815 | D34: =B34/C34 -> 1.953449 | E34: =((4*PI()*(C34/2)^2)+((PI()*C34)*(B34-C34))) -> 8.5668153 | F34: =(((4/3)*PI()*(C34/2)^3)+(PI()*((C34/2)^2)*(B34-C34))) -> 2.0986358 | G34: =E34/F34 -> 4.0820876
A35: LE | B35: 2.244 | C35: 1.213 | D35: =B35/C35 -> 1.8499588 | E35: =((4*PI()*(C35/2)^2)+((PI()*C35)*(B35-C35))) -> 8.5513272 | F35: =(((4/3)*PI()*(C35/2)^3)+(PI()*((C35/2)^2)*(B35-C35))) -> 2.1259381 | G35: =E35/F35 -> 4.0223782
A36: LE | B36: 1.353 | C36: 1.285 | D36: =B36/C36 -> 1.0529183 | E36: =((4*PI()*(C36/2)^2)+((PI()*C36)*(B36-C36))) -> 5.4619887 | F36: =(((4/3)*PI()*(C36/2)^3)+(PI()*((C36/2)^2)*(B36-C36))) -> 1.1991716 | G36: =E36/F36 -> 4.5548015
A37: LE | B37: 1.543 | C37: 1.267 | D37: =B37/C37 -> 1.2178374 | E37: =((4*PI()*(C37/2)^2)+((PI()*C37)*(B37-C37))) -> 6.1417539 | F37: =(((4/3)*PI()*(C37/2)^3)+(PI()*((C37/2)^2)*(B37-C37))) -> 1.4129265 | G37: =E37/F37 -> 4.3468319
A38: LE | B38: 1.811 | C38: 1.18 | D38: =B38/C38 -> 1.5347458 | E38: =((4*PI()*(C38/2)^2)+((PI()*C38)*(B38-C38))) -> 6.7135207 | F38: =(((4/3)*PI()*(C38/2)^3)+(PI()*((C38/2)^2)*(B38-C38))) -> 1.5503438 | G38: =E38/F38 -> 4.3303431
A39: LE | B39: 1.641 | C39: 1.203 | D39: =B39/C39 -> 1.3640898 | E39: =((4*PI()*(C39/2)^2)+((PI()*C39)*(B39-C39))) -> 6.2018903 | F39: =(((4/3)*PI()*(C39/2)^3)+(PI()*((C39/2)^2)*(B39-C39))) -> 1.4094278 | G39: =E39/F39 -> 4.4002896
A40: LE | B40: 1.497 | C40: 0.888 | D40: =B40/C40 -> 1.6858108 | E40: =((4*PI()*(C40/2)^2)+((PI()*C40)*(B40-C40))) -> 4.1762322 | F40: =(((4/3)*PI()*(C40/2)^3)+(PI()*((C40/2)^2)*(B40-C40))) -> 0.74380453 | G40: =E40/F40 -> 5.6146905
A41: LE | B41: 1.972 | C41: 1.158 | D41: =B41/C41 -> 1.7029361 | E41: =((4*PI()*(C41/2)^2)+((PI()*C41)*(B41-C41))) -> 7.1740656 | F41: =(((4/3)*PI()*(C41/2)^3)+(PI()*((C41/2)^2)*(B41-C41))) -> 1.6703604 | G41: =E41/F41 -> 4.2949208
A42: LE | B42: 1.304 | C42: 1.286 | D42: =B42/C42 -> 1.0139969 | E42: =((4*PI()*(C42/2)^2)+((PI()*C42)*(B42-C42))) -> 5.268275 | F42: =(((4/3)*PI()*(C42/2)^3)+(PI()*((C42/2)^2)*(B42-C42))) -> 1.1369603 | G42: =E42/F42 -> 4.6336492
A43: LE | B43: 1.245 | C43: 1.098 | D43: =B43/C43 -> 1.1338798 | E43: =((4*PI()*(C43/2)^2)+((PI()*C43)*(B43-C43))) -> 4.2945886 | F43: =(((4/3)*PI()*(C43/2)^3)+(PI()*((C43/2)^2)*(B43-C43))) -> 0.83230679 | G43: =E43/F43 -> 5.1598625
A44: LE | B44: 1.51 | C44: 1.212 | D44: =B44/C44 -> 1.2458746 | E44: =((4*PI()*(C44/2)^2)+((PI()*C44)*(B44-C44))) -> 5.7494915 | F44: =(((4/3)*PI()*(C44/2)^3)+(PI()*((C44/2)^2)*(B44-C44))) -> 1.2759987 | G44: =E44/F44 -> 4.5058755
A45: LE | B45: 1.477 | C45: 1.112 | D45: =B45/C45 -> 1.3282374 | E45: =((4*PI()*(C45/2)^2)+((PI()*C45)*(B45-C45))) -> 5.1598272 | F45: =(((4/3)*PI()*(C45/2)^3)+(PI()*((C45/2)^2)*(B45-C45))) -> 1.0744481 | G45: =E45/F45 -> 4.8023046
A46: LE | B46: 1.239 | C46: 0.768 | D46: =B46/C46 -> 1.6132812 | E46: =((4*PI()*(C46/2)^2)+((PI()*C46)*(B46-C46))) -> 2.9893888 | F46: =(((4/3)*PI()*(C46/2)^3)+(PI()*((C46/2)^2)*(B46-C46))) -> 0.45537149 | G46: =E46/F46 -> 6.5647253
... A65: LE | B65: 1.888 | C65: 1.213 | D65: =B65/C65 -> 1.5564716 | E65: =((4*PI()*(C65/2)^2)+((PI()*C65)*(B65-C65))) -> 7.1946996 | F65: =(((4/3)*PI()*(C65/2)^3)+(PI()*((C65/2)^2)*(B65-C65))) -> 1.7145408 | G65: =E65/F65 -> 4.1962837
A66: LE | B66: 1.261 | C66: =(1.26+0.802)/2 -> 1.031 | D66: =B66/C66 -> 1.2230844 | E66: =((4*PI()*(C66/2)^2)+((PI()*C66)*(B66-C66))) -> 4.0843563 | F66: =(((4/3)*PI()*(C66/2)^3)+(PI()*((C66/2)^2)*(B66-C66))) -> 0.76583355 | G66: =E66/F66 -> 5.3332168
A67: LE | B67: 1.431 | C67: 0.997 | D67: =B67/C67 -> 1.4353059 | E67: =((4*PI()*(C67/2)^2)+((PI()*C67)*(B67-C67))) -> 4.4821322 | F67: =(((4/3)*PI()*(C67/2)^3)+(PI()*((C67/2)^2)*(B67-C67))) -> 0.8577212 | G67: =E67/F67 -> 5.2256283
A68: LE | B68: 1.693 | C68: 1.184 | D68: =B68/C68 -> 1.4298986 | E68: =((4*PI()*(C68/2)^2)+((PI()*C68)*(B68-C68))) -> 6.2973602 | F68: =(((4/3)*PI()*(C68/2)^3)+(PI()*((C68/2)^2)*(B68-C68))) -> 1.4294846 | G68: =E68/F68 -> 4.405336
A69: LE | B69: 1.573 | C69: 1.117 | D69: =B69/C69 -> 1.4082363 | E69: =((4*PI()*(C69/2)^2)+((PI()*C69)*(B69-C69))) -> 5.5199071 | F69: =(((4/3)*PI()*(C69/2)^3)+(PI()*((C69/2)^2)*(B69-C69))) -> 1.1765725 | G69: =E69/F69 -> 4.6915148
A70: LE | B70: 1.664 | C70: 1.303 | D70: =B70/C70 -> 1.277053 | E70: =((4*PI()*(C70/2)^2)+((PI()*C70)*(B70-C70))) -> 6.8115761 | F70: =(((4/3)*PI()*(C70/2)^3)+(PI()*((C70/2)^2)*(B70-C70))) -> 1.6397065 | G70: =E70/F70 -> 4.1541435
A71: LE | B71: 1.657 | C71: 1.134 | D71: =B71/C71 -> 1.4611993 | E71: =((4*PI()*(C71/2)^2)+((PI()*C71)*(B71-C71))) -> 5.903172 | F71: =(((4/3)*PI()*(C71/2)^3)+(PI()*((C71/2)^2)*(B71-C71))) -> 1.291774 | G71: =E71/F71 -> 4.569818
A72: LE | B72: 1.591 | C72: =(1.349+0.824)/2 -> 1.0865 | D72: =B72/C72 -> 1.464335 | E72: =((4*PI()*(C72/2)^2)+((PI()*C72)*(B72-C72))) -> 5.4306246 | F72: =(((4/3)*PI()*(C72/2)^3)+(PI()*((C72/2)^2)*(B72-C72))) -> 1.1393111 | G72: =E72/F72 -> 4.7665863
A73: LE | B73: 1.538 | C73: 1.284 | D73: =B73/C73 -> 1.1978193 | E73: =((4*PI()*(C73/2)^2)+((PI()*C73)*(B73-C73))) -> 6.203992 | F73: =(((4/3)*PI()*(C73/2)^3)+(PI()*((C73/2)^2)*(B73-C73))) -> 1.437285 | G73: =E73/F73 -> 4.316466
A74: LE | B74: 2.088 | C74: 1.15 | D74: =B74/C74 -> 1.8156522 | E74: =((4*PI()*(C74/2)^2)+((PI()*C74)*(B74-C74))) -> 7.5435923 | F74: =(((4/3)*PI()*(C74/2)^3)+(PI()*((C74/2)^2)*(B74-C74))) -> 1.7706186 | G74: =E74/F74 -> 4.2604275
A75: LE | B75: 1.26 | C75: 1.113 | D75: =B75/C75 -> 1.1320755 | E75: =((4*PI()*(C75/2)^2)+((PI()*C75)*(B75-C75))) -> 4.4057067 | F75: =(((4/3)*PI()*(C75/2)^3)+(PI()*((C75/2)^2)*(B75-C75))) -> 0.86493201 | G75: =E75/F75 -> 5.0937029
A76: LE | B76: 1.546 | C76: 1.043 | D76: =B76/C76 -> 1.4822627 | E76: =((4*PI()*(C76/2)^2)+((PI()*C76)*(B76-C76))) -> 5.065749 | F76: =(((4/3)*PI()*(C76/2)^3)+(PI()*((C76/2)^2)*(B76-C76))) -> 1.0238495 | G76: =E76/F76 -> 4.9477476
A105: Count | B105: =COUNT(B2:B103) -> 75 | C105: =COUNT(C2:C103) -> 75 | D105: =COUNT(D2:D103) -> 75 | E105: =COUNT(E2:E103) -> 75 | F105: =COUNT(F2:F103) -> 75 | G105: =COUNT(G2:G103) -> 75
A106: Average | B106: =AVERAGE(B2:B103) -> 1.6506667 | C106: =AVERAGE(C2:C103) -> 1.11548 | D106: =AVERAGE(D2:D103) -> 1.4899117 | E106: =AVERAGE(E2:E103) -> 5.823312 | F106: =AVERAGE(F2:F103) -> 1.2778849 | G106: =AVERAGE(G2:G103) -> 4.7430741
A107: Standard Dev. | B107: =_xlfn.STDEV.S(B2:B103) -> 0.34594029 | C107: =_xlfn.STDEV.S(C2:C103) -> 0.12405857 | D107: =_xlfn.STDEV.S(D2:D103) -> 0.30509568 | E107: =_xlfn.STDEV.S(E2:E103) -> 1.5739303 | F107: =_xlfn.STDEV.S(F2:F103) -> 0.49159928 | G107: =_xlfn.STDEV.S(G2:G103) -> 0.55206084

Sheet G3 ME1 09271933
A1: Nutrient | B1: Length (mm) | C1: Width (mm) | D1: Length/Width | E1: Surface Area (µm^2) | F1: Volume (µm^3) | G1: SA/V (1/µm)
A2: ME | B2: 1.887 | C2: 1.097 | D2: =B2/C2 -> 1.7201459 | E2: =((4*PI()*(C2/2)^2)+((PI()*C2)*(B2-C2))) -> 6.5032193 | F2: =(((4/3)*PI()*(C2/2)^3)+(PI()*((C2/2)^2)*(B2-C2))) -> 1.4378961 | G2: =E2/F2 -> 4.5227323
A3: ME | B3: 1.679 | C3: 1.223 | D3: =B3/C3 -> 1.3728536 | E3: =((4*PI()*(C3/2)^2)+((PI()*C3)*(B3-C3))) -> 6.4509998 | F3: =(((4/3)*PI()*(C3/2)^3)+(PI()*((C3/2)^2)*(B3-C3))) -> 1.4934897 | G3: =E3/F3 -> 4.3194137
A4: ME | B4: 1.562 | C4: 1.025 | D4: =B4/C4 -> 1.5239024 | E4: =((4*PI()*(C4/2)^2)+((PI()*C4)*(B4-C4))) -> 5.0298469 | F4: =(((4/3)*PI()*(C4/2)^3)+(PI()*((C4/2)^2)*(B4-C4))) -> 1.006969 | G4: =E4/F4 -> 4.9950367
A5: ME | B5: =1.569+1.287 -> 2.856 | C5: 0.979 | D5: =B5/C5 -> 2.9172625 | E5: =((4*PI()*(C5/2)^2)+((PI()*C5)*(B5-C5))) -> 8.7839685 | F5: =(((4/3)*PI()*(C5/2)^3)+(PI()*((C5/2)^2)*(B5-C5))) -> 1.9042263 | G5: =E5/F5 -> 4.6128805
A6: ME | B6: 2.256 | C6: 0.993 | D6: =B6/C6 -> 2.2719033 | E6: =((4*PI()*(C6/2)^2)+((PI()*C6)*(B6-C6))) -> 7.037821 | F6: =(((4/3)*PI()*(C6/2)^3)+(PI()*((C6/2)^2)*(B6-C6))) -> 1.4907991 | G6: =E6/F6 -> 4.7208381
A7: ME | B7: 2.594 | C7: 1.081 | D7: =B7/C7 -> 2.39963 | E7: =((4*PI()*(C7/2)^2)+((PI()*C7)*(B7-C7))) -> 8.8093839 | F7: =(((4/3)*PI()*(C7/2)^3)+(PI()*((C7/2)^2)*(B7-C7))) -> 2.0500272 | G7: =E7/F7 -> 4.2972034
A8: ME | B8: 1.84 | C8: 0.892 | D8: =B8/C8 -> 2.0627803 | E8: =((4*PI()*(C8/2)^2)+((PI()*C8)*(B8-C8))) -> 5.1562332 | F8: =(((4/3)*PI()*(C8/2)^3)+(PI()*((C8/2)^2)*(B8-C8))) -> 0.96403252 | G8: =E8/F8 -> 5.3486092
A9: ME | B9: 1.778 | C9: 1.057 | D9: =B9/C9 -> 1.6821192 | E9: =((4*PI()*(C9/2)^2)+((PI()*C9)*(B9-C9))) -> 5.9041396 | F9: =(((4/3)*PI()*(C9/2)^3)+(PI()*((C9/2)^2)*(B9-C9))) -> 1.2510016 | G9: =E9/F9 -> 4.7195302
A10: ME | B10: 2.006 | C10: 1.259 | D10: =B10/C10 -> 1.593328 | E10: =((4*PI()*(C10/2)^2)+((PI()*C10)*(B10-C10))) -> 7.9342619 | F10: =(((4/3)*PI()*(C10/2)^3)+(PI()*((C10/2)^2)*(B10-C10))) -> 1.9748576 | G10: =E10/F10 -> 4.0176374
A11: ME | B11: 2.827 | C11: 1.12 | D11: =B11/C11 -> 2.5241071 | E11: =((4*PI()*(C11/2)^2)+((PI()*C11)*(B11-C11))) -> 9.9470363 | F11: =(((4/3)*PI()*(C11/2)^3)+(PI()*((C11/2)^2)*(B11-C11))) -> 2.4173609 | G11: =E11/F11 -> 4.114833
A12: ME | B12: 2.202 | C12: 1.126 | D12: =B12/C12 -> 1.955595 | E12: =((4*PI()*(C12/2)^2)+((PI()*C12)*(B12-C12))) -> 7.7894282 | F12: =(((4/3)*PI()*(C12/2)^3)+(PI()*((C12/2)^2)*(B12-C12))) -> 1.8189718 | G12: =E12/F12 -> 4.2823249
A13: ME | B13: 1.974 | C13: 1.374 | D13: =B13/C13 -> 1.4366812 | E13: =((4*PI()*(C13/2)^2)+((PI()*C13)*(B13-C13))) -> 8.5208664 | F13: =(((4/3)*PI()*(C13/2)^3)+(PI()*((C13/2)^2)*(B13-C13))) -> 2.2478253 | G13: =E13/F13 -> 3.7907156
A14: ME | B14: 1.487 | C14: 1.15 | D14: =B14/C14 -> 1.2930435 | E14: =((4*PI()*(C14/2)^2)+((PI()*C14)*(B14-C14))) -> 5.3722805 | F14: =(((4/3)*PI()*(C14/2)^3)+(PI()*((C14/2)^2)*(B14-C14))) -> 1.1463665 | G14: =E14/F14 -> 4.6863551
A15: ME | B15: 1.759 | C15: 1.155 | D15: =B15/C15 -> 1.5229437 | E15: =((4*PI()*(C15/2)^2)+((PI()*C15)*(B15-C15))) -> 6.382601 | F15: =(((4/3)*PI()*(C15/2)^3)+(PI()*((C15/2)^2)*(B15-C15))) -> 1.4395958 | G15: =E15/F15 -> 4.4336062
A16: ME | B16: 1.63 | C16: =(0.916+1.063)/2 -> 0.9895 | D16: =B16/C16 -> 1.6472966 | E16: =((4*PI()*(C16/2)^2)+((PI()*C16)*(B16-C16))) -> 5.0670277 | F16: =(((4/3)*PI()*(C16/2)^3)+(PI()*((C16/2)^2)*(B16-C16))) -> 0.99981697 | G16: =E16/F16 -> 5.0679552
A17: ME | B17: 2.032 | C17: 1.168 | D17: =B17/C17 -> 1.739726 | E17: =((4*PI()*(C17/2)^2)+((PI()*C17)*(B17-C17))) -> 7.4561806 | F17: =(((4/3)*PI()*(C17/2)^3)+(PI()*((C17/2)^2)*(B17-C17))) -> 1.76005 | G17: =E17/F17 -> 4.2363458
A18: ME | B18: 1.692 | C18: 1.214 | D18: =B18/C18 -> 1.3937397 | E18: =((4*PI()*(C18/2)^2)+((PI()*C18)*(B18-C18))) -> 6.4531078 | F18: =(((4/3)*PI()*(C18/2)^3)+(PI()*((C18/2)^2)*(B18-C18))) -> 1.4901098 | G18: =E18/F18 -> 4.3306257
A19: ME | B19: 2.101 | C19: 1.059 | D19: =B19/C19 -> 1.9839471 | E19: =((4*PI()*(C19/2)^2)+((PI()*C19)*(B19-C19))) -> 6.9899148 | F19: =(((4/3)*PI()*(C19/2)^3)+(PI()*((C19/2)^2)*(B19-C19))) -> 1.5396543 | G19: =E19/F19 -> 4.5399248
A20: ME | B20: 2.356 | C20: 1.09 | D20: =B20/C20 -> 2.1614679 | E20: =((4*PI()*(C20/2)^2)+((PI()*C20)*(B20-C20))) -> 8.0677356 | F20: =(((4/3)*PI()*(C20/2)^3)+(PI()*((C20/2)^2)*(B20-C20))) -> 1.8594202 | G20: =E20/F20 -> 4.3388449
A21: ME | B21: 2.259 | C21: 1.163 | D21: =B21/C21 -> 1.9423904 | E21: =((4*PI()*(C21/2)^2)+((PI()*C21)*(B21-C21))) -> 8.2536456 | F21: =(((4/3)*PI()*(C21/2)^3)+(PI()*((C21/2)^2)*(B21-C21))) -> 1.9879271 | G21: =E21/F21 -> 4.1518854
A22: ME | B22: 1.606 | C22: 1.22 | D22: =B22/C22 -> 1.3163934 | E22: =((4*PI()*(C22/2)^2)+((PI()*C22)*(B22-C22))) -> 6.1553853 | F22: =(((4/3)*PI()*(C22/2)^3)+(PI()*((C22/2)^2)*(B22-C22))) -> 1.4020046 | G22: =E22/F22 -> 4.3904173
A23: ME | B23: 2.841 | C23: 1.094 | D23: =B23/C23 -> 2.5968921 | E23: =((4*PI()*(C23/2)^2)+((PI()*C23)*(B23-C23))) -> 9.7642396 | F23: =(((4/3)*PI()*(C23/2)^3)+(PI()*((C23/2)^2)*(B23-C23))) -> 2.3277355 | G23: =E23/F23 -> 4.1947376
A24: ME | B24: 1.23 | C24: 0.934 | D24: =B24/C24 -> 1.3169165 | E24: =((4*PI()*(C24/2)^2)+((PI()*C24)*(B24-C24))) -> 3.6091245 | F24: =(((4/3)*PI()*(C24/2)^3)+(PI()*((C24/2)^2)*(B24-C24))) -> 0.62942153 | G24: =E24/F24 -> 5.7340341
A25: ME | B25: 1.644 | C25: 1.035 | D25: =B25/C25 -> 1.5884058 | E25: =((4*PI()*(C25/2)^2)+((PI()*C25)*(B25-C25))) -> 5.3455456 | F25: =(((4/3)*PI()*(C25/2)^3)+(PI()*((C25/2)^2)*(B25-C25))) -> 1.0928983 | G25: =E25/F25 -> 4.8911649
A26: ME | B26: 1.693 | C26: 0.838 | D26: =B26/C26 -> 2.0202864 | E26: =((4*PI()*(C26/2)^2)+((PI()*C26)*(B26-C26))) -> 4.4570843 | F26: =(((4/3)*PI()*(C26/2)^3)+(PI()*((C26/2)^2)*(B26-C26))) -> 0.77969534 | G26: =E26/F26 -> 5.7164435
A27: ME | B27: 2.225 | C27: 1.096 | D27: =B27/C27 -> 2.0301095 | E27: =((4*PI()*(C27/2)^2)+((PI()*C27)*(B27-C27))) -> 7.6610878 | F27: =(((4/3)*PI()*(C27/2)^3)+(PI()*((C27/2)^2)*(B27-C27))) -> 1.7544706 | G27: =E27/F27 -> 4.3666094
A28: ME | B28: 2.314 | C28: 1.066 | D28: =B28/C28 -> 2.1707317 | E28: =((4*PI()*(C28/2)^2)+((PI()*C28)*(B28-C28))) -> 7.749442 | F28: =(((4/3)*PI()*(C28/2)^3)+(PI()*((C28/2)^2)*(B28-C28))) -> 1.7480942 | G28: =E28/F28 -> 4.4330804
... A40: ME | B40: 2.165 | C40: 1.159 | D40: =B40/C40 -> 1.8679896 | E40: =((4*PI()*(C40/2)^2)+((PI()*C40)*(B40-C40))) -> 7.8829942 | F40: =(((4/3)*PI()*(C40/2)^3)+(PI()*((C40/2)^2)*(B40-C40))) -> 1.8765119 | G40: =E40/F40 -> 4.2008763
A41: ME | B41: 1.88 | C41: =(1.319+0.939)/2 -> 1.129 | D41: =B41/C41 -> 1.6651904 | E41: =((4*PI()*(C41/2)^2)+((PI()*C41)*(B41-C41))) -> 6.6680932 | F41: =(((4/3)*PI()*(C41/2)^3)+(PI()*((C41/2)^2)*(B41-C41))) -> 1.5053218 | G41: =E41/F41 -> 4.4296797
A42: ME | B42: 1.901 | C42: 1.1 | D42: =B42/C42 -> 1.7281818 | E42: =((4*PI()*(C42/2)^2)+((PI()*C42)*(B42-C42))) -> 6.5693844 | F42: =(((4/3)*PI()*(C42/2)^3)+(PI()*((C42/2)^2)*(B42-C42))) -> 1.4581257 | G42: =E42/F42 -> 4.5053621
A43: ME | B43: 2.321 | C43: 1.133 | D43: =B43/C43 -> 2.0485437 | E43: =((4*PI()*(C43/2)^2)+((PI()*C43)*(B43-C43))) -> 8.2614242 | F43: =(((4/3)*PI()*(C43/2)^3)+(PI()*((C43/2)^2)*(B43-C43))) -> 1.9592822 | G43: =E43/F43 -> 4.2165565
A44: ME | B44: 1.33 | C44: 1.064 | D44: =B44/C44 -> 1.25 | E44: =((4*PI()*(C44/2)^2)+((PI()*C44)*(B44-C44))) -> 4.4457306 | F44: =(((4/3)*PI()*(C44/2)^3)+(PI()*((C44/2)^2)*(B44-C44))) -> 0.86721385 | G44: =E44/F44 -> 5.1264525
A45: ME | B45: 1.175 | C45: 1.007 | D45: =B45/C45 -> 1.1668322 | E45: =((4*PI()*(C45/2)^2)+((PI()*C45)*(B45-C45))) -> 3.717211 | F45: =(((4/3)*PI()*(C45/2)^3)+(PI()*((C45/2)^2)*(B45-C45))) -> 0.66847211 | G45: =E45/F45 -> 5.560757
A46: ME | B46: 1.573 | C46: 1.066 | D46: =B46/C46 -> 1.4756098 | E46: =((4*PI()*(C46/2)^2)+((PI()*C46)*(B46-C46))) -> 5.2678791 | F46: =(((4/3)*PI()*(C46/2)^3)+(PI()*((C46/2)^2)*(B46-C46))) -> 1.0867577 | G46: =E46/F46 -> 4.8473356
A47: ME | B47: 1.834 | C47: 1.027 | D47: =B47/C47 -> 1.7857838 | E47: =((4*PI()*(C47/2)^2)+((PI()*C47)*(B47-C47))) -> 5.9172463 | F47: =(((4/3)*PI()*(C47/2)^3)+(PI()*((C47/2)^2)*(B47-C47))) -> 1.2356701 | G47: =E47/F47 -> 4.7886941
A48: ME | B48: 1.328 | C48: 1.176 | D48: =B48/C48 -> 1.1292517 | E48: =((4*PI()*(C48/2)^2)+((PI()*C48)*(B48-C48))) -> 4.9063132 | F48: =(((4/3)*PI()*(C48/2)^3)+(PI()*((C48/2)^2)*(B48-C48))) -> 1.0166709 | G48: =E48/F48 -> 4.825862
A49: ME | B49: 1.718 | C49: 1.32 | D49: =B49/C49 -> 1.3015152 | E49: =((4*PI()*(C49/2)^2)+((PI()*C49)*(B49-C49))) -> 7.1243782 | F49: =(((4/3)*PI()*(C49/2)^3)+(PI()*((C49/2)^2)*(B49-C49))) -> 1.7489146 | G49: =E49/F49 -> 4.0735998
A50: ME | B50: 1.221 | C50: 0.969 | D50: =B50/C50 -> 1.2600619 | E50: =((4*PI()*(C50/2)^2)+((PI()*C50)*(B50-C50))) -> 3.7169722 | F50: =(((4/3)*PI()*(C50/2)^3)+(PI()*((C50/2)^2)*(B50-C50))) -> 0.6622375 | G50: =E50/F50 -> 5.612748
A51: ME | B51: 1.93 | C51: =(1.214+1.092)/2 -> 1.153 | D51: =B51/C51 -> 1.6738942 | E51: =((4*PI()*(C51/2)^2)+((PI()*C51)*(B51-C51))) -> 6.9909547 | F51: =(((4/3)*PI()*(C51/2)^3)+(PI()*((C51/2)^2)*(B51-C51))) -> 1.6138543 | G51: =E51/F51 -> 4.3318375
A52: ME | B52: 1.306 | C52: 1.106 | D52: =B52/C52 -> 1.1808318 | E52: =((4*PI()*(C52/2)^2)+((PI()*C52)*(B52-C52))) -> 4.5378295 | F52: =(((4/3)*PI()*(C52/2)^3)+(PI()*((C52/2)^2)*(B52-C52))) -> 0.90052173 | G52: =E52/F52 -> 5.0391116
A53: ME | B53: 1.539 | C53: 1.198 | D53: =B53/C53 -> 1.2846411 | E53: =((4*PI()*(C53/2)^2)+((PI()*C53)*(B53-C53))) -> 5.7922235 | F53: =(((4/3)*PI()*(C53/2)^3)+(PI()*((C53/2)^2)*(B53-C53))) -> 1.2846398 | G53: =E53/F53 -> 4.5088309
A54: ME | B54: 1.184 | C54: 1.038 | D54: =B54/C54 -> 1.1406551 | E54: =((4*PI()*(C54/2)^2)+((PI()*C54)*(B54-C54))) -> 3.8609922 | F54: =(((4/3)*PI()*(C54/2)^3)+(PI()*((C54/2)^2)*(B54-C54))) -> 0.70913449 | G54: =E54/F54 -> 5.4446544
A55: ME | B55: 2.62 | C55: =(1.197+0.885)/2 -> 1.041 | D55: =B55/C55 -> 2.5168108 | E55: =((4*PI()*(C55/2)^2)+((PI()*C55)*(B55-C55))) -> 8.5684426 | F55: =(((4/3)*PI()*(C55/2)^3)+(PI()*((C55/2)^2)*(B55-C55))) -> 1.9345982 | G55: =E55/F55 -> 4.4290554
A56: ME | B56: 1.693 | C56: 1.331 | D56: =B56/C56 -> 1.271976 | E56: =((4*PI()*(C56/2)^2)+((PI()*C56)*(B56-C56))) -> 7.0792115 | F56: =(((4/3)*PI()*(C56/2)^3)+(PI()*((C56/2)^2)*(B56-C56))) -> 1.7382984 | G56: =E56/F56 -> 4.0724951
A57: ME | B57: 1.409 | C57: 1.177 | D57: =B57/C57 -> 1.1971113 | E57: =((4*PI()*(C57/2)^2)+((PI()*C57)*(B57-C57))) -> 5.2099953 | F57: =(((4/3)*PI()*(C57/2)^3)+(PI()*((C57/2)^2)*(B57-C57))) -> 1.1061688 | G57: =E57/F57 -> 4.7099461
A58: ME | B58: 1.71 | C58: 1.107 | D58: =B58/C58 -> 1.5447154 | E58: =((4*PI()*(C58/2)^2)+((PI()*C58)*(B58-C58))) -> 5.9469406 | F58: =(((4/3)*PI()*(C58/2)^3)+(PI()*((C58/2)^2)*(B58-C58))) -> 1.2906661 | G58: =E58/F58 -> 4.6076523
A59: ME | B59: 1.257 | C59: 1.037 | D59: =B59/C59 -> 1.2121504 | E59: =((4*PI()*(C59/2)^2)+((PI()*C59)*(B59-C59))) -> 4.0950943 | F59: =(((4/3)*PI()*(C59/2)^3)+(PI()*((C59/2)^2)*(B59-C59))) -> 0.76970561 | G59: =E59/F59 -> 5.3203384
A60: ME | B60: 1.309 | C60: 1.145 | D60: =B60/C60 -> 1.1432314 | E60: =((4*PI()*(C60/2)^2)+((PI()*C60)*(B60-C60))) -> 4.7086348 | F60: =(((4/3)*PI()*(C60/2)^3)+(PI()*((C60/2)^2)*(B60-C60))) -> 0.95485346 | G60: =E60/F60 -> 4.9312643
A61: ME | B61: 1.207 | C61: 1.107 | D61: =B61/C61 -> 1.0903342 | E61: =((4*PI()*(C61/2)^2)+((PI()*C61)*(B61-C61))) -> 4.1976359 | F61: =(((4/3)*PI()*(C61/2)^3)+(PI()*((C61/2)^2)*(B61-C61))) -> 0.806546 | G61: =E61/F61 -> 5.2044594
A62: ME | B62: 1.15 | C62: 0.817 | D62: =B62/C62 -> 1.4075887 | E62: =((4*PI()*(C62/2)^2)+((PI()*C62)*(B62-C62))) -> 2.9516834 | F62: =(((4/3)*PI()*(C62/2)^3)+(PI()*((C62/2)^2)*(B62-C62))) -> 0.46011204 | G62: =E62/F62 -> 6.4151405
A63: ME | B63: 2.557 | C63: 1.116 | D63: =B63/C63 -> 2.2912186 | E63: =((4*PI()*(C63/2)^2)+((PI()*C63)*(B63-C63))) -> 8.9648865 | F63: =(((4/3)*PI()*(C63/2)^3)+(PI()*((C63/2)^2)*(B63-C63))) -> 2.1373208 | G63: =E63/F63 -> 4.1944506
A64: ME | B64: 2.374 | C64: 1.228 | D64: =B64/C64 -> 1.9332248 | E64: =((4*PI()*(C64/2)^2)+((PI()*C64)*(B64-C64))) -> 9.1585971 | F64: =(((4/3)*PI()*(C64/2)^3)+(PI()*((C64/2)^2)*(B64-C64))) -> 2.3268881 | G64: =E64/F64 -> 3.9359853
A65: ME | B65: 2.548 | C65: 1.156 | D65: =B65/C65 -> 2.2041522 | E65: =((4*PI()*(C65/2)^2)+((PI()*C65)*(B65-C65))) -> 9.2535235 | F65: =(((4/3)*PI()*(C65/2)^3)+(PI()*((C65/2)^2)*(B65-C65))) -> 2.2698394 | G65: =E65/F65 -> 4.0767304
A66: ME | B66: 1.923 | C66: 1.227 | D66: =B66/C66 -> 1.5672372 | E66: =((4*PI()*(C66/2)^2)+((PI()*C66)*(B66-C66))) -> 7.4126538 | F66: =(((4/3)*PI()*(C66/2)^3)+(PI()*((C66/2)^2)*(B66-C66))) -> 1.7902137 | G66: =E66/F66 -> 4.140653
A67: ME | B67: 1.677 | C67: 1.271 | D67: =B67/C67 -> 1.3194335 | E67: =((4*PI()*(C67/2)^2)+((PI()*C67)*(B67-C67))) -> 6.6962011 | F67: =(((4/3)*PI()*(C67/2)^3)+(PI()*((C67/2)^2)*(B67-C67))) -> 1.5901847 | G67: =E67/F67 -> 4.210958
... A83: ME | B83: 1.993 | C83: 1.005 | D83: =B83/C83 -> 1.9830846 | E83: =((4*PI()*(C83/2)^2)+((PI()*C83)*(B83-C83))) -> 6.2925001 | F83: =(((4/3)*PI()*(C83/2)^3)+(PI()*((C83/2)^2)*(B83-C83))) -> 1.3152446 | G83: =E83/F83 -> 4.7842812
A84: ME | B84: 1.948 | C84: =(0.892+0.421)/2 -> 0.6565 | D84: =B84/C84 -> 2.9672506 | E84: =((4*PI()*(C84/2)^2)+((PI()*C84)*(B84-C84))) -> 4.0176635 | F84: =(((4/3)*PI()*(C84/2)^3)+(PI()*((C84/2)^2)*(B84-C84))) -> 0.58532382 | G84: =E84/F84 -> 6.8640013
A85: ME | B85: 2.22 | C85: 1.18 | D85: =B85/C85 -> 1.8813559 | E85: =((4*PI()*(C85/2)^2)+((PI()*C85)*(B85-C85))) -> 8.2297161 | F85: =(((4/3)*PI()*(C85/2)^3)+(PI()*((C85/2)^2)*(B85-C85))) -> 1.9976215 | G85: =E85/F85 -> 4.1197575
A86: ME | B86: 1.022 | C86: 0.924 | D86: =B86/C86 -> 1.1060606 | E86: =((4*PI()*(C86/2)^2)+((PI()*C86)*(B86-C86))) -> 2.9666939 | F86: =(((4/3)*PI()*(C86/2)^3)+(PI()*((C86/2)^2)*(B86-C86))) -> 0.47877563 | G86: =E86/F86 -> 6.196418
A87: ME | B87: 1.341 | C87: 1.16 | D87: =B87/C87 -> 1.1560345 | E87: =((4*PI()*(C87/2)^2)+((PI()*C87)*(B87-C87))) -> 4.8869359 | F87: =(((4/3)*PI()*(C87/2)^3)+(PI()*((C87/2)^2)*(B87-C87))) -> 1.0085698 | G87: =E87/F87 -> 4.8454117
A88: ME | B88: 1.912 | C88: 1.157 | D88: =B88/C88 -> 1.6525497 | E88: =((4*PI()*(C88/2)^2)+((PI()*C88)*(B88-C88))) -> 6.949781 | F88: =(((4/3)*PI()*(C88/2)^3)+(PI()*((C88/2)^2)*(B88-C88))) -> 1.6047448 | G88: =E88/F88 -> 4.3307701
A105: Count | B105: =COUNT(B1:B103) -> 87 | C105: =COUNT(C1:C103) -> 87 | D105: =COUNT(D1:D103) -> 87 | E105: =COUNT(E1:E103) -> 87 | F105: =COUNT(F1:F103) -> 87 | G105: =COUNT(G1:G103) -> 87
A106: Average | B106: =AVERAGE(B2:B103) -> 1.8574598 | C106: =AVERAGE(C2:C103) -> 1.0996667 | D106: =AVERAGE(D2:D103) -> 1.7047211 | E106: =AVERAGE(E2:E103) -> 6.4436961 | F106: =AVERAGE(F2:F103) -> 1.4386479 | G106: =AVERAGE(G2:G103) -> 4.6765618
A107: Standard Dev. | B107: =_xlfn.STDEV.S(B2:B103) -> 0.46159846 | C107: =_xlfn.STDEV.S(C2:C103) -> 0.12363279 | D107: =_xlfn.STDEV.S(D2:D103) -> 0.4529142 | E107: =_xlfn.STDEV.S(E2:E103) -> 1.8056309 | F107: =_xlfn.STDEV.S(F2:F103) -> 0.53141426 | G107: =_xlfn.STDEV.S(G2:G103) -> 0.606717
A155: Notes:

Sheet G3 ME2 10042114
A1: Nutrient | B1: Length (mm) | C1: Width (mm) | D1: Length/Width | E1: Surface Area (µm^2) | F1: Volume (µm^3) | G1: SA/V (1/µm)
A2: ME | B2: 1.122 | C2: 1.002 | D2: =B2/C2 -> 1.1197605 | E2: =((4*PI()*(C2/2)^2)+((PI()*C2)*(B2-C2))) -> 3.5319167 | F2: =(((4/3)*PI()*(C2/2)^3)+(PI()*((C2/2)^2)*(B2-C2))) -> 0.6213718 | G2: =E2/F2 -> 5.6840633
A3: ME | B3: 1.105 | C3: 0.901 | D3: =B3/C3 -> 1.2264151 | E3: =((4*PI()*(C3/2)^2)+((PI()*C3)*(B3-C3))) -> 3.1277854 | F3: =(((4/3)*PI()*(C3/2)^3)+(PI()*((C3/2)^2)*(B3-C3))) -> 0.51304502 | G3: =E3/F3 -> 6.0965125
A4: ME | B4: 1.693 | C4: 1.119 | D4: =B4/C4 -> 1.512958 | E4: =((4*PI()*(C4/2)^2)+((PI()*C4)*(B4-C4))) -> 5.9516436 | F4: =(((4/3)*PI()*(C4/2)^3)+(PI()*((C4/2)^2)*(B4-C4))) -> 1.2981473 | G4: =E4/F4 -> 4.5847212
A5: ME | B5: 2.162 | C5: 0.959 | D5: =B5/C5 -> 2.2544317 | E5: =((4*PI()*(C5/2)^2)+((PI()*C5)*(B5-C5))) -> 6.5136463 | F5: =(((4/3)*PI()*(C5/2)^3)+(PI()*((C5/2)^2)*(B5-C5))) -> 1.3307464 | G5: =E5/F5 -> 4.8947314
A6: ME | B6: 2.408 | C6: 1.168 | D6: =B6/C6 -> 2.0616438 | E6: =((4*PI()*(C6/2)^2)+((PI()*C6)*(B6-C6))) -> 8.8358676 | F6: =(((4/3)*PI()*(C6/2)^3)+(PI()*((C6/2)^2)*(B6-C6))) -> 2.1629186 | G6: =E6/F6 -> 4.0851595
A7: ME | B7: 1.513 | C7: 1.013 | D7: =B7/C7 -> 1.4935834 | E7: =((4*PI()*(C7/2)^2)+((PI()*C7)*(B7-C7))) -> 4.8150217 | F7: =(((4/3)*PI()*(C7/2)^3)+(PI()*((C7/2)^2)*(B7-C7))) -> 0.94726137 | G7: =E7/F7 -> 5.0830973
A8: ME | B8: 1.898 | C8: 1.056 | D8: =B8/C8 -> 1.7973485 | E8: =((4*PI()*(C8/2)^2)+((PI()*C8)*(B8-C8))) -> 6.2966565 | F8: =(((4/3)*PI()*(C8/2)^3)+(PI()*((C8/2)^2)*(B8-C8))) -> 1.3540266 | G8: =E8/F8 -> 4.6503195
A9: ME | B9: 0.986 | C9: 0.94 | D9: =B9/C9 -> 1.0489362 | E9: =((4*PI()*(C9/2)^2)+((PI()*C9)*(B9-C9))) -> 2.9117537 | F9: =(((4/3)*PI()*(C9/2)^3)+(PI()*((C9/2)^2)*(B9-C9))) -> 0.46681575 | G9: =E9/F9 -> 6.2374797
A10: ME | B10: 1.127 | C10: 1.126 | D10: =B10/C10 -> 1.0008881 | E10: =((4*PI()*(C10/2)^2)+((PI()*C10)*(B10-C10))) -> 3.9866874 | F10: =(((4/3)*PI()*(C10/2)^3)+(PI()*((C10/2)^2)*(B10-C10))) -> 0.74850026 | G10: =E10/F10 -> 5.3262338
A11: ME | B11: 1.318 | C11: 1.016 | D11: =B11/C11 -> 1.2972441 | E11: =((4*PI()*(C11/2)^2)+((PI()*C11)*(B11-C11))) -> 4.206869 | F11: =(((4/3)*PI()*(C11/2)^3)+(PI()*((C11/2)^2)*(B11-C11))) -> 0.79397684 | G11: =E11/F11 -> 5.2984783
A12: ME | B12: 1.645 | C12: 1.094 | D12: =B12/C12 -> 1.5036563 | E12: =((4*PI()*(C12/2)^2)+((PI()*C12)*(B12-C12))) -> 5.6537044 | F12: =(((4/3)*PI()*(C12/2)^3)+(PI()*((C12/2)^2)*(B12-C12))) -> 1.2035041 | G12: =E12/F12 -> 4.6977026
A13: ME | B13: 1.191 | C13: 0.906 | D13: =B13/C13 -> 1.3145695 | E13: =((4*PI()*(C13/2)^2)+((PI()*C13)*(B13-C13))) -> 3.389923 | F13: =(((4/3)*PI()*(C13/2)^3)+(PI()*((C13/2)^2)*(B13-C13))) -> 0.57312326 | G13: =E13/F13 -> 5.9148236
... A76: ME | B76: 1.407 | C76: 1.134 | D76: =B76/C76 -> 1.2407407 | E76: =((4*PI()*(C76/2)^2)+((PI()*C76)*(B76-C76))) -> 5.0125305 | F76: =(((4/3)*PI()*(C76/2)^3)+(PI()*((C76/2)^2)*(B76-C76))) -> 1.0392771 | G76: =E76/F76 -> 4.8230933
A105: Count | B105: =COUNT(B2:B94) -> 75 | C105: =COUNT(C2:C94) -> 75 | D105: =COUNT(D2:D94) -> 75 | E105: =COUNT(E2:E94) -> 75 | F105: =COUNT(F2:F94) -> 75 | G105: =COUNT(G2:G94) -> 75
A106: Average | B106: =AVERAGE(B2:B94) -> 1.5041067 | C106: =AVERAGE(C2:C94) -> 1.0452933 | D106: =AVERAGE(D2:D94) -> 1.4322868 | E106: =AVERAGE(E2:E94) -> 5.0168713 | F106: =AVERAGE(F2:F94) -> 1.0369118 | G106: =AVERAGE(G2:G94) -> 5.1531309
A107: Standard Dev. | B107: =_xlfn.STDEV.S(B2:B94) -> 0.41991002 | C107: =_xlfn.STDEV.S(C2:C94) -> 0.11081952 | D107: =_xlfn.STDEV.S(D2:D94) -> 0.33638903 | E107: =_xlfn.STDEV.S(E2:E94) -> 1.7600743 | F107: =_xlfn.STDEV.S(F2:F94) -> 0.5105539 | G107: =_xlfn.STDEV.S(G2:G94) -> 0.70106476

Sheet G3 ME3 10022011
A1: Nutrient | B1: Length (mm) | C1: Width (mm) | D1: Length/Width | E1: Surface Area (µm^2) | F1: Volume (µm^3) | G1: SA/V (1/µm)
A2: ME | B2: 2.426 | C2: 1.056 | D2: =B2/C2 -> 2.2973485 | E2: =((4*PI()*(C2/2)^2)+((PI()*C2)*(B2-C2))) -> 8.048308 | F2: =(((4/3)*PI()*(C2/2)^3)+(PI()*((C2/2)^2)*(B2-C2))) -> 1.8164626 | G2: =E2/F2 -> 4.4307589
A3: ME | B3: 2.4 | C3: 1.212 | D3: =B3/C3 -> 1.980198 | E3: =((4*PI()*(C3/2)^2)+((PI()*C3)*(B3-C3))) -> 9.1382647 | F3: =(((4/3)*PI()*(C3/2)^3)+(PI()*((C3/2)^2)*(B3-C3))) -> 2.302797 | G3: =E3/F3 -> 3.9683327
A4: ME | B4: 1.926 | C4: 1.229 | D4: =B4/C4 -> 1.5671277 | E4: =((4*PI()*(C4/2)^2)+((PI()*C4)*(B4-C4))) -> 7.4363195 | F4: =(((4/3)*PI()*(C4/2)^3)+(PI()*((C4/2)^2)*(B4-C4))) -> 1.7988226 | G4: =E4/F4 -> 4.1339927
A5: ME | B5: 2.143 | C5: 1.212 | D5: =B5/C5 -> 1.7681518 | E5: =((4*PI()*(C5/2)^2)+((PI()*C5)*(B5-C5))) -> 8.1597089 | F5: =(((4/3)*PI()*(C5/2)^3)+(PI()*((C5/2)^2)*(B5-C5))) -> 2.0062946 | G5: =E5/F5 -> 4.0670542
A6: ME | B6: 1.779 | C6: 1.251 | D6: =B6/C6 -> 1.4220624 | E6: =((4*PI()*(C6/2)^2)+((PI()*C6)*(B6-C6))) -> 6.9917056 | F6: =(((4/3)*PI()*(C6/2)^3)+(PI()*((C6/2)^2)*(B6-C6))) -> 1.6741008 | G6: =E6/F6 -> 4.1763946
A7: ME | B7: 1.725 | C7: 1.027 | D7: =B7/C7 -> 1.6796495 | E7: =((4*PI()*(C7/2)^2)+((PI()*C7)*(B7-C7))) -> 5.565567 | F7: =(((4/3)*PI()*(C7/2)^3)+(PI()*((C7/2)^2)*(B7-C7))) -> 1.1453765 | G7: =E7/F7 -> 4.8591595
A8: ME | B8: 2.004 | C8: 1.311 | D8: =B8/C8 -> 1.5286041 | E8: =((4*PI()*(C8/2)^2)+((PI()*C8)*(B8-C8))) -> 8.2537304 | F8: =(((4/3)*PI()*(C8/2)^3)+(PI()*((C8/2)^2)*(B8-C8))) -> 2.1152625 | G8: =E8/F8 -> 3.9019888
A9: ME | B9: 1.458 | C9: 1.031 | D9: =B9/C9 -> 1.414161 | E9: =((4*PI()*(C9/2)^2)+((PI()*C9)*(B9-C9))) -> 4.7224358 | F9: =(((4/3)*PI()*(C9/2)^3)+(PI()*((C9/2)^2)*(B9-C9))) -> 0.93029853 | G9: =E9/F9 -> 5.0762585
A10: ME | B10: 2.326 | C10: 1.008 | D10: =B10/C10 -> 2.3075397 | E10: =((4*PI()*(C10/2)^2)+((PI()*C10)*(B10-C10))) -> 7.3658033 | F10: =(((4/3)*PI()*(C10/2)^3)+(PI()*((C10/2)^2)*(B10-C10))) -> 1.5880495 | G10: =E10/F10 -> 4.6382707
A11: ME | B11: 1.481 | C11: 1.1 | D11: =B11/C11 -> 1.3463636 | E11: =((4*PI()*(C11/2)^2)+((PI()*C11)*(B11-C11))) -> 5.1179686 | F11: =(((4/3)*PI()*(C11/2)^3)+(PI()*((C11/2)^2)*(B11-C11))) -> 1.0589864 | G11: =E11/F11 -> 4.8328937
A12: ME | B12: 1.553 | C12: 0.991 | D12: =B12/C12 -> 1.5671039 | E12: =((4*PI()*(C12/2)^2)+((PI()*C12)*(B12-C12))) -> 4.8349834 | F12: =(((4/3)*PI()*(C12/2)^3)+(PI()*((C12/2)^2)*(B12-C12))) -> 0.94307289 | G12: =E12/F12 -> 5.1268395
A13: ME | B13: 1.274 | C13: 0.915 | D13: =B13/C13 -> 1.3923497 | E13: =((4*PI()*(C13/2)^2)+((PI()*C13)*(B13-C13))) -> 3.662186 | F13: =(((4/3)*PI()*(C13/2)^3)+(PI()*((C13/2)^2)*(B13-C13))) -> 0.63717077 | G13: =E13/F13 -> 5.7475737
... A17: ME | B17: 1.639 | C17: 0.982 | D17: =B17/C17 -> 1.6690428 | E17: =((4*PI()*(C17/2)^2)+((PI()*C17)*(B17-C17))) -> 5.0563871 | F17: =(((4/3)*PI()*(C17/2)^3)+(PI()*((C17/2)^2)*(B17-C17))) -> 0.99342787 | G17: =E17/F17 -> 5.0898382
A18: ME | B18: 2.547 | C18: =(0.953+0.897)/2 -> 0.925 | D18: =B18/C18 -> 2.7535135 | E18: =((4*PI()*(C18/2)^2)+((PI()*C18)*(B18-C18))) -> 7.4015138 | F18: =(((4/3)*PI()*(C18/2)^3)+(PI()*((C18/2)^2)*(B18-C18))) -> 1.5043981 | G18: =E18/F18 -> 4.9199169
A19: ME | B19: 1.337 | C19: 0.979 | D19: =B19/C19 -> 1.3656793 | E19: =((4*PI()*(C19/2)^2)+((PI()*C19)*(B19-C19))) -> 4.1121029 | F19: =(((4/3)*PI()*(C19/2)^3)+(PI()*((C19/2)^2)*(B19-C19))) -> 0.76078722 | G19: =E19/F19 -> 5.4050631
A20: ME | B20: 2.108 | C20: 1.028 | D20: =B20/C20 -> 2.0505837 | E20: =((4*PI()*(C20/2)^2)+((PI()*C20)*(B20-C20))) -> 6.8079067 | F20: =(((4/3)*PI()*(C20/2)^3)+(PI()*((C20/2)^2)*(B20-C20))) -> 1.46522 | G20: =E20/F20 -> 4.6463376
A21: ME | B21: 1.421 | C21: 1.117 | D21: =B21/C21 -> 1.2721576 | E21: =((4*PI()*(C21/2)^2)+((PI()*C21)*(B21-C21))) -> 4.9865149 | F21: =(((4/3)*PI()*(C21/2)^3)+(PI()*((C21/2)^2)*(B21-C21))) -> 1.0276227 | G21: =E21/F21 -> 4.8524764
A22: ME | B22: 2.949 | C22: =(1.231+1.051)/2 -> 1.141 | D22: =B22/C22 -> 2.5845749 | E22: =((4*PI()*(C22/2)^2)+((PI()*C22)*(B22-C22))) -> 10.570859 | F22: =(((4/3)*PI()*(C22/2)^3)+(PI()*((C22/2)^2)*(B22-C22))) -> 2.6264487 | G22: =E22/F22 -> 4.0247728
A23: ME | B23: =1.199+1.229 -> 2.428 | C23: =(1.107+0.973)/2 -> 1.04 | D23: =B23/C23 -> 2.3346154 | E23: =((4*PI()*(C23/2)^2)+((PI()*C23)*(B23-C23))) -> 7.9328984 | F23: =(((4/3)*PI()*(C23/2)^3)+(PI()*((C23/2)^2)*(B23-C23))) -> 1.7680649 | G23: =E23/F23 -> 4.4867688
A24: ME | B24: 2.216 | C24: 1.001 | D24: =B24/C24 -> 2.2137862 | E24: =((4*PI()*(C24/2)^2)+((PI()*C24)*(B24-C24))) -> 6.9687311 | F24: =(((4/3)*PI()*(C24/2)^3)+(PI()*((C24/2)^2)*(B24-C24))) -> 1.4813394 | G24: =E24/F24 -> 4.7043447
A25: ME | B25: 1.346 | C25: 0.853 | D25: =B25/C25 -> 1.5779601 | E25: =((4*PI()*(C25/2)^2)+((PI()*C25)*(B25-C25))) -> 3.6069819 | F25: =(((4/3)*PI()*(C25/2)^3)+(PI()*((C25/2)^2)*(B25-C25))) -> 0.60670298 | G25: =E25/F25 -> 5.9452187
A26: ME | B26: 2.074 | C26: 1.095 | D26: =B26/C26 -> 1.8940639 | E26: =((4*PI()*(C26/2)^2)+((PI()*C26)*(B26-C26))) -> 7.1346512 | F26: =(((4/3)*PI()*(C26/2)^3)+(PI()*((C26/2)^2)*(B26-C26))) -> 1.6093859 | G26: =E26/F26 -> 4.4331514
A27: ME | B27: 1.167 | C27: 1.112 | D27: =B27/C27 -> 1.0494604 | E27: =((4*PI()*(C27/2)^2)+((PI()*C27)*(B27-C27))) -> 4.0768574 | F27: =(((4/3)*PI()*(C27/2)^3)+(PI()*((C27/2)^2)*(B27-C27))) -> 0.77338252 | G27: =E27/F27 -> 5.271463
A28: ME | B28: 1.938 | C28: 1.013 | D28: =B28/C28 -> 1.9131293 | E28: =((4*PI()*(C28/2)^2)+((PI()*C28)*(B28-C28))) -> 6.1675558 | F28: =(((4/3)*PI()*(C28/2)^3)+(PI()*((C28/2)^2)*(B28-C28))) -> 1.2897906 | G28: =E28/F28 -> 4.7818271
A29: ME | B29: 1.756 | C29: 1.078 | D29: =B29/C29 -> 1.6289425 | E29: =((4*PI()*(C29/2)^2)+((PI()*C29)*(B29-C29))) -> 5.9469344 | F29: =(((4/3)*PI()*(C29/2)^3)+(PI()*((C29/2)^2)*(B29-C29))) -> 1.2747358 | G29: =E29/F29 -> 4.6652291
A30: ME | B30: 2.242 | C30: 0.99 | D30: =B30/C30 -> 2.2646465 | E30: =((4*PI()*(C30/2)^2)+((PI()*C30)*(B30-C30))) -> 6.9730162 | F30: =(((4/3)*PI()*(C30/2)^3)+(PI()*((C30/2)^2)*(B30-C30))) -> 1.4717978 | G30: =E30/F30 -> 4.7377541
A31: ME | B31: 1.699 | C31: 0.936 | D31: =B31/C31 -> 1.8151709 | E31: =((4*PI()*(C31/2)^2)+((PI()*C31)*(B31-C31))) -> 4.9959617 | F31: =(((4/3)*PI()*(C31/2)^3)+(PI()*((C31/2)^2)*(B31-C31))) -> 0.95437277 | G31: =E31/F31 -> 5.2348117
A32: ME | B32: 1.548 | C32: 1.125 | D32: =B32/C32 -> 1.376 | E32: =((4*PI()*(C32/2)^2)+((PI()*C32)*(B32-C32))) -> 5.4710836 | F32: =(((4/3)*PI()*(C32/2)^3)+(PI()*((C32/2)^2)*(B32-C32))) -> 1.1659849 | G32: =E32/F32 -> 4.6922421
A33: ME | B33: 1.362 | C33: 0.945 | D33: =B33/C33 -> 1.4412698 | E33: =((4*PI()*(C33/2)^2)+((PI()*C33)*(B33-C33))) -> 4.0435125 | F33: =(((4/3)*PI()*(C33/2)^3)+(PI()*((C33/2)^2)*(B33-C33))) -> 0.73434506 | G33: =E33/F33 -> 5.506284
A34: ME | B34: 2.731 | C34: 1.173 | D34: =B34/C34 -> 2.3282182 | E34: =((4*PI()*(C34/2)^2)+((PI()*C34)*(B34-C34))) -> 10.063976 | F34: =(((4/3)*PI()*(C34/2)^3)+(PI()*((C34/2)^2)*(B34-C34))) -> 2.5287259 | G34: =E34/F34 -> 3.9798602
A35: ME | B35: 1.806 | C35: 1.174 | D35: =B35/C35 -> 1.5383305 | E35: =((4*PI()*(C35/2)^2)+((PI()*C35)*(B35-C35))) -> 6.660943 | F35: =(((4/3)*PI()*(C35/2)^3)+(PI()*((C35/2)^2)*(B35-C35))) -> 1.5313702 | G35: =E35/F35 -> 4.3496621
... A47: ME | B47: 2.408 | C47: 1.24 | D47: =B47/C47 -> 1.9419355 | E47: =((4*PI()*(C47/2)^2)+((PI()*C47)*(B47-C47))) -> 9.3805443 | F47: =(((4/3)*PI()*(C47/2)^3)+(PI()*((C47/2)^2)*(B47-C47))) -> 2.4088157 | G47: =E47/F47 -> 3.8942556
A48: ME | B48: 2.395 | C48: =(0.585+0.895+0.86)/3 -> 0.78 | D48: =B48/C48 -> 3.0705128 | E48: =((4*PI()*(C48/2)^2)+((PI()*C48)*(B48-C48))) -> 5.8688092 | F48: =(((4/3)*PI()*(C48/2)^3)+(PI()*((C48/2)^2)*(B48-C48))) -> 1.0201804 | G48: =E48/F48 -> 5.7527172
A49: ME | B49: 1.821 | C49: 1.011 | D49: =B49/C49 -> 1.8011869 | E49: =((4*PI()*(C49/2)^2)+((PI()*C49)*(B49-C49))) -> 5.7837695 | F49: =(((4/3)*PI()*(C49/2)^3)+(PI()*((C49/2)^2)*(B49-C49))) -> 1.1913136 | G49: =E49/F49 -> 4.8549513
A50: ME | B50: 1.966 | C50: 1.0779 | D50: =B50/C50 -> 1.8239169 | E50: =((4*PI()*(C50/2)^2)+((PI()*C50)*(B50-C50))) -> 6.6575105 | F50: =(((4/3)*PI()*(C50/2)^3)+(PI()*((C50/2)^2)*(B50-C50))) -> 1.4661609 | G50: =E50/F50 -> 4.5407777
A51: ME | B51: 1.431 | C51: 1.007 | D51: =B51/C51 -> 1.4210526 | E51: =((4*PI()*(C51/2)^2)+((PI()*C51)*(B51-C51))) -> 4.5270884 | F51: =(((4/3)*PI()*(C51/2)^3)+(PI()*((C51/2)^2)*(B51-C51))) -> 0.87235876 | G51: =E51/F51 -> 5.1894801
A52: ME | B52: 2.189 | C52: 1.024 | D52: =B52/C52 -> 2.1376953 | E52: =((4*PI()*(C52/2)^2)+((PI()*C52)*(B52-C52))) -> 7.041993 | F52: =(((4/3)*PI()*(C52/2)^3)+(PI()*((C52/2)^2)*(B52-C52))) -> 1.5216453 | G52: =E52/F52 -> 4.6278809
A53: ME | B53: 2.126 | C53: 1.081 | D53: =B53/C53 -> 1.9666975 | E53: =((4*PI()*(C53/2)^2)+((PI()*C53)*(B53-C53))) -> 7.2200271 | F53: =(((4/3)*PI()*(C53/2)^3)+(PI()*((C53/2)^2)*(B53-C53))) -> 1.6205036 | G53: =E53/F53 -> 4.4554219
A54: ME | B54: 1.393 | C54: 1.019 | D54: =B54/C54 -> 1.3670265 | E54: =((4*PI()*(C54/2)^2)+((PI()*C54)*(B54-C54))) -> 4.4593871 | F54: =(((4/3)*PI()*(C54/2)^3)+(PI()*((C54/2)^2)*(B54-C54))) -> 0.85902159 | G54: =E54/F54 -> 5.1912399
A55: ME | B55: 1.106 | C55: 1.027 | D55: =B55/C55 -> 1.0769231 | E55: =((4*PI()*(C55/2)^2)+((PI()*C55)*(B55-C55))) -> 3.5684157 | F55: =(((4/3)*PI()*(C55/2)^3)+(PI()*((C55/2)^2)*(B55-C55))) -> 0.63260789 | G55: =E55/F55 -> 5.6408018
A56: ME | B56: 1.069 | C56: =(0.804+1.138+0.963)/3 -> 0.96833333 | D56: =B56/C56 -> 1.1039587 | E56: =((4*PI()*(C56/2)^2)+((PI()*C56)*(B56-C56))) -> 3.2520144 | F56: =(((4/3)*PI()*(C56/2)^3)+(PI()*((C56/2)^2)*(B56-C56))) -> 0.54955077 | G56: =E56/F56 -> 5.9175868
A57: ME | B57: 2.57 | C57: 1.05 | D57: =B57/C57 -> 2.447619 | E57: =((4*PI()*(C57/2)^2)+((PI()*C57)*(B57-C57))) -> 8.4775878 | F57: =(((4/3)*PI()*(C57/2)^3)+(PI()*((C57/2)^2)*(B57-C57))) -> 1.9223013 | G57: =E57/F57 -> 4.4101244
A58: ME | B58: 1.229 | C58: 1.036 | D58: =B58/C58 -> 1.1862934 | E58: =((4*PI()*(C58/2)^2)+((PI()*C58)*(B58-C58))) -> 4.000014 | F58: =(((4/3)*PI()*(C58/2)^3)+(PI()*((C58/2)^2)*(B58-C58))) -> 0.74489981 | G58: =E58/F58 -> 5.3698684
A59: ME | B59: 2.41 | C59: 1.041 | D59: =B59/C59 -> 2.3150817 | E59: =((4*PI()*(C59/2)^2)+((PI()*C59)*(B59-C59))) -> 7.8816591 | F59: =(((4/3)*PI()*(C59/2)^3)+(PI()*((C59/2)^2)*(B59-C59))) -> 1.7558628 | G59: =E59/F59 -> 4.4887671
A60: ME | B60: 1.407 | C60: 1.127 | D60: =B60/C60 -> 1.2484472 | E60: =((4*PI()*(C60/2)^2)+((PI()*C60)*(B60-C60))) -> 4.9815889 | F60: =(((4/3)*PI()*(C60/2)^3)+(PI()*((C60/2)^2)*(B60-C60))) -> 1.0288138 | G60: =E60/F60 -> 4.8420706
A61: ME | B61: 2.23 | C61: 1.072 | D61: =B61/C61 -> 2.0802239 | E61: =((4*PI()*(C61/2)^2)+((PI()*C61)*(B61-C61))) -> 7.5101657 | F61: =(((4/3)*PI()*(C61/2)^3)+(PI()*((C61/2)^2)*(B61-C61))) -> 1.6902071 | G61: =E61/F61 -> 4.4433404
A62: ME | B62: 2.224 | C62: 1.174 | D62: =B62/C62 -> 1.8943782 | E62: =((4*PI()*(C62/2)^2)+((PI()*C62)*(B62-C62))) -> 8.202623 | F62: =(((4/3)*PI()*(C62/2)^3)+(PI()*((C62/2)^2)*(B62-C62))) -> 1.9838533 | G62: =E62/F62 -> 4.1346923
A63: ME | B63: 1.682 | C63: 0.961 | D63: =B63/C63 -> 1.7502601 | E63: =((4*PI()*(C63/2)^2)+((PI()*C63)*(B63-C63))) -> 5.0780766 | F63: =(((4/3)*PI()*(C63/2)^3)+(PI()*((C63/2)^2)*(B63-C63))) -> 0.98765999 | G63: =E63/F63 -> 5.1415231
A64: ME | B64: 3.288 | C64: =(1.19+0.858)/2 -> 1.024 | D64: =B64/C64 -> 3.2109375 | E64: =((4*PI()*(C64/2)^2)+((PI()*C64)*(B64-C64))) -> 10.577466 | F64: =(((4/3)*PI()*(C64/2)^3)+(PI()*((C64/2)^2)*(B64-C64))) -> 2.4267263 | G64: =E64/F64 -> 4.3587387
A65: ME | B65: 1.227 | C65: 0.955 | D65: =B65/C65 -> 1.2848168 | E65: =((4*PI()*(C65/2)^2)+((PI()*C65)*(B65-C65))) -> 3.6812711 | F65: =(((4/3)*PI()*(C65/2)^3)+(PI()*((C65/2)^2)*(B65-C65))) -> 0.65088044 | G65: =E65/F65 -> 5.6558331
A66: ME | B66: 1.276 | C66: 0.988 | D66: =B66/C66 -> 1.291498 | E66: =((4*PI()*(C66/2)^2)+((PI()*C66)*(B66-C66))) -> 3.9605682 | F66: =(((4/3)*PI()*(C66/2)^3)+(PI()*((C66/2)^2)*(B66-C66))) -> 0.72577308 | G66: =E66/F66 -> 5.4570337
A67: ME | B67: 1.532 | C67: 0.938 | D67: =B67/C67 -> 1.6332623 | E67: =((4*PI()*(C67/2)^2)+((PI()*C67)*(B67-C67))) -> 4.5145189 | F67: =(((4/3)*PI()*(C67/2)^3)+(PI()*((C67/2)^2)*(B67-C67))) -> 0.84259331 | G67: =E67/F67 -> 5.357886
A68: ME | B68: 2.362 | C68: 1.251 | D68: =B68/C68 -> 1.8880895 | E68: =((4*PI()*(C68/2)^2)+((PI()*C68)*(B68-C68))) -> 9.2829728 | F68: =(((4/3)*PI()*(C68/2)^3)+(PI()*((C68/2)^2)*(B68-C68))) -> 2.3906946 | G68: =E68/F68 -> 3.8829605
A69: ME | B69: 2.179 | C69: 1.126 | D69: =B69/C69 -> 1.9351687 | E69: =((4*PI()*(C69/2)^2)+((PI()*C69)*(B69-C69))) -> 7.7080672 | F69: =(((4/3)*PI()*(C69/2)^3)+(PI()*((C69/2)^2)*(B69-C69))) -> 1.7960687 | G69: =E69/F69 -> 4.2916328
A70: ME | B70: 1.377 | C70: 1.116 | D70: =B70/C70 -> 1.233871 | E70: =((4*PI()*(C70/2)^2)+((PI()*C70)*(B70-C70))) -> 4.827786 | F70: =(((4/3)*PI()*(C70/2)^3)+(PI()*((C70/2)^2)*(B70-C70))) -> 0.98306975 | G70: =E70/F70 -> 4.9109292
A71: ME | B71: 1.558 | C71: 1.12 | D71: =B71/C71 -> 1.3910714 | E71: =((4*PI()*(C71/2)^2)+((PI()*C71)*(B71-C71))) -> 5.4819535 | F71: =(((4/3)*PI()*(C71/2)^3)+(PI()*((C71/2)^2)*(B71-C71))) -> 1.1671377 | G71: =E71/F71 -> 4.696921
A72: ME | B72: 1.747 | C72: 0.93 | D72: =B72/C72 -> 1.8784946 | E72: =((4*PI()*(C72/2)^2)+((PI()*C72)*(B72-C72))) -> 5.104177 | F72: =(((4/3)*PI()*(C72/2)^3)+(PI()*((C72/2)^2)*(B72-C72))) -> 0.97614098 | G72: =E72/F72 -> 5.2289342
A73: ME | B73: 1.425 | C73: 1.166 | D73: =B73/C73 -> 1.2221269 | E73: =((4*PI()*(C73/2)^2)+((PI()*C73)*(B73-C73))) -> 5.2199133 | F73: =(((4/3)*PI()*(C73/2)^3)+(PI()*((C73/2)^2)*(B73-C73))) -> 1.1065893 | G73: =E73/F73 -> 4.7171191
A74: ME | B74: 1.252 | C74: 1.131 | D74: =B74/C74 -> 1.106985 | E74: =((4*PI()*(C74/2)^2)+((PI()*C74)*(B74-C74))) -> 4.4485329 | F74: =(((4/3)*PI()*(C74/2)^3)+(PI()*((C74/2)^2)*(B74-C74))) -> 0.87906936 | G74: =E74/F74 -> 5.0605027
A75: ME | B75: 2.366 | C75: 0.96 | D75: =B75/C75 -> 2.4645833 | E75: =((4*PI()*(C75/2)^2)+((PI()*C75)*(B75-C75))) -> 7.1356879 | F75: =(((4/3)*PI()*(C75/2)^3)+(PI()*((C75/2)^2)*(B75-C75))) -> 1.4809418 | G75: =E75/F75 -> 4.8183447
A76: ME | B76: 1.737 | C76: 1.07 | D76: =B76/C76 -> 1.6233645 | E76: =((4*PI()*(C76/2)^2)+((PI()*C76)*(B76-C76))) -> 5.8389327 | F76: =(((4/3)*PI()*(C76/2)^3)+(PI()*((C76/2)^2)*(B76-C76))) -> 1.241199 | G76: =E76/F76 -> 4.704268
A105: Count | B105: =COUNT(B2:B88) -> 75 | C105: =COUNT(C2:C88) -> 75 | D105: =COUNT(D2:D88) -> 75 | E105: =COUNT(E2:E88) -> 75 | F105: =COUNT(F2:F88) -> 75 | G105: =COUNT(G2:G88) -> 75
A106: Average | B106: =AVERAGE(B2:B75) -> 1.8748108 | C106: =AVERAGE(C2:C75) -> 1.0674356 | D106: =AVERAGE(D2:D75) -> 1.7638405 | E106: =AVERAGE(E2:E75) -> 6.3211906 | F106: =AVERAGE(F2:F75) -> 1.3846077 | G106: =AVERAGE(G2:G75) -> 4.7577796
A107: Standard Dev. | B107: =_xlfn.STDEV.S(B2:B75) -> 0.49374373 | C107: =_xlfn.STDEV.S(C2:C75) -> 0.10340848 | D107: =_xlfn.STDEV.S(D2:D75) -> 0.47326491 | E107: =_xlfn.STDEV.S(E2:E75) -> 1.8766243 | F107: =_xlfn.STDEV.S(F2:F75) -> 0.54534074 | G107: =_xlfn.STDEV.S(G2:G75) -> 0.53808041

Sheet G3 ME4 10041905
A1: Nutrient | B1: Length (mm) | C1: Width (mm) | D1: Length/Width | E1: Surface Area (µm^2) | F1: Volume (µm^3) | G1: SA/V (1/µm)
A2: ME | B2: 1.837 | C2: 1.089 | D2: =B2/C2 -> 1.6868687 | E2: =((4*PI()*(C2/2)^2)+((PI()*C2)*(B2-C2))) -> 6.2847341 | F2: =(((4/3)*PI()*(C2/2)^3)+(PI()*((C2/2)^2)*(B2-C2))) -> 1.3729133 | G2: =E2/F2 -> 4.5776627
A3: ME | B3: 1.485 | C3: 1.086 | D3: =B3/C3 -> 1.3674033 | E3: =((4*PI()*(C3/2)^2)+((PI()*C3)*(B3-C3))) -> 5.0664779 | F3: =(((4/3)*PI()*(C3/2)^3)+(PI()*((C3/2)^2)*(B3-C3))) -> 1.0402298 | G3: =E3/F3 -> 4.8705372
A4: ME | B4: 1.558 | C4: 0.922 | D4: =B4/C4 -> 1.6898048 | E4: =((4*PI()*(C4/2)^2)+((PI()*C4)*(B4-C4))) -> 4.5128224 | F4: =(((4/3)*PI()*(C4/2)^3)+(PI()*((C4/2)^2)*(B4-C4))) -> 0.83501312 | G4: =E4/F4 -> 5.4044929
A5: ME | B5: 1.227 | C5: 1.009 | D5: =B5/C5 -> 1.2160555 | E5: =((4*PI()*(C5/2)^2)+((PI()*C5)*(B5-C5))) -> 3.8894268 | F5: =(((4/3)*PI()*(C5/2)^3)+(PI()*((C5/2)^2)*(B5-C5))) -> 0.71217613 | G5: =E5/F5 -> 5.4613271
A6: ME | B6: 1.666 | C6: 0.991 | D6: =B6/C6 -> 1.6811302 | E6: =((4*PI()*(C6/2)^2)+((PI()*C6)*(B6-C6))) -> 5.1867883 | F6: =(((4/3)*PI()*(C6/2)^3)+(PI()*((C6/2)^2)*(B6-C6))) -> 1.0302326 | G6: =E6/F6 -> 5.03458
A7: ME | B7: 1.361 | C7: 1.076 | D7: =B7/C7 -> 1.2648699 | E7: =((4*PI()*(C7/2)^2)+((PI()*C7)*(B7-C7))) -> 4.6006614 | F7: =(((4/3)*PI()*(C7/2)^3)+(PI()*((C7/2)^2)*(B7-C7))) -> 0.91143688 | G7: =E7/F7 -> 5.0477016
A8: ME | B8: 2.582 | C8: 1.008 | D8: =B8/C8 -> 2.5615079 | E8: =((4*PI()*(C8/2)^2)+((PI()*C8)*(B8-C8))) -> 8.176485 | F8: =(((4/3)*PI()*(C8/2)^3)+(PI()*((C8/2)^2)*(B8-C8))) -> 1.7923412 | G8: =E8/F8 -> 4.5619019
A9: ME | B9: 2.226 | C9: 1.101 | D9: =B9/C9 -> 2.0217984 | E9: =((4*PI()*(C9/2)^2)+((PI()*C9)*(B9-C9))) -> 7.699497 | F9: =(((4/3)*PI()*(C9/2)^3)+(PI()*((C9/2)^2)*(B9-C9))) -> 1.7698804 | G9: =E9/F9 -> 4.3502923
A10: ME | B10: 1.469 | C10: 0.947 | D10: =B10/C10 -> 1.5512144 | E10: =((4*PI()*(C10/2)^2)+((PI()*C10)*(B10-C10))) -> 4.3704046 | F10: =(((4/3)*PI()*(C10/2)^3)+(PI()*((C10/2)^2)*(B10-C10))) -> 0.8123528 | G10: =E10/F10 -> 5.3799342
A11: ME | B11: 2.468 | C11: 1.07 | D11: =B11/C11 -> 2.3065421 | E11: =((4*PI()*(C11/2)^2)+((PI()*C11)*(B11-C11))) -> 8.2961922 | F11: =(((4/3)*PI()*(C11/2)^3)+(PI()*((C11/2)^2)*(B11-C11))) -> 1.8985159 | G11: =E11/F11 -> 4.3698302
A12: ME | B12: 2.371 | C12: 1.12 | D12: =B12/C12 -> 2.1169643 | E12: =((4*PI()*(C12/2)^2)+((PI()*C12)*(B12-C12))) -> 8.3425621 | F12: =(((4/3)*PI()*(C12/2)^3)+(PI()*((C12/2)^2)*(B12-C12))) -> 1.9681081 | G12: =E12/F12 -> 4.2388739
A13: ME | B13: 1.994 | C13: 1.056 | D13: =B13/C13 -> 1.8882576 | E13: =((4*PI()*(C13/2)^2)+((PI()*C13)*(B13-C13))) -> 6.6151386 | F13: =(((4/3)*PI()*(C13/2)^3)+(PI()*((C13/2)^2)*(B13-C13))) -> 1.4381059 | G13: =E13/F13 -> 4.5998967
... A30: ME | B30: 2.259 | C30: 1.024 | D30: =B30/C30 -> 2.2060547 | E30: =((4*PI()*(C30/2)^2)+((PI()*C30)*(B30-C30))) -> 7.2671824 | F30: =(((4/3)*PI()*(C30/2)^3)+(PI()*((C30/2)^2)*(B30-C30))) -> 1.5792937 | G30: =E30/F30 -> 4.6015394
A31: ME | B31: 2.397 | C31: =(0.821+1.156)/2 -> 0.9885 | D31: =B31/C31 -> 2.4248862 | E31: =((4*PI()*(C31/2)^2)+((PI()*C31)*(B31-C31))) -> 7.443798 | F31: =(((4/3)*PI()*(C31/2)^3)+(PI()*((C31/2)^2)*(B31-C31))) -> 1.5866778 | G31: =E31/F31 -> 4.6914364
A32: ME | B32: 1.717 | C32: 0.984 | D32: =B32/C32 -> 1.7449187 | E32: =((4*PI()*(C32/2)^2)+((PI()*C32)*(B32-C32))) -> 5.3078088 | F32: =(((4/3)*PI()*(C32/2)^3)+(PI()*((C32/2)^2)*(B32-C32))) -> 1.0562879 | G32: =E32/F32 -> 5.0249639
A33: ME | B33: 1.758 | C33: 1.108 | D33: =B33/C33 -> 1.5866426 | E33: =((4*PI()*(C33/2)^2)+((PI()*C33)*(B33-C33))) -> 6.1193952 | F33: =(((4/3)*PI()*(C33/2)^3)+(PI()*((C33/2)^2)*(B33-C33))) -> 1.3389594 | G33: =E33/F33 -> 4.5702619
A34: ME | B34: 2.69 | C34: 1.004 | D34: =B34/C34 -> 2.6792829 | E34: =((4*PI()*(C34/2)^2)+((PI()*C34)*(B34-C34))) -> 8.4846878 | F34: =(((4/3)*PI()*(C34/2)^3)+(PI()*((C34/2)^2)*(B34-C34))) -> 1.8647031 | G34: =E34/F34 -> 4.5501549
A35: ME | B35: 1.918 | C35: 0.964 | D35: =B35/C35 -> 1.9896266 | E35: =((4*PI()*(C35/2)^2)+((PI()*C35)*(B35-C35))) -> 5.808654 | F35: =(((4/3)*PI()*(C35/2)^3)+(PI()*((C35/2)^2)*(B35-C35))) -> 1.1653549 | G35: =E35/F35 -> 4.9844507
A36: ME | B36: 1.63 | C36: 1.126 | D36: =B36/C36 -> 1.4476021 | E36: =((4*PI()*(C36/2)^2)+((PI()*C36)*(B36-C36))) -> 5.7660163 | F36: =(((4/3)*PI()*(C36/2)^3)+(PI()*((C36/2)^2)*(B36-C36))) -> 1.2493814 | G36: =E36/F36 -> 4.6150971
A37: ME | B37: 2.172 | C37: =(0.969+1.19)/2 -> 1.0795 | D37: =B37/C37 -> 2.0120426 | E37: =((4*PI()*(C37/2)^2)+((PI()*C37)*(B37-C37))) -> 7.3660106 | F37: =(((4/3)*PI()*(C37/2)^3)+(PI()*((C37/2)^2)*(B37-C37))) -> 1.6585681 | G37: =E37/F37 -> 4.4411867
A38: ME | B38: 1.922 | C38: 1.123 | D38: =B38/C38 -> 1.7114871 | E38: =((4*PI()*(C38/2)^2)+((PI()*C38)*(B38-C38))) -> 6.7808324 | F38: =(((4/3)*PI()*(C38/2)^3)+(PI()*((C38/2)^2)*(B38-C38))) -> 1.5329459 | G38: =E38/F38 -> 4.4233998
A39: ME | B39: 2.379 | C39: 0.905 | D39: =B39/C39 -> 2.6287293 | E39: =((4*PI()*(C39/2)^2)+((PI()*C39)*(B39-C39))) -> 6.7638333 | F39: =(((4/3)*PI()*(C39/2)^3)+(PI()*((C39/2)^2)*(B39-C39))) -> 1.336267 | G39: =E39/F39 -> 5.061738
A40: ME | B40: 1.694 | C40: 0.982 | D40: =B40/C40 -> 1.7250509 | E40: =((4*PI()*(C40/2)^2)+((PI()*C40)*(B40-C40))) -> 5.2260645 | F40: =(((4/3)*PI()*(C40/2)^3)+(PI()*((C40/2)^2)*(B40-C40))) -> 1.0350837 | G40: =E40/F40 -> 5.0489295
A41: ME | B41: 2.262 | C41: 1.014 | D41: =B41/C41 -> 2.2307692 | E41: =((4*PI()*(C41/2)^2)+((PI()*C41)*(B41-C41))) -> 7.2057705 | F41: =(((4/3)*PI()*(C41/2)^3)+(PI()*((C41/2)^2)*(B41-C41))) -> 1.5537132 | G41: =E41/F41 -> 4.6377739
A42: ME | B42: 1.731 | C42: 0.796 | D42: =B42/C42 -> 2.1746231 | E42: =((4*PI()*(C42/2)^2)+((PI()*C42)*(B42-C42))) -> 4.3287251 | F42: =(((4/3)*PI()*(C42/2)^3)+(PI()*((C42/2)^2)*(B42-C42))) -> 0.7293756 | G42: =E42/F42 -> 5.9348368
A43: ME | B43: 1.93 | C43: 1.021 | D43: =B43/C43 -> 1.8903036 | E43: =((4*PI()*(C43/2)^2)+((PI()*C43)*(B43-C43))) -> 6.1906026 | F43: =(((4/3)*PI()*(C43/2)^3)+(PI()*((C43/2)^2)*(B43-C43))) -> 1.3015098 | G43: =E43/F43 -> 4.756478
A44: ME | B44: 1.555 | C44: 0.991 | D44: =B44/C44 -> 1.5691221 | E44: =((4*PI()*(C44/2)^2)+((PI()*C44)*(B44-C44))) -> 4.84121 | F44: =(((4/3)*PI()*(C44/2)^3)+(PI()*((C44/2)^2)*(B44-C44))) -> 0.94461554 | G44: =E44/F44 -> 5.1250586
A45: ME | B45: 1.716 | C45: 1.196 | D45: =B45/C45 -> 1.4347826 | E45: =((4*PI()*(C45/2)^2)+((PI()*C45)*(B45-C45))) -> 6.4476037 | F45: =(((4/3)*PI()*(C45/2)^3)+(PI()*((C45/2)^2)*(B45-C45))) -> 1.479953 | G45: =E45/F45 -> 4.3566274
A46: ME | B46: 2.573 | C46: 1.182 | D46: =B46/C46 -> 2.176819 | E46: =((4*PI()*(C46/2)^2)+((PI()*C46)*(B46-C46))) -> 9.5544818 | F46: =(((4/3)*PI()*(C46/2)^3)+(PI()*((C46/2)^2)*(B46-C46))) -> 2.3910137 | G46: =E46/F46 -> 3.9959962
A47: ME | B47: 1.663 | C47: 1.021 | D47: =B47/C47 -> 1.6287953 | E47: =((4*PI()*(C47/2)^2)+((PI()*C47)*(B47-C47))) -> 5.3341824 | F47: =(((4/3)*PI()*(C47/2)^3)+(PI()*((C47/2)^2)*(B47-C47))) -> 1.0829085 | G47: =E47/F47 -> 4.9257922
A48: ME | B48: 1.238 | C48: 0.847 | D48: =B48/C48 -> 1.4616293 | E48: =((4*PI()*(C48/2)^2)+((PI()*C48)*(B48-C48))) -> 3.2942301 | F48: =(((4/3)*PI()*(C48/2)^3)+(PI()*((C48/2)^2)*(B48-C48))) -> 0.53847202 | G48: =E48/F48 -> 6.1177368
A49: ME | B49: 1.662 | C49: 0.653 | D49: =B49/C49 -> 2.5451761 | E49: =((4*PI()*(C49/2)^2)+((PI()*C49)*(B49-C49))) -> 3.4095265 | F49: =(((4/3)*PI()*(C49/2)^3)+(PI()*((C49/2)^2)*(B49-C49))) -> 0.48370845 | G49: =E49/F49 -> 7.0487222
A50: ME | B50: 2.816 | C50: =(1.022+0.67+0.939)/3 -> 0.877 | D50: =B50/C50 -> 3.2109464 | E50: =((4*PI()*(C50/2)^2)+((PI()*C50)*(B50-C50))) -> 7.7585777 | F50: =(((4/3)*PI()*(C50/2)^3)+(PI()*((C50/2)^2)*(B50-C50))) -> 1.5244776 | G50: =E50/F50 -> 5.0893352
A51: ME | B51: 2.102 | C51: =(0.715+1.195+0.88)/3 -> 0.93 | D51: =B51/C51 -> 2.2602151 | E51: =((4*PI()*(C51/2)^2)+((PI()*C51)*(B51-C51))) -> 6.1413738 | F51: =(((4/3)*PI()*(C51/2)^3)+(PI()*((C51/2)^2)*(B51-C51))) -> 1.2172892 | G51: =E51/F51 -> 5.0451229
A52: ME | B52: 1.761 | C52: 1.174 | D52: =B52/C52 -> 1.5 | E52: =((4*PI()*(C52/2)^2)+((PI()*C52)*(B52-C52))) -> 6.4949726 | F52: =(((4/3)*PI()*(C52/2)^3)+(PI()*((C52/2)^2)*(B52-C52))) -> 1.4826579 | G52: =E52/F52 -> 4.3806279
A53: ME | B53: 1.924 | C53: 1.113 | D53: =B53/C53 -> 1.7286613 | E53: =((4*PI()*(C53/2)^2)+((PI()*C53)*(B53-C53))) -> 6.7274442 | F53: =(((4/3)*PI()*(C53/2)^3)+(PI()*((C53/2)^2)*(B53-C53))) -> 1.5109555 | G53: =E53/F53 -> 4.4524437
A54: ME | B54: 2.021 | C54: 1.046 | D54: =B54/C54 -> 1.9321224 | E54: =((4*PI()*(C54/2)^2)+((PI()*C54)*(B54-C54))) -> 6.6412201 | F54: =(((4/3)*PI()*(C54/2)^3)+(PI()*((C54/2)^2)*(B54-C54))) -> 1.437064 | G54: =E54/F54 -> 4.621381
A55: ME | B55: 1.56 | C55: 1.199 | D55: =B55/C55 -> 1.3010842 | E55: =((4*PI()*(C55/2)^2)+((PI()*C55)*(B55-C55))) -> 5.8761606 | F55: =(((4/3)*PI()*(C55/2)^3)+(PI()*((C55/2)^2)*(B55-C55))) -> 1.3101198 | G55: =E55/F55 -> 4.4852085
A56: ME | B56: 2.12 | C56: 0.98 | D56: =B56/C56 -> 2.1632653 | E56: =((4*PI()*(C56/2)^2)+((PI()*C56)*(B56-C56))) -> 6.5269729 | F56: =(((4/3)*PI()*(C56/2)^3)+(PI()*((C56/2)^2)*(B56-C56))) -> 1.3527049 | G56: =E56/F56 -> 4.8251271
A57: ME | B57: 3.17 | C57: 1.109 | D57: =B57/C57 -> 2.858431 | E57: =((4*PI()*(C57/2)^2)+((PI()*C57)*(B57-C57))) -> 11.044363 | F57: =(((4/3)*PI()*(C57/2)^3)+(PI()*((C57/2)^2)*(B57-C57))) -> 2.7049716 | G57: =E57/F57 -> 4.0829868
A58: ME | B58: 1.53 | C58: 1.105 | D58: =B58/C58 -> 1.3846154 | E58: =((4*PI()*(C58/2)^2)+((PI()*C58)*(B58-C58))) -> 5.3113336 | F58: =(((4/3)*PI()*(C58/2)^3)+(PI()*((C58/2)^2)*(B58-C58))) -> 1.1140276 | G58: =E58/F58 -> 4.7676857
A59: ME | B59: 2.178 | C59: 1.106 | D59: =B59/C59 -> 1.9692586 | E59: =((4*PI()*(C59/2)^2)+((PI()*C59)*(B59-C59))) -> 7.567682 | F59: =(((4/3)*PI()*(C59/2)^3)+(PI()*((C59/2)^2)*(B59-C59))) -> 1.7382759 | G59: =E59/F59 -> 4.3535562
A60: ME | B60: 1.808 | C60: 1.155 | D60: =B60/C60 -> 1.565368 | E60: =((4*PI()*(C60/2)^2)+((PI()*C60)*(B60-C60))) -> 6.5603994 | F60: =(((4/3)*PI()*(C60/2)^3)+(PI()*((C60/2)^2)*(B60-C60))) -> 1.4909351 | G60: =E60/F60 -> 4.400191
A61: ME | B61: 1.79 | C61: 1.142 | D61: =B61/C61 -> 1.5674256 | E61: =((4*PI()*(C61/2)^2)+((PI()*C61)*(B61-C61))) -> 6.4219809 | F61: =(((4/3)*PI()*(C61/2)^3)+(PI()*((C61/2)^2)*(B61-C61))) -> 1.4435632 | G61: =E61/F61 -> 4.4487008
A62: ME | B62: 1.673 | C62: 1.129 | D62: =B62/C62 -> 1.4818423 | E62: =((4*PI()*(C62/2)^2)+((PI()*C62)*(B62-C62))) -> 5.9338936 | F62: =(((4/3)*PI()*(C62/2)^3)+(PI()*((C62/2)^2)*(B62-C62))) -> 1.2980939 | G62: =E62/F62 -> 4.571236
A63: ME | B63: 1.576 | C63: 0.755 | D63: =B63/C63 -> 2.0874172 | E63: =((4*PI()*(C63/2)^2)+((PI()*C63)*(B63-C63))) -> 3.7381183 | F63: =(((4/3)*PI()*(C63/2)^3)+(PI()*((C63/2)^2)*(B63-C63))) -> 0.59289951 | G63: =E63/F63 -> 6.3048091
A64: ME | B64: 1.969 | C64: =(0.843+0.723+0.95)/3 -> 0.83866667 | D64: =B64/C64 -> 2.3477742 | E64: =((4*PI()*(C64/2)^2)+((PI()*C64)*(B64-C64))) -> 5.1878209 | F64: =(((4/3)*PI()*(C64/2)^3)+(PI()*((C64/2)^2)*(B64-C64))) -> 0.93328129 | G64: =E64/F64 -> 5.5586894
A65: ME | B65: 1.834 | C65: 1.131 | D65: =B65/C65 -> 1.6215738 | E65: =((4*PI()*(C65/2)^2)+((PI()*C65)*(B65-C65))) -> 6.5164611 | F65: =(((4/3)*PI()*(C65/2)^3)+(PI()*((C65/2)^2)*(B65-C65))) -> 1.4637761 | G65: =E65/F65 -> 4.4518156
A66: ME | B66: 1.807 | C66: 0.98 | D66: =B66/C66 -> 1.8438776 | E66: =((4*PI()*(C66/2)^2)+((PI()*C66)*(B66-C66))) -> 5.5633208 | F66: =(((4/3)*PI()*(C66/2)^3)+(PI()*((C66/2)^2)*(B66-C66))) -> 1.1166101 | G66: =E66/F66 -> 4.9823307
A67: ME | B67: 1.767 | C67: 0.891 | D67: =B67/C67 -> 1.983165 | E67: =((4*PI()*(C67/2)^2)+((PI()*C67)*(B67-C67))) -> 4.946114 | F67: =(((4/3)*PI()*(C67/2)^3)+(PI()*((C67/2)^2)*(B67-C67))) -> 0.91656364 | G67: =E67/F67 -> 5.3963673
A68: ME | B68: 2.655 | C68: 1.1 | D68: =B68/C68 -> 2.4136364 | E68: =((4*PI()*(C68/2)^2)+((PI()*C68)*(B68-C68))) -> 9.1750213 | F68: =(((4/3)*PI()*(C68/2)^3)+(PI()*((C68/2)^2)*(B68-C68))) -> 2.1746759 | G68: =E68/F68 -> 4.2190293
A69: ME | B69: 1.326 | C69: 0.843 | D69: =B69/C69 -> 1.5729537 | E69: =((4*PI()*(C69/2)^2)+((PI()*C69)*(B69-C69))) -> 3.5117288 | F69: =(((4/3)*PI()*(C69/2)^3)+(PI()*((C69/2)^2)*(B69-C69))) -> 0.58325883 | G69: =E69/F69 -> 6.0208755
A70: ME | B70: 1.627 | C70: 1.164 | D70: =B70/C70 -> 1.3977663 | E70: =((4*PI()*(C70/2)^2)+((PI()*C70)*(B70-C70))) -> 5.9496361 | F70: =(((4/3)*PI()*(C70/2)^3)+(PI()*((C70/2)^2)*(B70-C70))) -> 1.3184606 | G70: =E70/F70 -> 4.5125628
A71: ME | B71: 2.084 | C71: 1.04 | D71: =B71/C71 -> 2.0038462 | E71: =((4*PI()*(C71/2)^2)+((PI()*C71)*(B71-C71))) -> 6.8089623 | F71: =(((4/3)*PI()*(C71/2)^3)+(PI()*((C71/2)^2)*(B71-C71))) -> 1.4758415 | G71: =E71/F71 -> 4.6136136
A72: ME | B72: 2.285 | C72: 1.149 | D72: =B72/C72 -> 1.9886858 | E72: =((4*PI()*(C72/2)^2)+((PI()*C72)*(B72-C72))) -> 8.2481416 | F72: =(((4/3)*PI()*(C72/2)^3)+(PI()*((C72/2)^2)*(B72-C72))) -> 1.9721523 | G72: =E72/F72 -> 4.1823046
A73: ME | B73: 1.767 | C73: 0.91 | D73: =B73/C73 -> 1.9417582 | E73: =((4*PI()*(C73/2)^2)+((PI()*C73)*(B73-C73))) -> 5.0515867 | F73: =(((4/3)*PI()*(C73/2)^3)+(PI()*((C73/2)^2)*(B73-C73))) -> 0.95195156 | G73: =E73/F73 -> 5.3065586
A74: ME | B74: 2.033 | C74: 1.008 | D74: =B74/C74 -> 2.0168651 | E74: =((4*PI()*(C74/2)^2)+((PI()*C74)*(B74-C74))) -> 6.4379527 | F74: =(((4/3)*PI()*(C74/2)^3)+(PI()*((C74/2)^2)*(B74-C74))) -> 1.3542311 | G74: =E74/F74 -> 4.7539542
A75: ME | B75: 1.341 | C75: =(0.771+1.022)/2 -> 0.8965 | D75: =B75/C75 -> 1.4958171 | E75: =((4*PI()*(C75/2)^2)+((PI()*C75)*(B75-C75))) -> 3.7768431 | F75: =(((4/3)*PI()*(C75/2)^3)+(PI()*((C75/2)^2)*(B75-C75))) -> 0.65785116 | G75: =E75/F75 -> 5.7411818
A76: ME | B76: 1.396 | C76: 1.095 | D76: =B76/C76 -> 1.2748858 | E76: =((4*PI()*(C76/2)^2)+((PI()*C76)*(B76-C76))) -> 4.8023014 | F76: =(((4/3)*PI()*(C76/2)^3)+(PI()*((C76/2)^2)*(B76-C76))) -> 0.97090511 | G76: =E76/F76 -> 4.9462108
A77: ME | B77: 2.125 | C77: 1.263 | D77: =B77/C77 -> 1.682502 | E77: =((4*PI()*(C77/2)^2)+((PI()*C77)*(B77-C77))) -> 8.431642 | F77: =(((4/3)*PI()*(C77/2)^3)+(PI()*((C77/2)^2)*(B77-C77))) -> 2.1348441 | G77: =E77/F77 -> 3.9495352
A78: ME | B78: 1.611 | C78: 0.962 | D78: =B78/C78 -> 1.6746362 | E78: =((4*PI()*(C78/2)^2)+((PI()*C78)*(B78-C78))) -> 4.8687837 | F78: =(((4/3)*PI()*(C78/2)^3)+(PI()*((C78/2)^2)*(B78-C78))) -> 0.93786848 | G78: =E78/F78 -> 5.1913289
A105: Count | B105: =COUNT(B1:B103) -> 77 | C105: =COUNT(C1:C103) -> 77 | D105: =COUNT(D1:D103) -> 77 | E105: =COUNT(E1:E103) -> 77 | F105: =COUNT(F1:F103) -> 77 | G105: =COUNT(G1:G103) -> 77
A106: Average | B106: =AVERAGE(B2:B103) -> 1.8881818 | C106: =AVERAGE(C2:C103) -> 1.0263918 | D106: =AVERAGE(D2:D103) -> 1.8562795 | E106: =AVERAGE(E2:E103) -> 6.1265447 | F106: =AVERAGE(F2:F103) -> 1.307725 | G106: =AVERAGE(G2:G103) -> 4.887596
A107: Standard Dev. | B107: =_xlfn.STDEV.S(B2:B103) -> 0.4246685 | C107: =_xlfn.STDEV.S(C2:C103) -> 0.12494903 | D107: =_xlfn.STDEV.S(D2:D103) -> 0.42833471 | E107: =_xlfn.STDEV.S(E2:E103) -> 1.6681944 | F107: =_xlfn.STDEV.S(F2:F103) -> 0.47692637 | G107: =_xlfn.STDEV.S(G2:G103) -> 0.65541985

Sheet G4 MB2 10022352
A1: Nutrient | B1: Length (mm) | C1: Width (mm) | D1: Length/Width | E1: Surface Area (µm^2) | F1: Volume (µm^3) | G1: SA/V (1/µm)
A2: MB | B2: 1.297 | C2: 0.876 | D2: =B2/C2 -> 1.4805936 | E2: =((4*PI()*(C2/2)^2)+((PI()*C2)*(B2-C2))) -> 3.5693896 | F2: =(((4/3)*PI()*(C2/2)^3)+(PI()*((C2/2)^2)*(B2-C2))) -> 0.60570918 | G2: =E2/F2 -> 5.8929099
A3: MB | B3: 1.612 | C3: 0.977 | D3: =B3/C3 -> 1.6499488 | E3: =((4*PI()*(C3/2)^2)+((PI()*C3)*(B3-C3))) -> 4.9477697 | F3: =(((4/3)*PI()*(C3/2)^3)+(PI()*((C3/2)^2)*(B3-C3))) -> 0.96434522 | G3: =E3/F3 -> 5.1307038
A4: MB | B4: 1.285 | C4: 1.048 | D4: =B4/C4 -> 1.226145 | E4: =((4*PI()*(C4/2)^2)+((PI()*C4)*(B4-C4))) -> 4.23072 | F4: =(((4/3)*PI()*(C4/2)^3)+(PI()*((C4/2)^2)*(B4-C4))) -> 0.80711163 | G4: =E4/F4 -> 5.2418028
A5: MB | B5: 2.15 | C5: 0.829 | D5: =B5/C5 -> 2.5934861 | E5: =((4*PI()*(C5/2)^2)+((PI()*C5)*(B5-C5))) -> 5.5994177 | F5: =(((4/3)*PI()*(C5/2)^3)+(PI()*((C5/2)^2)*(B5-C5))) -> 1.0113262 | G5: =E5/F5 -> 5.5367076
A6: MB | B6: 1.473 | C6: 1.042 | D6: =B6/C6 -> 1.4136276 | E6: =((4*PI()*(C6/2)^2)+((PI()*C6)*(B6-C6))) -> 4.8219237 | F6: =(((4/3)*PI()*(C6/2)^3)+(PI()*((C6/2)^2)*(B6-C6))) -> 0.95992019 | G6: =E6/F6 -> 5.0232549
A7: MB | B7: 2.022 | C7: 0.835 | D7: =B7/C7 -> 2.4215569 | E7: =((4*PI()*(C7/2)^2)+((PI()*C7)*(B7-C7))) -> 5.3041708 | F7: =(((4/3)*PI()*(C7/2)^3)+(PI()*((C7/2)^2)*(B7-C7))) -> 0.95483053 | G7: =E7/F7 -> 5.5550913
A8: MB | B8: 1.461 | C8: 0.99 | D8: =B8/C8 -> 1.4757576 | E8: =((4*PI()*(C8/2)^2)+((PI()*C8)*(B8-C8))) -> 4.5439682 | F8: =(((4/3)*PI()*(C8/2)^3)+(PI()*((C8/2)^2)*(B8-C8))) -> 0.87060844 | G8: =E8/F8 -> 5.2193018
A9: MB | B9: 2.166 | C9: 1.006 | D9: =B9/C9 -> 2.1530815 | E9: =((4*PI()*(C9/2)^2)+((PI()*C9)*(B9-C9))) -> 6.8455178 | F9: =(((4/3)*PI()*(C9/2)^3)+(PI()*((C9/2)^2)*(B9-C9))) -> 1.4551076 | G9: =E9/F9 -> 4.7044753
A10: MB | B10: 1.244 | C10: 0.918 | D10: =B10/C10 -> 1.3551198 | E10: =((4*PI()*(C10/2)^2)+((PI()*C10)*(B10-C10))) -> 3.5876737 | F10: =(((4/3)*PI()*(C10/2)^3)+(PI()*((C10/2)^2)*(B10-C10))) -> 0.6208377 | G10: =E10/F10 -> 5.7787626
A11: MB | B11: 1.543 | C11: 0.989 | D11: =B11/C11 -> 1.5601618 | E11: =((4*PI()*(C11/2)^2)+((PI()*C11)*(B11-C11))) -> 4.7941552 | F11: =(((4/3)*PI()*(C11/2)^3)+(PI()*((C11/2)^2)*(B11-C11))) -> 0.93210018 | G11: =E11/F11 -> 5.1433905
A12: MB | B12: 1.297 | C12: 0.812 | D12: =B12/C12 -> 1.5972906 | E12: =((4*PI()*(C12/2)^2)+((PI()*C12)*(B12-C12))) -> 3.3086123 | F12: =(((4/3)*PI()*(C12/2)^3)+(PI()*((C12/2)^2)*(B12-C12))) -> 0.53148422 | G12: =E12/F12 -> 6.2252315
A13: MB | B13: 1.276 | C13: 1.063 | D13: =B13/C13 -> 1.2003763 | E13: =((4*PI()*(C13/2)^2)+((PI()*C13)*(B13-C13))) -> 4.2612186 | F13: =(((4/3)*PI()*(C13/2)^3)+(PI()*((C13/2)^2)*(B13-C13))) -> 0.81795666 | G13: =E13/F13 -> 5.2095897
... A20: MB | B20: 2.456 | C20: 1 | D20: =B20/C20 -> 2.456 | E20: =((4*PI()*(C20/2)^2)+((PI()*C20)*(B20-C20))) -> 7.7157516 | F20: =(((4/3)*PI()*(C20/2)^3)+(PI()*((C20/2)^2)*(B20-C20))) -> 1.6671385 | G20: =E20/F20 -> 4.6281407
A21: MB | B21: 1.208 | C21: =(0.668+0.906)/2 -> 0.787 | D21: =B21/C21 -> 1.5349428 | E21: =((4*PI()*(C21/2)^2)+((PI()*C21)*(B21-C21))) -> 2.9866996 | F21: =(((4/3)*PI()*(C21/2)^3)+(PI()*((C21/2)^2)*(B21-C21))) -> 0.46002076 | G21: =E21/F21 -> 6.4925322
A22: MB | B22: 1.393 | C22: 0.867 | D22: =B22/C22 -> 1.6066897 | E22: =((4*PI()*(C22/2)^2)+((PI()*C22)*(B22-C22))) -> 3.7941988 | F22: =(((4/3)*PI()*(C22/2)^3)+(PI()*((C22/2)^2)*(B22-C22))) -> 0.65177418 | G22: =E22/F22 -> 5.8213396
A23: MB | B23: 1.295 | C23: 1.06 | D23: =B23/C23 -> 1.2216981 | E23: =((4*PI()*(C23/2)^2)+((PI()*C23)*(B23-C23))) -> 4.3124642 | F23: =(((4/3)*PI()*(C23/2)^3)+(PI()*((C23/2)^2)*(B23-C23))) -> 0.83099576 | G23: =E23/F23 -> 5.1895141
A24: MB | B24: 1.689 | C24: 0.95 | D24: =B24/C24 -> 1.7778947 | E24: =((4*PI()*(C24/2)^2)+((PI()*C24)*(B24-C24))) -> 5.0408425 | F24: =(((4/3)*PI()*(C24/2)^3)+(PI()*((C24/2)^2)*(B24-C24))) -> 0.97273984 | G24: =E24/F24 -> 5.1821076
A25: MB | B25: 1.562 | C25: 1.055 | D25: =B25/C25 -> 1.4805687 | E25: =((4*PI()*(C25/2)^2)+((PI()*C25)*(B25-C25))) -> 5.1770619 | F25: =(((4/3)*PI()*(C25/2)^3)+(PI()*((C25/2)^2)*(B25-C25))) -> 1.0580344 | G25: =E25/F25 -> 4.8930941
A26: MB | B26: 1.96 | C26: 1.011 | D26: =B26/C26 -> 1.9386746 | E26: =((4*PI()*(C26/2)^2)+((PI()*C26)*(B26-C26))) -> 6.2252543 | F26: =(((4/3)*PI()*(C26/2)^3)+(PI()*((C26/2)^2)*(B26-C26))) -> 1.3028989 | G26: =E26/F26 -> 4.7780027
A27: MB | B27: 1.333 | C27: 0.991 | D27: =B27/C27 -> 1.345106 | E27: =((4*PI()*(C27/2)^2)+((PI()*C27)*(B27-C27))) -> 4.1500533 | F27: =(((4/3)*PI()*(C27/2)^3)+(PI()*((C27/2)^2)*(B27-C27))) -> 0.77338148 | G27: =E27/F27 -> 5.3661142
A28: MB | B28: 1.283 | C28: 0.796 | D28: =B28/C28 -> 1.611809 | E28: =((4*PI()*(C28/2)^2)+((PI()*C28)*(B28-C28))) -> 3.208408 | F28: =(((4/3)*PI()*(C28/2)^3)+(PI()*((C28/2)^2)*(B28-C28))) -> 0.5064325 | G28: =E28/F28 -> 6.3353123
A29: MB | B29: 1.728 | C29: =(1.061+1.205)/2 -> 1.133 | D29: =B29/C29 -> 1.5251545 | E29: =((4*PI()*(C29/2)^2)+((PI()*C29)*(B29-C29))) -> 6.1506855 | F29: =(((4/3)*PI()*(C29/2)^3)+(PI()*((C29/2)^2)*(B29-C29))) -> 1.3614155 | G29: =E29/F29 -> 4.5178606
A30: MB | B30: 1.322 | C30: 0.847 | D30: =B30/C30 -> 1.5608028 | E30: =((4*PI()*(C30/2)^2)+((PI()*C30)*(B30-C30))) -> 3.5177481 | F30: =(((4/3)*PI()*(C30/2)^3)+(PI()*((C30/2)^2)*(B30-C30))) -> 0.58580196 | G30: =E30/F30 -> 6.0050125
A31: MB | B31: 1.997 | C31: 0.985 | D31: =B31/C31 -> 2.0274112 | E31: =((4*PI()*(C31/2)^2)+((PI()*C31)*(B31-C31))) -> 6.1796541 | F31: =(((4/3)*PI()*(C31/2)^3)+(PI()*((C31/2)^2)*(B31-C31))) -> 1.2715456 | G31: =E31/F31 -> 4.8599549
A32: MB | B32: 1.264 | C32: 0.906 | D32: =B32/C32 -> 1.3951435 | E32: =((4*PI()*(C32/2)^2)+((PI()*C32)*(B32-C32))) -> 3.5977016 | F32: =(((4/3)*PI()*(C32/2)^3)+(PI()*((C32/2)^2)*(B32-C32))) -> 0.62018513 | G32: =E32/F32 -> 5.8010124
A33: MB | B33: 1.603 | C33: 1.166 | D33: =B33/C33 -> 1.3747856 | E33: =((4*PI()*(C33/2)^2)+((PI()*C33)*(B33-C33))) -> 5.8719445 | F33: =(((4/3)*PI()*(C33/2)^3)+(PI()*((C33/2)^2)*(B33-C33))) -> 1.2966564 | G33: =E33/F33 -> 4.5285279
A34: MB | B34: 1.334 | C34: 0.963 | D34: =B34/C34 -> 1.3852544 | E34: =((4*PI()*(C34/2)^2)+((PI()*C34)*(B34-C34))) -> 4.0358219 | F34: =(((4/3)*PI()*(C34/2)^3)+(PI()*((C34/2)^2)*(B34-C34))) -> 0.73782251 | G34: =E34/F34 -> 5.4699088
A35: MB | B35: 1.062 | C35: 0.917 | D35: =B35/C35 -> 1.1581243 | E35: =((4*PI()*(C35/2)^2)+((PI()*C35)*(B35-C35))) -> 3.0594526 | F35: =(((4/3)*PI()*(C35/2)^3)+(PI()*((C35/2)^2)*(B35-C35))) -> 0.49950725 | G35: =E35/F35 -> 6.1249413
A36: MB | B36: 1.206 | C36: 0.916 | D36: =B36/C36 -> 1.3165939 | E36: =((4*PI()*(C36/2)^2)+((PI()*C36)*(B36-C36))) -> 3.4705048 | F36: =(((4/3)*PI()*(C36/2)^3)+(PI()*((C36/2)^2)*(B36-C36))) -> 0.59353307 | G36: =E36/F36 -> 5.8471971
A37: MB | B37: 1.617 | C37: 1.072 | D37: =B37/C37 -> 1.5083955 | E37: =((4*PI()*(C37/2)^2)+((PI()*C37)*(B37-C37))) -> 5.4457121 | F37: =(((4/3)*PI()*(C37/2)^3)+(PI()*((C37/2)^2)*(B37-C37))) -> 1.1369336 | G37: =E37/F37 -> 4.7898244
A38: MB | B38: 1.4 | C38: 0.944 | D38: =B38/C38 -> 1.4830508 | E38: =((4*PI()*(C38/2)^2)+((PI()*C38)*(B38-C38))) -> 4.1519289 | F38: =(((4/3)*PI()*(C38/2)^3)+(PI()*((C38/2)^2)*(B38-C38))) -> 0.75962109 | G38: =E38/F38 -> 5.4657894
A39: MB | B39: 1.305 | C39: 0.885 | D39: =B39/C39 -> 1.4745763 | E39: =((4*PI()*(C39/2)^2)+((PI()*C39)*(B39-C39))) -> 3.6283039 | F39: =(((4/3)*PI()*(C39/2)^3)+(PI()*((C39/2)^2)*(B39-C39))) -> 0.62129491 | G39: =E39/F39 -> 5.839906
A40: MB | B40: 1.526 | C40: 1.056 | D40: =B40/C40 -> 1.4450758 | E40: =((4*PI()*(C40/2)^2)+((PI()*C40)*(B40-C40))) -> 5.0625383 | F40: =(((4/3)*PI()*(C40/2)^3)+(PI()*((C40/2)^2)*(B40-C40))) -> 1.0282194 | G40: =E40/F40 -> 4.9235971
A41: MB | B41: 1.326 | C41: 0.928 | D41: =B41/C41 -> 1.4288793 | E41: =((4*PI()*(C41/2)^2)+((PI()*C41)*(B41-C41))) -> 3.8658177 | F41: =(((4/3)*PI()*(C41/2)^3)+(PI()*((C41/2)^2)*(B41-C41))) -> 0.6876452 | G41: =E41/F41 -> 5.6218202
... A60: MB | B60: 2.053 | C60: 0.922 | D60: =B60/C60 -> 2.2266811 | E60: =((4*PI()*(C60/2)^2)+((PI()*C60)*(B60-C60))) -> 5.9466139 | F60: =(((4/3)*PI()*(C60/2)^3)+(PI()*((C60/2)^2)*(B60-C60))) -> 1.1655021 | G60: =E60/F60 -> 5.1021909
A61: MB | B61: 1.934 | C61: =(0.886+0.595)/2 -> 0.7405 | D61: =B61/C61 -> 2.6117488 | E61: =((4*PI()*(C61/2)^2)+((PI()*C61)*(B61-C61))) -> 4.4991597 | F61: =(((4/3)*PI()*(C61/2)^3)+(PI()*((C61/2)^2)*(B61-C61))) -> 0.72660435 | G61: =E61/F61 -> 6.1920351
A62: MB | B62: 1.753 | C62: 0.972 | D62: =B62/C62 -> 1.8034979 | E62: =((4*PI()*(C62/2)^2)+((PI()*C62)*(B62-C62))) -> 5.35301 | F62: =(((4/3)*PI()*(C62/2)^3)+(PI()*((C62/2)^2)*(B62-C62))) -> 1.0603632 | G62: =E62/F62 -> 5.0482798
A63: MB | B63: 1.135 | C63: 0.777 | D63: =B63/C63 -> 1.4607465 | E63: =((4*PI()*(C63/2)^2)+((PI()*C63)*(B63-C63))) -> 2.7705549 | F63: =(((4/3)*PI()*(C63/2)^3)+(PI()*((C63/2)^2)*(B63-C63))) -> 0.41537086 | G63: =E63/F63 -> 6.6700752
A64: MB | B64: 1.38 | C64: 0.935 | D64: =B64/C64 -> 1.4759358 | E64: =((4*PI()*(C64/2)^2)+((PI()*C64)*(B64-C64))) -> 4.053597 | F64: =(((4/3)*PI()*(C64/2)^3)+(PI()*((C64/2)^2)*(B64-C64))) -> 0.73353338 | G64: =E64/F64 -> 5.5261248
A65: MB | B65: 1.829 | C65: 0.992 | D65: =B65/C65 -> 1.84375 | E65: =((4*PI()*(C65/2)^2)+((PI()*C65)*(B65-C65))) -> 5.7000052 | F65: =(((4/3)*PI()*(C65/2)^3)+(PI()*((C65/2)^2)*(B65-C65))) -> 1.158035 | G65: =E65/F65 -> 4.9221357
A66: MB | B66: 1.477 | C66: 1.019 | D66: =B66/C66 -> 1.4494603 | E66: =((4*PI()*(C66/2)^2)+((PI()*C66)*(B66-C66))) -> 4.7282949 | F66: =(((4/3)*PI()*(C66/2)^3)+(PI()*((C66/2)^2)*(B66-C66))) -> 0.92752584 | G66: =E66/F66 -> 5.09775
A67: MB | B67: =(1.184+1.248) -> 2.432 | C67: =(1.013+0.917)/2 -> 0.965 | D67: =B67/C67 -> 2.5202073 | E67: =((4*PI()*(C67/2)^2)+((PI()*C67)*(B67-C67))) -> 7.372941 | F67: =(((4/3)*PI()*(C67/2)^3)+(PI()*((C67/2)^2)*(B67-C67))) -> 1.5434607 | G67: =E67/F67 -> 4.7768894
A68: MB | B68: 1.505 | C68: 0.914 | D68: =B68/C68 -> 1.6466083 | E68: =((4*PI()*(C68/2)^2)+((PI()*C68)*(B68-C68))) -> 4.3214806 | F68: =(((4/3)*PI()*(C68/2)^3)+(PI()*((C68/2)^2)*(B68-C68))) -> 0.78756089 | G68: =E68/F68 -> 5.4871702
A69: MB | B69: 1.424 | C69: 0.955 | D69: =B69/C69 -> 1.4910995 | E69: =((4*PI()*(C69/2)^2)+((PI()*C69)*(B69-C69))) -> 4.2723147 | F69: =(((4/3)*PI()*(C69/2)^3)+(PI()*((C69/2)^2)*(B69-C69))) -> 0.79199208 | G69: =E69/F69 -> 5.3943906
A70: MB | B70: 1.474 | C70: 1.011 | D70: =B70/C70 -> 1.4579624 | E70: =((4*PI()*(C70/2)^2)+((PI()*C70)*(B70-C70))) -> 4.6816454 | F70: =(((4/3)*PI()*(C70/2)^3)+(PI()*((C70/2)^2)*(B70-C70))) -> 0.91275171 | G70: =E70/F70 -> 5.1291554
A71: MB | B71: 1.341 | C71: 1.056 | D71: =B71/C71 -> 1.2698864 | E71: =((4*PI()*(C71/2)^2)+((PI()*C71)*(B71-C71))) -> 4.4487968 | F71: =(((4/3)*PI()*(C71/2)^3)+(PI()*((C71/2)^2)*(B71-C71))) -> 0.86619168 | G71: =E71/F71 -> 5.1360419
A72: MB | B72: 1.625 | C72: 1.122 | D72: =B72/C72 -> 1.4483066 | E72: =((4*PI()*(C72/2)^2)+((PI()*C72)*(B72-C72))) -> 5.7279088 | F72: =(((4/3)*PI()*(C72/2)^3)+(PI()*((C72/2)^2)*(B72-C72))) -> 1.2368952 | G72: =E72/F72 -> 4.6308764
A73: MB | B73: 2.247 | C73: 0.989 | D73: =B73/C73 -> 2.2719919 | E73: =((4*PI()*(C73/2)^2)+((PI()*C73)*(B73-C73))) -> 6.9815079 | F73: =(((4/3)*PI()*(C73/2)^3)+(PI()*((C73/2)^2)*(B73-C73))) -> 1.4729231 | G73: =E73/F73 -> 4.7398997
A74: MB | B74: 1.892 | C74: 0.861 | D74: =B74/C74 -> 2.1974448 | E74: =((4*PI()*(C74/2)^2)+((PI()*C74)*(B74-C74))) -> 5.1176921 | F74: =(((4/3)*PI()*(C74/2)^3)+(PI()*((C74/2)^2)*(B74-C74))) -> 0.9344826 | G74: =E74/F74 -> 5.476498
A75: MB | B75: 2.295 | C75: 0.988 | D75: =B75/C75 -> 2.3228745 | E75: =((4*PI()*(C75/2)^2)+((PI()*C75)*(B75-C75))) -> 7.1234357 | F75: =(((4/3)*PI()*(C75/2)^3)+(PI()*((C75/2)^2)*(B75-C75))) -> 1.5070014 | G75: =E75/F75 -> 4.726894
A76: MB | B76: 2.228 | C76: 1.002 | D76: =B76/C76 -> 2.2235529 | E76: =((4*PI()*(C76/2)^2)+((PI()*C76)*(B76-C76))) -> 7.0134674 | F76: =(((4/3)*PI()*(C76/2)^3)+(PI()*((C76/2)^2)*(B76-C76))) -> 1.4935002 | G76: =E76/F76 -> 4.6959934
A77: MB | B77: 1.539 | C77: 0.949 | D77: =B77/C77 -> 1.6217071 | E77: =((4*PI()*(C77/2)^2)+((PI()*C77)*(B77-C77))) -> 4.5883306 | F77: =(((4/3)*PI()*(C77/2)^3)+(PI()*((C77/2)^2)*(B77-C77))) -> 0.86482927 | G77: =E77/F77 -> 5.3054757
A78: MB | B78: 1.407 | C78: 0.962 | D78: =B78/C78 -> 1.462578 | E78: =((4*PI()*(C78/2)^2)+((PI()*C78)*(B78-C78))) -> 4.2522525 | F78: =(((4/3)*PI()*(C78/2)^3)+(PI()*((C78/2)^2)*(B78-C78))) -> 0.78959271 | G78: =E78/F78 -> 5.3853745
A79: MB | B79: 1.533 | C79: 1.16 | D79: =B79/C79 -> 1.3215517 | E79: =((4*PI()*(C79/2)^2)+((PI()*C79)*(B79-C79))) -> 5.5866314 | F79: =(((4/3)*PI()*(C79/2)^3)+(PI()*((C79/2)^2)*(B79-C79))) -> 1.2114815 | G79: =E79/F79 -> 4.6114047
... A81: MB | B81: 1.531 | C81: 0.922 | D81: =B81/C81 -> 1.6605206 | E81: =((4*PI()*(C81/2)^2)+((PI()*C81)*(B81-C81))) -> 4.4346156 | F81: =(((4/3)*PI()*(C81/2)^3)+(PI()*((C81/2)^2)*(B81-C81))) -> 0.81698645 | G81: =E81/F81 -> 5.4280162
A105: Count | B105: =COUNT(B1:B96) -> 80 | C105: =COUNT(C1:C96) -> 80 | D105: =COUNT(D1:D96) -> 80 | E105: =COUNT(E1:E96) -> 80 | F105: =COUNT(F1:F96) -> 80 | G105: =COUNT(G1:G96) -> 80
A106: Average | B106: =AVERAGE(B2:B100) -> 1.57025 | C106: =AVERAGE(C2:C100) -> 0.96769375 | D106: =AVERAGE(D2:D100) -> 1.635364 | E106: =AVERAGE(E2:E100) -> 4.779406 | F106: =AVERAGE(F2:F100) -> 0.92428223 | G106: =AVERAGE(G2:G100) -> 5.3213542
A107: Standard Dev. | B107: =_xlfn.STDEV.S(B2:B100) -> 0.35969602 | C107: =_xlfn.STDEV.S(C2:C100) -> 0.088800284 | D107: =_xlfn.STDEV.S(D2:D100) -> 0.41245058 | E107: =_xlfn.STDEV.S(E2:E100) -> 1.1839012 | F107: =_xlfn.STDEV.S(F2:F100) -> 0.30436564 | G107: =_xlfn.STDEV.S(G2:G100) -> 0.51524951

Sheet G4 MB3 06131414
A1: Nutrient | B1: Length (mm) | C1: Width (mm) | D1: Length/Width | E1: Surface Area (µm^2) | F1: Volume (µm^3) | G1: SA/V (1/µm)
A2: MB | B2: 2.11 | C2: 1.014 | D2: =B2/C2 -> 2.0808679 | E2: =((4*PI()*(C2/2)^2)+((PI()*C2)*(B2-C2))) -> 6.7215631 | F2: =(((4/3)*PI()*(C2/2)^3)+(PI()*((C2/2)^2)*(B2-C2))) -> 1.4309666 | G2: =E2/F2 -> 4.6972186
A3: MB | B3: 1.853 | C3: 1.06 | D3: =B3/C3 -> 1.7481132 | E3: =((4*PI()*(C3/2)^2)+((PI()*C3)*(B3-C3))) -> 6.1706535 | F3: =(((4/3)*PI()*(C3/2)^3)+(PI()*((C3/2)^2)*(B3-C3))) -> 1.3234159 | G3: =E3/F3 -> 4.6626714
A4: MB | B4: 1.303 | C4: 0.944 | D4: =B4/C4 -> 1.3802966 | E4: =((4*PI()*(C4/2)^2)+((PI()*C4)*(B4-C4))) -> 3.8642595 | F4: =(((4/3)*PI()*(C4/2)^3)+(PI()*((C4/2)^2)*(B4-C4))) -> 0.69173112 | G4: =E4/F4 -> 5.5863606
A5: MB | B5: 1.502 | C5: 1.095 | D5: =B5/C5 -> 1.3716895 | E5: =((4*PI()*(C5/2)^2)+((PI()*C5)*(B5-C5))) -> 5.166946 | F5: =(((4/3)*PI()*(C5/2)^3)+(PI()*((C5/2)^2)*(B5-C5))) -> 1.0707266 | G5: =E5/F5 -> 4.8256447
A6: MB | B6: 1.272 | C6: 0.932 | D6: =B6/C6 -> 1.3648069 | E6: =((4*PI()*(C6/2)^2)+((PI()*C6)*(B6-C6))) -> 3.7243707 | F6: =(((4/3)*PI()*(C6/2)^3)+(PI()*((C6/2)^2)*(B6-C6))) -> 0.65583669 | G6: =E6/F6 -> 5.678808
A7: MB | B7: 2.117 | C7: 0.927 | D7: =B7/C7 -> 2.2837109 | E7: =((4*PI()*(C7/2)^2)+((PI()*C7)*(B7-C7))) -> 6.1652468 | F7: =(((4/3)*PI()*(C7/2)^3)+(PI()*((C7/2)^2)*(B7-C7))) -> 1.2202471 | G7: =E7/F7 -> 5.0524577
A8: MB | B8: 1.436 | C8: 0.888 | D8: =B8/C8 -> 1.6171171 | E8: =((4*PI()*(C8/2)^2)+((PI()*C8)*(B8-C8))) -> 4.0060584 | F8: =(((4/3)*PI()*(C8/2)^3)+(PI()*((C8/2)^2)*(B8-C8))) -> 0.70602595 | G8: =E8/F8 -> 5.6740951
A9: MB | B9: 1.148 | C9: 0.996 | D9: =B9/C9 -> 1.1526104 | E9: =((4*PI()*(C9/2)^2)+((PI()*C9)*(B9-C9))) -> 3.5921222 | F9: =(((4/3)*PI()*(C9/2)^3)+(PI()*((C9/2)^2)*(B9-C9))) -> 0.63576808 | G9: =E9/F9 -> 5.6500512
A10: MB | B10: 1.388 | C10: 0.86 | D10: =B10/C10 -> 1.6139535 | E10: =((4*PI()*(C10/2)^2)+((PI()*C10)*(B10-C10))) -> 3.7500563 | F10: =(((4/3)*PI()*(C10/2)^3)+(PI()*((C10/2)^2)*(B10-C10))) -> 0.63974304 | G10: =E10/F10 -> 5.8618165
A11: MB | B11: 1.958 | C11: 0.947 | D11: =B11/C11 -> 2.0675818 | E11: =((4*PI()*(C11/2)^2)+((PI()*C11)*(B11-C11))) -> 5.8252228 | F11: =(((4/3)*PI()*(C11/2)^3)+(PI()*((C11/2)^2)*(B11-C11))) -> 1.156781 | G11: =E11/F11 -> 5.0357179
A12: MB | B12: 1.14 | C12: 0.956 | D12: =B12/C12 -> 1.1924686 | E12: =((4*PI()*(C12/2)^2)+((PI()*C12)*(B12-C12))) -> 3.4238333 | F12: =(((4/3)*PI()*(C12/2)^3)+(PI()*((C12/2)^2)*(B12-C12))) -> 0.58955607 | G12: =E12/F12 -> 5.807477
A13: MB | B13: 1.48 | C13: 0.975 | D13: =B13/C13 -> 1.5179487 | E13: =((4*PI()*(C13/2)^2)+((PI()*C13)*(B13-C13))) -> 4.5333182 | F13: =(((4/3)*PI()*(C13/2)^3)+(PI()*((C13/2)^2)*(B13-C13))) -> 0.86234509 | G13: =E13/F13 -> 5.2569653
... A34: MB | B34: 1.688 | C34: 0.974 | D34: =B34/C34 -> 1.7330595 | E34: =((4*PI()*(C34/2)^2)+((PI()*C34)*(B34-C34))) -> 5.1651302 | F34: =(((4/3)*PI()*(C34/2)^3)+(PI()*((C34/2)^2)*(B34-C34))) -> 1.0158038 | G34: =E34/F34 -> 5.0847713
A35: MB | B35: 1.303 | C35: =(1.005+0.532)/2 -> 0.7685 | D35: =B35/C35 -> 1.6955107 | E35: =((4*PI()*(C35/2)^2)+((PI()*C35)*(B35-C35))) -> 3.1458511 | F35: =(((4/3)*PI()*(C35/2)^3)+(PI()*((C35/2)^2)*(B35-C35))) -> 0.48557371 | G35: =E35/F35 -> 6.4786272
A36: MB | B36: 1.24 | C36: 0.989 | D36: =B36/C36 -> 1.2537917 | E36: =((4*PI()*(C36/2)^2)+((PI()*C36)*(B36-C36))) -> 3.8527236 | F36: =(((4/3)*PI()*(C36/2)^3)+(PI()*((C36/2)^2)*(B36-C36))) -> 0.69933121 | G36: =E36/F36 -> 5.5091543
A37: MB | B37: 1.829 | C37: 1.001 | D37: =B37/C37 -> 1.8271728 | E37: =((4*PI()*(C37/2)^2)+((PI()*C37)*(B37-C37))) -> 5.7517189 | F37: =(((4/3)*PI()*(C37/2)^3)+(PI()*((C37/2)^2)*(B37-C37))) -> 1.1767821 | G37: =E37/F37 -> 4.8876669
A38: MB | B38: 2.085 | C38: 0.964 | D38: =B38/C38 -> 2.1628631 | E38: =((4*PI()*(C38/2)^2)+((PI()*C38)*(B38-C38))) -> 6.3144127 | F38: =(((4/3)*PI()*(C38/2)^3)+(PI()*((C38/2)^2)*(B38-C38))) -> 1.2872428 | G38: =E38/F38 -> 4.9053783
A39: MB | B39: 2.078 | C39: 0.888 | D39: =B39/C39 -> 2.3400901 | E39: =((4*PI()*(C39/2)^2)+((PI()*C39)*(B39-C39))) -> 5.7970678 | F39: =(((4/3)*PI()*(C39/2)^3)+(PI()*((C39/2)^2)*(B39-C39))) -> 1.10363 | G39: =E39/F39 -> 5.2527275
A40: MB | B40: 1.228 | C40: 1.022 | D40: =B40/C40 -> 1.2015656 | E40: =((4*PI()*(C40/2)^2)+((PI()*C40)*(B40-C40))) -> 3.942749 | F40: =(((4/3)*PI()*(C40/2)^3)+(PI()*((C40/2)^2)*(B40-C40))) -> 0.72791131 | G40: =E40/F40 -> 5.4165239
A41: MB | B41: 2.013 | C41: 1.13 | D41: =B41/C41 -> 1.7814159 | E41: =((4*PI()*(C41/2)^2)+((PI()*C41)*(B41-C41))) -> 7.1461494 | F41: =(((4/3)*PI()*(C41/2)^3)+(PI()*((C41/2)^2)*(B41-C41))) -> 1.6410377 | G41: =E41/F41 -> 4.3546529
A42: MB | B42: 2.135 | C42: 1.006 | D42: =B42/C42 -> 2.1222664 | E42: =((4*PI()*(C42/2)^2)+((PI()*C42)*(B42-C42))) -> 6.7475441 | F42: =(((4/3)*PI()*(C42/2)^3)+(PI()*((C42/2)^2)*(B42-C42))) -> 1.4304672 | G42: =E42/F42 -> 4.7170211
A43: MB | B43: 2.311 | C43: 0.999 | D43: =B43/C43 -> 2.3133133 | E43: =((4*PI()*(C43/2)^2)+((PI()*C43)*(B43-C43))) -> 7.2529604 | F43: =(((4/3)*PI()*(C43/2)^3)+(PI()*((C43/2)^2)*(B43-C43))) -> 1.5504121 | G43: =E43/F43 -> 4.6780856
A44: MB | B44: 1.136 | C44: =(0.914+0.526)/2 -> 0.72 | D44: =B44/C44 -> 1.5777778 | E44: =((4*PI()*(C44/2)^2)+((PI()*C44)*(B44-C44))) -> 2.5695715 | F44: =(((4/3)*PI()*(C44/2)^3)+(PI()*((C44/2)^2)*(B44-C44))) -> 0.36480677 | G44: =E44/F44 -> 7.0436508
A45: MB | B45: 1.072 | C45: =(1.005+0.503)/2 -> 0.754 | D45: =B45/C45 -> 1.4217507 | E45: =((4*PI()*(C45/2)^2)+((PI()*C45)*(B45-C45))) -> 2.5393116 | F45: =(((4/3)*PI()*(C45/2)^3)+(PI()*((C45/2)^2)*(B45-C45))) -> 0.36643704 | G45: =E45/F45 -> 6.9297352
A46: MB | B46: 1.772 | C46: 1.08 | D46: =B46/C46 -> 1.6407407 | E46: =((4*PI()*(C46/2)^2)+((PI()*C46)*(B46-C46))) -> 6.0122544 | F46: =(((4/3)*PI()*(C46/2)^3)+(PI()*((C46/2)^2)*(B46-C46))) -> 1.2935168 | G46: =E46/F46 -> 4.6479908
A47: MB | B47: 2.092 | C47: 0.874 | D47: =B47/C47 -> 2.3935927 | E47: =((4*PI()*(C47/2)^2)+((PI()*C47)*(B47-C47))) -> 5.7441131 | F47: =(((4/3)*PI()*(C47/2)^3)+(PI()*((C47/2)^2)*(B47-C47))) -> 1.0803042 | G47: =E47/F47 -> 5.3171255
A48: MB | B48: 1.84 | C48: =(0.918+0.523)/2 -> 0.7205 | D48: =B48/C48 -> 2.5537821 | E48: =((4*PI()*(C48/2)^2)+((PI()*C48)*(B48-C48))) -> 4.1648722 | F48: =(((4/3)*PI()*(C48/2)^3)+(PI()*((C48/2)^2)*(B48-C48))) -> 0.65227779 | G48: =E48/F48 -> 6.3851204
A49: MB | B49: 1.416 | C49: 1.087 | D49: =B49/C49 -> 1.3026679 | E49: =((4*PI()*(C49/2)^2)+((PI()*C49)*(B49-C49))) -> 4.8355143 | F49: =(((4/3)*PI()*(C49/2)^3)+(PI()*((C49/2)^2)*(B49-C49))) -> 0.9778049 | G49: =E49/F49 -> 4.9452751
A50: MB | B50: 1.1 | C50: 0.846 | D50: =B50/C50 -> 1.3002364 | E50: =((4*PI()*(C50/2)^2)+((PI()*C50)*(B50-C50))) -> 2.9235661 | F50: =(((4/3)*PI()*(C50/2)^3)+(PI()*((C50/2)^2)*(B50-C50))) -> 0.45981582 | G50: =E50/F50 -> 6.3581242
A51: MB | B51: 1.325 | C51: 1.036 | D51: =B51/C51 -> 1.2789575 | E51: =((4*PI()*(C51/2)^2)+((PI()*C51)*(B51-C51))) -> 4.3124642 | F51: =(((4/3)*PI()*(C51/2)^3)+(PI()*((C51/2)^2)*(B51-C51))) -> 0.82582442 | G51: =E51/F51 -> 5.222011
A52: MB | B52: 3.519 | C52: 1.073 | D52: =B52/C52 -> 3.2795899 | E52: =((4*PI()*(C52/2)^2)+((PI()*C52)*(B52-C52))) -> 11.862299 | F52: =(((4/3)*PI()*(C52/2)^3)+(PI()*((C52/2)^2)*(B52-C52))) -> 2.858641 | G52: =E52/F52 -> 4.1496288
A53: MB | B53: 1.003 | C53: 0.916 | D53: =B53/C53 -> 1.0949782 | E53: =((4*PI()*(C53/2)^2)+((PI()*C53)*(B53-C53))) -> 2.886332 | F53: =(((4/3)*PI()*(C53/2)^3)+(PI()*((C53/2)^2)*(B53-C53))) -> 0.45975748 | G53: =E53/F53 -> 6.2779446
A54: MB | B54: 1.333 | C54: 0.916 | D54: =B54/C54 -> 1.4552402 | E54: =((4*PI()*(C54/2)^2)+((PI()*C54)*(B54-C54))) -> 3.8359726 | F54: =(((4/3)*PI()*(C54/2)^3)+(PI()*((C54/2)^2)*(B54-C54))) -> 0.67722518 | G54: =E54/F54 -> 5.6642498
A55: MB | B55: 1.363 | C55: 1.01 | D55: =B55/C55 -> 1.349505 | E55: =((4*PI()*(C55/2)^2)+((PI()*C55)*(B55-C55))) -> 4.3248107 | F55: =(((4/3)*PI()*(C55/2)^3)+(PI()*((C55/2)^2)*(B55-C55))) -> 0.82228253 | G55: =E55/F55 -> 5.2595191
A56: MB | B56: 1.999 | C56: 0.965 | D56: =B56/C56 -> 2.0715026 | E56: =((4*PI()*(C56/2)^2)+((PI()*C56)*(B56-C56))) -> 6.0602422 | F56: =(((4/3)*PI()*(C56/2)^3)+(PI()*((C56/2)^2)*(B56-C56))) -> 1.2267721 | G56: =E56/F56 -> 4.9399903
A57: MB | B57: 1.268 | C57: 0.896 | D57: =B57/C57 -> 1.4151786 | E57: =((4*PI()*(C57/2)^2)+((PI()*C57)*(B57-C57))) -> 3.5692514 | F57: =(((4/3)*PI()*(C57/2)^3)+(PI()*((C57/2)^2)*(B57-C57))) -> 0.61119395 | G57: =E57/F57 -> 5.8398015
A58: MB | B58: 1.293 | C58: 0.985 | D58: =B58/C58 -> 1.3126904 | E58: =((4*PI()*(C58/2)^2)+((PI()*C58)*(B58-C58))) -> 4.0011481 | F58: =(((4/3)*PI()*(C58/2)^3)+(PI()*((C58/2)^2)*(B58-C58))) -> 0.73508848 | G58: =E58/F58 -> 5.4430837
A59: MB | B59: 1.359 | C59: 0.985 | D59: =B59/C59 -> 1.3796954 | E59: =((4*PI()*(C59/2)^2)+((PI()*C59)*(B59-C59))) -> 4.205383 | F59: =(((4/3)*PI()*(C59/2)^3)+(PI()*((C59/2)^2)*(B59-C59))) -> 0.78538133 | G59: =E59/F59 -> 5.3545748
A60: MB | B60: 1.858 | C60: 0.997 | D60: =B60/C60 -> 1.8635908 | E60: =((4*PI()*(C60/2)^2)+((PI()*C60)*(B60-C60))) -> 5.8195679 | F60: =(((4/3)*PI()*(C60/2)^3)+(PI()*((C60/2)^2)*(B60-C60))) -> 1.191077 | G60: =E60/F60 -> 4.885971
... A64: MB | B64: 1.477 | C64: 0.94 | D64: =B64/C64 -> 1.5712766 | E64: =((4*PI()*(C64/2)^2)+((PI()*C64)*(B64-C64))) -> 4.3617244 | F64: =(((4/3)*PI()*(C64/2)^3)+(PI()*((C64/2)^2)*(B64-C64))) -> 0.80755885 | G64: =E64/F64 -> 5.4011226
A65: MB | B65: 1.331 | C65: =(1.051+0.674)/2 -> 0.8625 | D65: =B65/C65 -> 1.5431884 | E65: =((4*PI()*(C65/2)^2)+((PI()*C65)*(B65-C65))) -> 3.6065091 | F65: =(((4/3)*PI()*(C65/2)^3)+(PI()*((C65/2)^2)*(B65-C65))) -> 0.60967803 | G65: =E65/F65 -> 5.9154323
A66: MB | B66: 1.79 | C66: 0.827 | D66: =B66/C66 -> 2.1644498 | E66: =((4*PI()*(C66/2)^2)+((PI()*C66)*(B66-C66))) -> 4.6505939 | F66: =(((4/3)*PI()*(C66/2)^3)+(PI()*((C66/2)^2)*(B66-C66))) -> 0.81343412 | G66: =E66/F66 -> 5.7172348
A67: MB | B67: 1.293 | C67: 0.873 | D67: =B67/C67 -> 1.4810997 | E67: =((4*PI()*(C67/2)^2)+((PI()*C67)*(B67-C67))) -> 3.5461952 | F67: =(((4/3)*PI()*(C67/2)^3)+(PI()*((C67/2)^2)*(B67-C67))) -> 0.59977187 | G67: =E67/F67 -> 5.9125735
A68: MB | B68: 1.645 | C68: 0.858 | D68: =B68/C68 -> 1.9172494 | E68: =((4*PI()*(C68/2)^2)+((PI()*C68)*(B68-C68))) -> 4.4340753 | F68: =(((4/3)*PI()*(C68/2)^3)+(PI()*((C68/2)^2)*(B68-C68))) -> 0.78574914 | G68: =E68/F68 -> 5.6431182
A69: MB | B69: 1.113 | C69: 0.978 | D69: =B69/C69 -> 1.1380368 | E69: =((4*PI()*(C69/2)^2)+((PI()*C69)*(B69-C69))) -> 3.4196676 | F69: =(((4/3)*PI()*(C69/2)^3)+(PI()*((C69/2)^2)*(B69-C69))) -> 0.59121075 | G69: =E69/F69 -> 5.7841769
A70: MB | B70: 1.095 | C70: 0.855 | D70: =B70/C70 -> 1.2807018 | E70: =((4*PI()*(C70/2)^2)+((PI()*C70)*(B70-C70))) -> 2.9412376 | F70: =(((4/3)*PI()*(C70/2)^3)+(PI()*((C70/2)^2)*(B70-C70))) -> 0.46505801 | G70: =E70/F70 -> 6.3244531
A71: MB | B71: 1.206 | C71: 0.988 | D71: =B71/C71 -> 1.2206478 | E71: =((4*PI()*(C71/2)^2)+((PI()*C71)*(B71-C71))) -> 3.7432956 | F71: =(((4/3)*PI()*(C71/2)^3)+(PI()*((C71/2)^2)*(B71-C71))) -> 0.67210676 | G71: =E71/F71 -> 5.5694955
A72: MB | B72: 1.19 | C72: 0.935 | D72: =B72/C72 -> 1.2727273 | E72: =((4*PI()*(C72/2)^2)+((PI()*C72)*(B72-C72))) -> 3.4954931 | F72: =(((4/3)*PI()*(C72/2)^3)+(PI()*((C72/2)^2)*(B72-C72))) -> 0.60307659 | G72: =E72/F72 -> 5.7961014
A73: MB | B73: 1.107 | C73: 0.976 | D73: =B73/C73 -> 1.1342213 | E73: =((4*PI()*(C73/2)^2)+((PI()*C73)*(B73-C73))) -> 3.3942772 | F73: =(((4/3)*PI()*(C73/2)^3)+(PI()*((C73/2)^2)*(B73-C73))) -> 0.58480504 | G73: =E73/F73 -> 5.8041176
A74: MB | B74: 1.228 | C74: 1.015 | D74: =B74/C74 -> 1.2098522 | E74: =((4*PI()*(C74/2)^2)+((PI()*C74)*(B74-C74))) -> 3.9157439 | F74: =(((4/3)*PI()*(C74/2)^3)+(PI()*((C74/2)^2)*(B74-C74))) -> 0.71986206 | G74: =E74/F74 -> 5.4395753
A75: MB | B75: 1.483 | C75: 0.91 | D75: =B75/C75 -> 1.6296703 | E75: =((4*PI()*(C75/2)^2)+((PI()*C75)*(B75-C75))) -> 4.2396735 | F75: =(((4/3)*PI()*(C75/2)^3)+(PI()*((C75/2)^2)*(B75-C75))) -> 0.7672413 | G75: =E75/F75 -> 5.5258672
A76: MB | B76: 1.505 | C76: 0.979 | D76: =B76/C76 -> 1.5372829 | E76: =((4*PI()*(C76/2)^2)+((PI()*C76)*(B76-C76))) -> 4.6288069 | F76: =(((4/3)*PI()*(C76/2)^3)+(PI()*((C76/2)^2)*(B76-C76))) -> 0.88725053 | G76: =E76/F76 -> 5.2170236
A105: Count | B105: =COUNT(B1:B99) -> 75 | C105: =COUNT(C1:C99) -> 75 | D105: =COUNT(D1:D99) -> 75 | E105: =COUNT(E1:E99) -> 75 | F105: =COUNT(F1:F99) -> 75 | G105: =COUNT(G1:G99) -> 75
A106: Average | B106: =AVERAGE(B2:B103) -> 1.52728 | C106: =AVERAGE(C2:C103) -> 0.94124667 | D106: =AVERAGE(D2:D103) -> 1.6289889 | E106: =AVERAGE(E2:E103) -> 4.5369704 | F106: =AVERAGE(F2:F103) -> 0.85777313 | G106: =AVERAGE(G2:G103) -> 5.5075292
A107: Standard Dev. | B107: =_xlfn.STDEV.S(B2:B103) -> 0.45806076 | C107: =_xlfn.STDEV.S(C2:C103) -> 0.083998406 | D107: =_xlfn.STDEV.S(D2:D103) -> 0.48305657 | E107: =_xlfn.STDEV.S(E2:E103) -> 1.5203324 | F107: =_xlfn.STDEV.S(F2:F103) -> 0.39051627 | G107: =_xlfn.STDEV.S(G2:G103) -> 0.56555394

Sheet G4 MB4 10051422
A1: Nutrient | B1: Length (mm) | C1: Width (mm) | D1: Length/Width | E1: Surface Area (µm^2) | F1: Volume (µm^3) | G1: SA/V (1/µm)
A2: MB | B2: 1.221 | C2: 0.983 | D2: =B2/C2 -> 1.242116 | E2: =((4*PI()*(C2/2)^2)+((PI()*C2)*(B2-C2))) -> 3.7706746 | F2: =(((4/3)*PI()*(C2/2)^3)+(PI()*((C2/2)^2)*(B2-C2))) -> 0.67796997 | G2: =E2/F2 -> 5.5617133
A3: MB | B3: 2.178 | C3: 1.04 | D3: =B3/C3 -> 2.0942308 | E3: =((4*PI()*(C3/2)^2)+((PI()*C3)*(B3-C3))) -> 7.1160844 | F3: =(((4/3)*PI()*(C3/2)^3)+(PI()*((C3/2)^2)*(B3-C3))) -> 1.5556932 | G3: =E3/F3 -> 4.5742208
A4: MB | B4: 2.212 | C4: 1 | D4: =B4/C4 -> 2.212 | E4: =((4*PI()*(C4/2)^2)+((PI()*C4)*(B4-C4))) -> 6.9492029 | F4: =(((4/3)*PI()*(C4/2)^3)+(PI()*((C4/2)^2)*(B4-C4))) -> 1.4755013 | G4: =E4/F4 -> 4.7097232
A5: MB | B5: 1.522 | C5: =(0.815+0.929)/2 -> 0.872 | D5: =B5/C5 -> 1.7454128 | E5: =((4*PI()*(C5/2)^2)+((PI()*C5)*(B5-C5))) -> 4.1694715 | F5: =(((4/3)*PI()*(C5/2)^3)+(PI()*((C5/2)^2)*(B5-C5))) -> 0.73535743 | G5: =E5/F5 -> 5.669993
A6: MB | B6: 1.208 | C6: =(0.605+0.749)/2 -> 0.677 | D6: =B6/C6 -> 1.7843427 | E6: =((4*PI()*(C6/2)^2)+((PI()*C6)*(B6-C6))) -> 2.5692447 | F6: =(((4/3)*PI()*(C6/2)^3)+(PI()*((C6/2)^2)*(B6-C6))) -> 0.35361127 | G6: =E6/F6 -> 7.265732
A7: MB | B7: 1.633 | C7: 1.041 | D7: =B7/C7 -> 1.568684 | E7: =((4*PI()*(C7/2)^2)+((PI()*C7)*(B7-C7))) -> 5.3405599 | F7: =(((4/3)*PI()*(C7/2)^3)+(PI()*((C7/2)^2)*(B7-C7))) -> 1.0945417 | G7: =E7/F7 -> 4.8792658
A8: MB | B8: 1.022 | C8: 0.968 | D8: =B8/C8 -> 1.0557851 | E8: =((4*PI()*(C8/2)^2)+((PI()*C8)*(B8-C8))) -> 3.107965 | F8: =(((4/3)*PI()*(C8/2)^3)+(PI()*((C8/2)^2)*(B8-C8))) -> 0.51466523 | G8: =E8/F8 -> 6.0388091
A9: MB | B9: 1.607 | C9: 0.824 | D9: =B9/C9 -> 1.9502427 | E9: =((4*PI()*(C9/2)^2)+((PI()*C9)*(B9-C9))) -> 4.1599965 | F9: =(((4/3)*PI()*(C9/2)^3)+(PI()*((C9/2)^2)*(B9-C9))) -> 0.71048874 | G9: =E9/F9 -> 5.8551195
A10: MB | B10: 1.901 | C10: 1.031 | D10: =B10/C10 -> 1.8438409 | E10: =((4*PI()*(C10/2)^2)+((PI()*C10)*(B10-C10))) -> 6.1573048 | F10: =(((4/3)*PI()*(C10/2)^3)+(PI()*((C10/2)^2)*(B10-C10))) -> 1.300136 | G10: =E10/F10 -> 4.7358928
A11: MB | B11: 1.64 | C11: 1.061 | D11: =B11/C11 -> 1.5457116 | E11: =((4*PI()*(C11/2)^2)+((PI()*C11)*(B11-C11))) -> 5.4664969 | F11: =(((4/3)*PI()*(C11/2)^3)+(PI()*((C11/2)^2)*(B11-C11))) -> 1.1372977 | G11: =E11/F11 -> 4.8065662
A12: MB | B12: 1.473 | C12: 0.985 | D12: =B12/C12 -> 1.4954315 | E12: =((4*PI()*(C12/2)^2)+((PI()*C12)*(B12-C12))) -> 4.5581525 | F12: =(((4/3)*PI()*(C12/2)^3)+(PI()*((C12/2)^2)*(B12-C12))) -> 0.8722508 | G12: =E12/F12 -> 5.2257361
A13: MB | B13: 0.98 | C13: 0.841 | D13: =B13/C13 -> 1.1652794 | E13: =((4*PI()*(C13/2)^2)+((PI()*C13)*(B13-C13))) -> 2.5892378 | F13: =(((4/3)*PI()*(C13/2)^3)+(PI()*((C13/2)^2)*(B13-C13))) -> 0.38866287 | G13: =E13/F13 -> 6.6619119
A14: MB | B14: 1.01 | C14: 0.855 | D14: =B14/C14 -> 1.1812865 | E14: =((4*PI()*(C14/2)^2)+((PI()*C14)*(B14-C14))) -> 2.7129223 | F14: =(((4/3)*PI()*(C14/2)^3)+(PI()*((C14/2)^2)*(B14-C14))) -> 0.41625563 | G14: =E14/F14 -> 6.517443
A15: MB | B15: 1.866 | C15: 1.011 | D15: =B15/C15 -> 1.8456973 | E15: =((4*PI()*(C15/2)^2)+((PI()*C15)*(B15-C15))) -> 5.9266962 | F15: =(((4/3)*PI()*(C15/2)^3)+(PI()*((C15/2)^2)*(B15-C15))) -> 1.2274383 | G15: =E15/F15 -> 4.8285084
A16: MB | B16: 1.266 | C16: =(0.611+0.982)/2 -> 0.7965 | D16: =B16/C16 -> 1.5894539 | E16: =((4*PI()*(C16/2)^2)+((PI()*C16)*(B16-C16))) -> 3.1678846 | F16: =(((4/3)*PI()*(C16/2)^3)+(PI()*((C16/2)^2)*(B16-C16))) -> 0.49851535 | G16: =E16/F16 -> 6.3546381
A17: MB | B17: 1.455 | C17: 1.028 | D17: =B17/C17 -> 1.4153696 | E17: =((4*PI()*(C17/2)^2)+((PI()*C17)*(B17-C17))) -> 4.6990058 | F17: =(((4/3)*PI()*(C17/2)^3)+(PI()*((C17/2)^2)*(B17-C17))) -> 0.92323245 | G17: =E17/F17 -> 5.089732
A18: MB | B18: 1.679 | C18: 0.983 | D18: =B18/C18 -> 1.7080366 | E18: =((4*PI()*(C18/2)^2)+((PI()*C18)*(B18-C18))) -> 5.1850636 | F18: =(((4/3)*PI()*(C18/2)^3)+(PI()*((C18/2)^2)*(B18-C18))) -> 1.0255561 | G18: =E18/F18 -> 5.0558558
A19: MB | B19: 1.335 | C19: 0.889 | D19: =B19/C19 -> 1.5016873 | E19: =((4*PI()*(C19/2)^2)+((PI()*C19)*(B19-C19))) -> 3.7284893 | F19: =(((4/3)*PI()*(C19/2)^3)+(PI()*((C19/2)^2)*(B19-C19))) -> 0.64471771 | G19: =E19/F19 -> 5.7831346
A20: MB | B20: 2.235 | C20: 1.084 | D20: =B20/C20 -> 2.0618081 | E20: =((4*PI()*(C20/2)^2)+((PI()*C20)*(B20-C20))) -> 7.6112622 | F20: =(((4/3)*PI()*(C20/2)^3)+(PI()*((C20/2)^2)*(B20-C20))) -> 1.7291823 | G20: =E20/F20 -> 4.4016541
A21: MB | B21: 1.499 | C21: 1.03 | D21: =B21/C21 -> 1.4553398 | E21: =((4*PI()*(C21/2)^2)+((PI()*C21)*(B21-C21))) -> 4.8505248 | F21: =(((4/3)*PI()*(C21/2)^3)+(PI()*((C21/2)^2)*(B21-C21))) -> 0.96293488 | G21: =E21/F21 -> 5.0372304
A22: MB | B22: 1.105 | C22: 1.088 | D22: =B22/C22 -> 1.015625 | E22: =((4*PI()*(C22/2)^2)+((PI()*C22)*(B22-C22))) -> 3.7769484 | F22: =(((4/3)*PI()*(C22/2)^3)+(PI()*((C22/2)^2)*(B22-C22))) -> 0.69015499 | G22: =E22/F22 -> 5.4726089
A23: MB | B23: 1.338 | C23: 1.022 | D23: =B23/C23 -> 1.3091977 | E23: =((4*PI()*(C23/2)^2)+((PI()*C23)*(B23-C23))) -> 4.2959269 | F23: =(((4/3)*PI()*(C23/2)^3)+(PI()*((C23/2)^2)*(B23-C23))) -> 0.81814825 | G23: =E23/F23 -> 5.2507927
A24: MB | B24: 1.229 | C24: 0.968 | D24: =B24/C24 -> 1.2696281 | E24: =((4*PI()*(C24/2)^2)+((PI()*C24)*(B24-C24))) -> 3.7374648 | F24: =(((4/3)*PI()*(C24/2)^3)+(PI()*((C24/2)^2)*(B24-C24))) -> 0.66700417 | G24: =E24/F24 -> 5.6033605
A25: MB | B25: 1.376 | C25: 1.018 | D25: =B25/C25 -> 1.3516699 | E25: =((4*PI()*(C25/2)^2)+((PI()*C25)*(B25-C25))) -> 4.4006425 | F25: =(((4/3)*PI()*(C25/2)^3)+(PI()*((C25/2)^2)*(B25-C25))) -> 0.84377096 | G25: =E25/F25 -> 5.2154467
A26: MB | B26: 1.809 | C26: 1.009 | D26: =B26/C26 -> 1.7928642 | E26: =((4*PI()*(C26/2)^2)+((PI()*C26)*(B26-C26))) -> 5.7342894 | F26: =(((4/3)*PI()*(C26/2)^3)+(PI()*((C26/2)^2)*(B26-C26))) -> 1.1775427 | G26: =E26/F26 -> 4.8697082
A27: MB | B27: 2.246 | C27: 1.022 | D27: =B27/C27 -> 2.1976517 | E27: =((4*PI()*(C27/2)^2)+((PI()*C27)*(B27-C27))) -> 7.2112495 | F27: =(((4/3)*PI()*(C27/2)^3)+(PI()*((C27/2)^2)*(B27-C27))) -> 1.5630132 | G27: =E27/F27 -> 4.6136844
A28: MB | B28: 1.52 | C28: 1.064 | D28: =B28/C28 -> 1.4285714 | E28: =((4*PI()*(C28/2)^2)+((PI()*C28)*(B28-C28))) -> 5.080835 | F28: =(((4/3)*PI()*(C28/2)^3)+(PI()*((C28/2)^2)*(B28-C28))) -> 1.0361516 | G28: =E28/F28 -> 4.9035633
... A32: MB | B32: 1.498 | C32: 1.1 | D32: =B32/C32 -> 1.3618182 | E32: =((4*PI()*(C32/2)^2)+((PI()*C32)*(B32-C32))) -> 5.1767164 | F32: =(((4/3)*PI()*(C32/2)^3)+(PI()*((C32/2)^2)*(B32-C32))) -> 1.075142 | G32: =E32/F32 -> 4.814914
A33: MB | B33: 1.326 | C33: =(0.742+1.012)/2 -> 0.877 | D33: =B33/C33 -> 1.5119726 | E33: =((4*PI()*(C33/2)^2)+((PI()*C33)*(B33-C33))) -> 3.6533644 | F33: =(((4/3)*PI()*(C33/2)^3)+(PI()*((C33/2)^2)*(B33-C33))) -> 0.62440961 | G33: =E33/F33 -> 5.8509099
A34: MB | B34: 1.216 | C34: 1.019 | D34: =B34/C34 -> 1.1933268 | E34: =((4*PI()*(C34/2)^2)+((PI()*C34)*(B34-C34))) -> 3.89276 | F34: =(((4/3)*PI()*(C34/2)^3)+(PI()*((C34/2)^2)*(B34-C34))) -> 0.71467334 | G34: =E34/F34 -> 5.4469081
A35: MB | B35: 1.189 | C35: 1.024 | D35: =B35/C35 -> 1.1611328 | E35: =((4*PI()*(C35/2)^2)+((PI()*C35)*(B35-C35))) -> 3.8250022 | F35: =(((4/3)*PI()*(C35/2)^3)+(PI()*((C35/2)^2)*(B35-C35))) -> 0.6980956 | G35: =E35/F35 -> 5.4791953
A36: MB | B36: 1.803 | C36: 0.947 | D36: =B36/C36 -> 1.9039071 | E36: =((4*PI()*(C36/2)^2)+((PI()*C36)*(B36-C36))) -> 5.3640841 | F36: =(((4/3)*PI()*(C36/2)^3)+(PI()*((C36/2)^2)*(B36-C36))) -> 1.0476064 | G36: =E36/F36 -> 5.1203238
A37: MB | B37: 1.132 | C37: 0.911 | D37: =B37/C37 -> 1.2425906 | E37: =((4*PI()*(C37/2)^2)+((PI()*C37)*(B37-C37))) -> 3.2397737 | F37: =(((4/3)*PI()*(C37/2)^3)+(PI()*((C37/2)^2)*(B37-C37))) -> 0.53992293 | G37: =E37/F37 -> 6.0004373
A38: MB | B38: 1.455 | C38: 0.913 | D38: =B38/C38 -> 1.5936473 | E38: =((4*PI()*(C38/2)^2)+((PI()*C38)*(B38-C38))) -> 4.1733388 | F38: =(((4/3)*PI()*(C38/2)^3)+(PI()*((C38/2)^2)*(B38-C38))) -> 0.75332255 | G38: =E38/F38 -> 5.5399096
A39: MB | B39: 1.324 | C39: 0.95 | D39: =B39/C39 -> 1.3936842 | E39: =((4*PI()*(C39/2)^2)+((PI()*C39)*(B39-C39))) -> 3.9514952 | F39: =(((4/3)*PI()*(C39/2)^3)+(PI()*((C39/2)^2)*(B39-C39))) -> 0.71401987 | G39: =E39/F39 -> 5.5341531
A40: MB | B40: 1.368 | C40: 0.982 | D40: =B40/C40 -> 1.3930754 | E40: =((4*PI()*(C40/2)^2)+((PI()*C40)*(B40-C40))) -> 4.2203402 | F40: =(((4/3)*PI()*(C40/2)^3)+(PI()*((C40/2)^2)*(B40-C40))) -> 0.78817835 | G40: =E40/F40 -> 5.3545497
A41: MB | B41: 0.917 | C41: 1.041 | D41: =B41/C41 -> 0.88088377 | E41: =((4*PI()*(C41/2)^2)+((PI()*C41)*(B41-C41))) -> 2.9989549 | F41: =(((4/3)*PI()*(C41/2)^3)+(PI()*((C41/2)^2)*(B41-C41))) -> 0.48513901 | G41: =E41/F41 -> 6.1816405
A42: MB | B42: 0.992 | C42: 0.981 | D42: =B42/C42 -> 1.011213 | E42: =((4*PI()*(C42/2)^2)+((PI()*C42)*(B42-C42))) -> 3.0572472 | F42: =(((4/3)*PI()*(C42/2)^3)+(PI()*((C42/2)^2)*(B42-C42))) -> 0.50263131 | G42: =E42/F42 -> 6.0824845
A43: MB | B43: 1.29 | C43: 0.906 | D43: =B43/C43 -> 1.4238411 | E43: =((4*PI()*(C43/2)^2)+((PI()*C43)*(B43-C43))) -> 3.671705 | F43: =(((4/3)*PI()*(C43/2)^3)+(PI()*((C43/2)^2)*(B43-C43))) -> 0.63694689 | G43: =E43/F43 -> 5.7645387
A44: MB | B44: 1.428 | C44: 0.779 | D44: =B44/C44 -> 1.8331194 | E44: =((4*PI()*(C44/2)^2)+((PI()*C44)*(B44-C44))) -> 3.4947454 | F44: =(((4/3)*PI()*(C44/2)^3)+(PI()*((C44/2)^2)*(B44-C44))) -> 0.55684146 | G44: =E44/F44 -> 6.276015
A45: MB | B45: 1.469 | C45: 0.938 | D45: =B45/C45 -> 1.5660981 | E45: =((4*PI()*(C45/2)^2)+((PI()*C45)*(B45-C45))) -> 4.3288696 | F45: =(((4/3)*PI()*(C45/2)^3)+(PI()*((C45/2)^2)*(B45-C45))) -> 0.79905855 | G45: =E45/F45 -> 5.4174624
... A64: MB | B64: 1.11 | C64: 0.955 | D64: =B64/C64 -> 1.1623037 | E64: =((4*PI()*(C64/2)^2)+((PI()*C64)*(B64-C64))) -> 3.3302453 | F64: =(((4/3)*PI()*(C64/2)^3)+(PI()*((C64/2)^2)*(B64-C64))) -> 0.56707302 | G64: =E64/F64 -> 5.8726922
A65: MB | B65: =0.885+0.84 -> 1.725 | C65: =(0.42+0.786)/2 -> 0.603 | D65: =B65/C65 -> 2.8606965 | E65: =((4*PI()*(C65/2)^2)+((PI()*C65)*(B65-C65))) -> 3.2678061 | F65: =(((4/3)*PI()*(C65/2)^3)+(PI()*((C65/2)^2)*(B65-C65))) -> 0.43522063 | G65: =E65/F65 -> 7.5083898
A66: MB | B66: 1.686 | C66: 0.914 | D66: =B66/C66 -> 1.8446389 | E66: =((4*PI()*(C66/2)^2)+((PI()*C66)*(B66-C66))) -> 4.8412068 | F66: =(((4/3)*PI()*(C66/2)^3)+(PI()*((C66/2)^2)*(B66-C66))) -> 0.90631833 | G66: =E66/F66 -> 5.3416186
A67: MB | B67: 1.469 | C67: 0.96 | D67: =B67/C67 -> 1.5302083 | E67: =((4*PI()*(C67/2)^2)+((PI()*C67)*(B67-C67))) -> 4.4303996 | F67: =(((4/3)*PI()*(C67/2)^3)+(PI()*((C67/2)^2)*(B67-C67))) -> 0.83167257 | G67: =E67/F67 -> 5.327096
A68: MB | B68: 1.367 | C68: 0.947 | D68: =B68/C68 -> 1.4435058 | E68: =((4*PI()*(C68/2)^2)+((PI()*C68)*(B68-C68))) -> 4.0669456 | F68: =(((4/3)*PI()*(C68/2)^3)+(PI()*((C68/2)^2)*(B68-C68))) -> 0.74050888 | G68: =E68/F68 -> 5.4920957
A69: MB | B69: 2.516 | C69: 1.097 | D69: =B69/C69 -> 2.2935278 | E69: =((4*PI()*(C69/2)^2)+((PI()*C69)*(B69-C69))) -> 8.6709591 | F69: =(((4/3)*PI()*(C69/2)^3)+(PI()*((C69/2)^2)*(B69-C69))) -> 2.0323988 | G69: =E69/F69 -> 4.266367
A70: MB | B70: 1.294 | C70: 0.904 | D70: =B70/C70 -> 1.4314159 | E70: =((4*PI()*(C70/2)^2)+((PI()*C70)*(B70-C70))) -> 3.6749597 | F70: =(((4/3)*PI()*(C70/2)^3)+(PI()*((C70/2)^2)*(B70-C70))) -> 0.63713312 | G70: =E70/F70 -> 5.7679621
A71: MB | B71: 1.46 | C71: 0.869 | D71: =B71/C71 -> 1.6800921 | E71: =((4*PI()*(C71/2)^2)+((PI()*C71)*(B71-C71))) -> 3.9858643 | F71: =(((4/3)*PI()*(C71/2)^3)+(PI()*((C71/2)^2)*(B71-C71))) -> 0.69412711 | G71: =E71/F71 -> 5.7422685
A72: MB | B72: 2.163 | C72: 0.889 | D72: =B72/C72 -> 2.4330709 | E72: =((4*PI()*(C72/2)^2)+((PI()*C72)*(B72-C72))) -> 6.0409905 | F72: =(((4/3)*PI()*(C72/2)^3)+(PI()*((C72/2)^2)*(B72-C72))) -> 1.1586711 | G72: =E72/F72 -> 5.2137233
A73: MB | B73: 1.475 | C73: 0.934 | D73: =B73/C73 -> 1.5792291 | E73: =((4*PI()*(C73/2)^2)+((PI()*C73)*(B73-C73))) -> 4.3280151 | F73: =(((4/3)*PI()*(C73/2)^3)+(PI()*((C73/2)^2)*(B73-C73))) -> 0.79728249 | G73: =E73/F73 -> 5.4284587
A74: MB | B74: 1.558 | C74: 1.012 | D74: =B74/C74 -> 1.5395257 | E74: =((4*PI()*(C74/2)^2)+((PI()*C74)*(B74-C74))) -> 4.9533366 | F74: =(((4/3)*PI()*(C74/2)^3)+(PI()*((C74/2)^2)*(B74-C74))) -> 0.98185644 | G74: =E74/F74 -> 5.0448685
A75: MB | B75: 1.047 | C75: 1.007 | D75: =B75/C75 -> 1.0397219 | E75: =((4*PI()*(C75/2)^2)+((PI()*C75)*(B75-C75))) -> 3.3122722 | F75: =(((4/3)*PI()*(C75/2)^3)+(PI()*((C75/2)^2)*(B75-C75))) -> 0.56652879 | G75: =E75/F75 -> 5.8466089
A76: MB | B76: 1.232 | C76: 0.802 | D76: =B76/C76 -> 1.5361596 | E76: =((4*PI()*(C76/2)^2)+((PI()*C76)*(B76-C76))) -> 3.1040946 | F76: =(((4/3)*PI()*(C76/2)^3)+(PI()*((C76/2)^2)*(B76-C76))) -> 0.48732186 | G76: =E76/F76 -> 6.3697012
A105: Count | B105: =COUNT(B1:B95) -> 75 | C105: =COUNT(C1:C95) -> 75 | D105: =COUNT(D1:D95) -> 75 | E105: =COUNT(E1:E95) -> 75 | F105: =COUNT(F1:F95) -> 75 | G105: =COUNT(G1:G95) -> 75
A106: Average | B106: =AVERAGE(B2:B99) -> 1.4776933 | C106: =AVERAGE(C2:C99) -> 0.95327333 | D106: =AVERAGE(D2:D99) -> 1.5602392 | E106: =AVERAGE(E2:E99) -> 4.4516861 | F106: =AVERAGE(F2:F99) -> 0.84466409 | G106: =AVERAGE(G2:G99) -> 5.4838897
A107: Standard Dev. | B107: =_xlfn.STDEV.S(B2:B99) -> 0.33045611 | C107: =_xlfn.STDEV.S(C2:C99) -> 0.099444378 | D107: =_xlfn.STDEV.S(D2:D99) -> 0.35266626 | E107: =_xlfn.STDEV.S(E2:E99) -> 1.2264523 | F107: =_xlfn.STDEV.S(F2:F99) -> 0.32547948 | G107: =_xlfn.STDEV.S(G2:G99) -> 0.64040315

Sheet G4 MB5 10092156
A1: Nutrient | B1: Length (mm) | C1: Width (mm) | D1: Length/Width | E1: Surface Area (µm^2) | F1: Volume (µm^3) | G1: SA/V (1/µm)
A2: MB | B2: 1.564 | C2: 1.053 | D2: =B2/C2 -> 1.4852802 | E2: =((4*PI()*(C2/2)^2)+((PI()*C2)*(B2-C2))) -> 5.1738638 | F2: =(((4/3)*PI()*(C2/2)^3)+(PI()*((C2/2)^2)*(B2-C2))) -> 1.056349 | G2: =E2/F2 -> 4.8978735
A3: MB | B3: 1.18 | C3: 0.729 | D3: =B3/C3 -> 1.6186557 | E3: =((4*PI()*(C3/2)^2)+((PI()*C3)*(B3-C3))) -> 2.7024608 | F3: =(((4/3)*PI()*(C3/2)^3)+(PI()*((C3/2)^2)*(B3-C3))) -> 0.39109704 | G3: =E3/F3 -> 6.9099496
A4: MB | B4: 1.227 | C4: 1.112 | D4: =B4/C4 -> 1.1034173 | E4: =((4*PI()*(C4/2)^2)+((PI()*C4)*(B4-C4))) -> 4.2864644 | F4: =(((4/3)*PI()*(C4/2)^3)+(PI()*((C4/2)^2)*(B4-C4))) -> 0.83165328 | G4: =E4/F4 -> 5.1541484
A5: MB | B5: 1.63 | C5: 1.009 | D5: =B5/C5 -> 1.6154609 | E5: =((4*PI()*(C5/2)^2)+((PI()*C5)*(B5-C5))) -> 5.1668832 | F5: =(((4/3)*PI()*(C5/2)^3)+(PI()*((C5/2)^2)*(B5-C5))) -> 1.0344145 | G5: =E5/F5 -> 4.9949833
A6: MB | B6: 1.377 | C6: 0.968 | D6: =B6/C6 -> 1.4225207 | E6: =((4*PI()*(C6/2)^2)+((PI()*C6)*(B6-C6))) -> 4.1875419 | F6: =(((4/3)*PI()*(C6/2)^3)+(PI()*((C6/2)^2)*(B6-C6))) -> 0.77592284 | G6: =E6/F6 -> 5.3968536
A7: MB | B7: 1.574 | C7: 0.959 | D7: =B7/C7 -> 1.641293 | E7: =((4*PI()*(C7/2)^2)+((PI()*C7)*(B7-C7))) -> 4.7421273 | F7: =(((4/3)*PI()*(C7/2)^3)+(PI()*((C7/2)^2)*(B7-C7))) -> 0.90602475 | G7: =E7/F7 -> 5.2339931
A8: MB | B8: 1.387 | C8: 0.869 | D8: =B8/C8 -> 1.5960875 | E8: =((4*PI()*(C8/2)^2)+((PI()*C8)*(B8-C8))) -> 3.7865711 | F8: =(((4/3)*PI()*(C8/2)^3)+(PI()*((C8/2)^2)*(B8-C8))) -> 0.65083066 | G8: =E8/F8 -> 5.8180588
A9: MB | B9: 1.773 | C9: 0.817 | D9: =B9/C9 -> 2.1701346 | E9: =((4*PI()*(C9/2)^2)+((PI()*C9)*(B9-C9))) -> 4.5507258 | F9: =(((4/3)*PI()*(C9/2)^3)+(PI()*((C9/2)^2)*(B9-C9))) -> 0.78671645 | G9: =E9/F9 -> 5.7844548
A10: MB | B10: 1.418 | C10: 0.809 | D10: =B10/C10 -> 1.7527812 | E10: =((4*PI()*(C10/2)^2)+((PI()*C10)*(B10-C10))) -> 3.6039157 | F10: =(((4/3)*PI()*(C10/2)^3)+(PI()*((C10/2)^2)*(B10-C10))) -> 0.59027569 | G10: =E10/F10 -> 6.1054788
A11: MB | B11: 1.898 | C11: 1.08 | D11: =B11/C11 -> 1.7574074 | E11: =((4*PI()*(C11/2)^2)+((PI()*C11)*(B11-C11))) -> 6.4397623 | F11: =(((4/3)*PI()*(C11/2)^3)+(PI()*((C11/2)^2)*(B11-C11))) -> 1.408944 | G11: =E11/F11 -> 4.5706304
A12: MB | B12: 1.731 | C12: 0.931 | D12: =B12/C12 -> 1.8592911 | E12: =((4*PI()*(C12/2)^2)+((PI()*C12)*(B12-C12))) -> 5.0628682 | F12: =(((4/3)*PI()*(C12/2)^3)+(PI()*((C12/2)^2)*(B12-C12))) -> 0.96712238 | G12: =E12/F12 -> 5.2349819
A13: MB | B13: 2.314 | C13: 0.978 | D13: =B13/C13 -> 2.3660532 | E13: =((4*PI()*(C13/2)^2)+((PI()*C13)*(B13-C13))) -> 7.1097132 | F13: =(((4/3)*PI()*(C13/2)^3)+(PI()*((C13/2)^2)*(B13-C13))) -> 1.4934269 | G13: =E13/F13 -> 4.7606704
... A44: MB | B44: 1.098 | C44: 0.932 | D44: =B44/C44 -> 1.1781116 | E44: =((4*PI()*(C44/2)^2)+((PI()*C44)*(B44-C44))) -> 3.2149049 | F44: =(((4/3)*PI()*(C44/2)^3)+(PI()*((C44/2)^2)*(B44-C44))) -> 0.53713116 | G44: =E44/F44 -> 5.9853256
A45: MB | B45: 1.478 | C45: =(0.621+0.878)/2 -> 0.7495 | D45: =B45/C45 -> 1.9719813 | E45: =((4*PI()*(C45/2)^2)+((PI()*C45)*(B45-C45))) -> 3.4801338 | F45: =(((4/3)*PI()*(C45/2)^3)+(PI()*((C45/2)^2)*(B45-C45))) -> 0.5418642 | G45: =E45/F45 -> 6.4225202
A46: MB | B46: 1.493 | C46: 0.916 | D46: =B46/C46 -> 1.6299127 | E46: =((4*PI()*(C46/2)^2)+((PI()*C46)*(B46-C46))) -> 4.2964044 | F46: =(((4/3)*PI()*(C46/2)^3)+(PI()*((C46/2)^2)*(B46-C46))) -> 0.78266407 | G46: =E46/F46 -> 5.4894617
A47: MB | B47: 1.306 | C47: 1.038 | D47: =B47/C47 -> 1.2581888 | E47: =((4*PI()*(C47/2)^2)+((PI()*C47)*(B47-C47))) -> 4.258831 | F47: =(((4/3)*PI()*(C47/2)^3)+(PI()*((C47/2)^2)*(B47-C47))) -> 0.81237364 | G47: =E47/F47 -> 5.2424534
A48: MB | B48: 2.099 | C48: 0.793 | D48: =B48/C48 -> 2.6469105 | E48: =((4*PI()*(C48/2)^2)+((PI()*C48)*(B48-C48))) -> 5.229203 | F48: =(((4/3)*PI()*(C48/2)^3)+(PI()*((C48/2)^2)*(B48-C48))) -> 0.90613609 | G48: =E48/F48 -> 5.7708804
A49: MB | B49: 1.392 | C49: 1.133 | D49: =B49/C49 -> 1.2285966 | E49: =((4*PI()*(C49/2)^2)+((PI()*C49)*(B49-C49))) -> 4.9547189 | F49: =(((4/3)*PI()*(C49/2)^3)+(PI()*((C49/2)^2)*(B49-C49))) -> 1.0226579 | G49: =E49/F49 -> 4.8449424
A50: MB | B50: 1.865 | C50: 0.891 | D50: =B50/C50 -> 2.0931538 | E50: =((4*PI()*(C50/2)^2)+((PI()*C50)*(B50-C50))) -> 5.2204316 | F50: =(((4/3)*PI()*(C50/2)^3)+(PI()*((C50/2)^2)*(B50-C50))) -> 0.97766788 | G50: =E50/F50 -> 5.339678
A51: MB | B51: 1.68 | C51: 1.004 | D51: =B51/C51 -> 1.6733068 | E51: =((4*PI()*(C51/2)^2)+((PI()*C51)*(B51-C51))) -> 5.2989872 | F51: =(((4/3)*PI()*(C51/2)^3)+(PI()*((C51/2)^2)*(B51-C51))) -> 1.0650922 | G51: =E51/F51 -> 4.975144
A52: MB | B52: 1.316 | C52: 1.041 | D52: =B52/C52 -> 1.2641691 | E52: =((4*PI()*(C52/2)^2)+((PI()*C52)*(B52-C52))) -> 4.3038437 | F52: =(((4/3)*PI()*(C52/2)^3)+(PI()*((C52/2)^2)*(B52-C52))) -> 0.82473631 | G52: =E52/F52 -> 5.2184482
A53: MB | B53: 1.102 | C53: 1.01 | D53: =B53/C53 -> 1.0910891 | E53: =((4*PI()*(C53/2)^2)+((PI()*C53)*(B53-C53))) -> 3.4966555 | F53: =(((4/3)*PI()*(C53/2)^3)+(PI()*((C53/2)^2)*(B53-C53))) -> 0.61317333 | G53: =E53/F53 -> 5.7025563
A54: MB | B54: 1.563 | C54: 1.032 | D54: =B54/C54 -> 1.5145349 | E54: =((4*PI()*(C54/2)^2)+((PI()*C54)*(B54-C54))) -> 5.0674392 | F54: =(((4/3)*PI()*(C54/2)^3)+(PI()*((C54/2)^2)*(B54-C54))) -> 1.0196544 | G54: =E54/F54 -> 4.9697617
A55: MB | B55: 1.141 | C55: 1 | D55: =B55/C55 -> 1.141 | E55: =((4*PI()*(C55/2)^2)+((PI()*C55)*(B55-C55))) -> 3.5845572 | F55: =(((4/3)*PI()*(C55/2)^3)+(PI()*((C55/2)^2)*(B55-C55))) -> 0.63433992 | G55: =E55/F55 -> 5.6508461
A56: MB | B56: 1.519 | C56: 1.103 | D56: =B56/C56 -> 1.3771532 | E56: =((4*PI()*(C56/2)^2)+((PI()*C56)*(B56-C56))) -> 5.2636034 | F56: =(((4/3)*PI()*(C56/2)^3)+(PI()*((C56/2)^2)*(B56-C56))) -> 1.1001249 | G56: =E56/F56 -> 4.7845508
A57: MB | B57: 1.398 | C57: 0.853 | D57: =B57/C57 -> 1.6389215 | E57: =((4*PI()*(C57/2)^2)+((PI()*C57)*(B57-C57))) -> 3.7463304 | F57: =(((4/3)*PI()*(C57/2)^3)+(PI()*((C57/2)^2)*(B57-C57))) -> 0.63641904 | G57: =E57/F57 -> 5.8865781
... A71: MB | B71: 1.479 | C71: 0.997 | D71: =B71/C71 -> 1.4834504 | E71: =((4*PI()*(C71/2)^2)+((PI()*C71)*(B71-C71))) -> 4.6324763 | F71: =(((4/3)*PI()*(C71/2)^3)+(PI()*((C71/2)^2)*(B71-C71))) -> 0.89519446 | G71: =E71/F71 -> 5.1748268
A72: MB | B72: 1.286 | C72: =(0.435+0.956)/2 -> 0.6955 | D72: =B72/C72 -> 1.8490295 | E72: =((4*PI()*(C72/2)^2)+((PI()*C72)*(B72-C72))) -> 2.8098813 | F72: =(((4/3)*PI()*(C72/2)^3)+(PI()*((C72/2)^2)*(B72-C72))) -> 0.40049162 | G72: =E72/F72 -> 7.0160802
A73: MB | B73: 1.204 | C73: 0.994 | D73: =B73/C73 -> 1.2112676 | E73: =((4*PI()*(C73/2)^2)+((PI()*C73)*(B73-C73))) -> 3.7597827 | F73: =(((4/3)*PI()*(C73/2)^3)+(PI()*((C73/2)^2)*(B73-C73))) -> 0.67719078 | G73: =E73/F73 -> 5.5520288
A74: MB | B74: 1.743 | C74: 0.962 | D74: =B74/C74 -> 1.8118503 | E74: =((4*PI()*(C74/2)^2)+((PI()*C74)*(B74-C74))) -> 5.2677157 | F74: =(((4/3)*PI()*(C74/2)^3)+(PI()*((C74/2)^2)*(B74-C74))) -> 1.0338116 | G74: =E74/F74 -> 5.0954309
A75: MB | B75: 2.209 | C75: 0.977 | D75: =B75/C75 -> 2.2610031 | E75: =((4*PI()*(C75/2)^2)+((PI()*C75)*(B75-C75))) -> 6.7801633 | F75: =(((4/3)*PI()*(C75/2)^3)+(PI()*((C75/2)^2)*(B75-C75))) -> 1.4119074 | G75: =E75/F75 -> 4.8021304
A76: MB | B76: 1.684 | C76: 1.032 | D76: =B76/C76 -> 1.6317829 | E76: =((4*PI()*(C76/2)^2)+((PI()*C76)*(B76-C76))) -> 5.4597362 | F76: =(((4/3)*PI()*(C76/2)^3)+(PI()*((C76/2)^2)*(B76-C76))) -> 1.120867 | G76: =E76/F76 -> 4.8709939
A77: MB | B77: 1.223 | C77: 1.077 | D77: =B77/C77 -> 1.1355617 | E77: =((4*PI()*(C77/2)^2)+((PI()*C77)*(B77-C77))) -> 4.1380147 | F77: =(((4/3)*PI()*(C77/2)^3)+(PI()*((C77/2)^2)*(B77-C77))) -> 0.78710928 | G77: =E77/F77 -> 5.2572303
A78: MB | B78: 1.546 | C78: 1.147 | D78: =B78/C78 -> 1.347864 | E78: =((4*PI()*(C78/2)^2)+((PI()*C78)*(B78-C78))) -> 5.5708669 | F78: =(((4/3)*PI()*(C78/2)^3)+(PI()*((C78/2)^2)*(B78-C78))) -> 1.2023899 | G78: =E78/F78 -> 4.6331618
A79: MB | B79: 1.833 | C79: 1.043 | D79: =B79/C79 -> 1.7574305 | E79: =((4*PI()*(C79/2)^2)+((PI()*C79)*(B79-C79))) -> 6.0061565 | F79: =(((4/3)*PI()*(C79/2)^3)+(PI()*((C79/2)^2)*(B79-C79))) -> 1.2690608 | G79: =E79/F79 -> 4.7327572
A105: Count | B105: =COUNT(B1:B101) -> 78 | C105: =COUNT(C1:C101) -> 78 | D105: =COUNT(D1:D101) -> 78 | E105: =COUNT(E1:E101) -> 78 | F105: =COUNT(F1:F101) -> 78 | G105: =COUNT(G1:G101) -> 78
A106: Average | B106: =AVERAGE(B2:B103) -> 1.469141 | C106: =AVERAGE(C2:C103) -> 0.96235897 | D106: =AVERAGE(D2:D103) -> 1.5403663 | E106: =AVERAGE(E2:E103) -> 4.4518938 | F106: =AVERAGE(F2:F103) -> 0.84389519 | G106: =AVERAGE(G2:G103) -> 5.4368695
A107: Standard Dev. | B107: =_xlfn.STDEV.S(B2:B103) -> 0.28850072 | C107: =_xlfn.STDEV.S(C2:C103) -> 0.10026468 | D107: =_xlfn.STDEV.S(D2:D103) -> 0.32900791 | E107: =_xlfn.STDEV.S(E2:E103) -> 1.02816 | F107: =_xlfn.STDEV.S(F2:F103) -> 0.26925716 | G107: =_xlfn.STDEV.S(G2:G103) -> 0.56719654

Sheet G5 MG1 09281603
A1: Nutrient | B1: Length (mm) | C1: Width (mm) | D1: Length/Width | E1: Surface Area (µm^2) | F1: Volume (µm^3) | G1: SA/V (1/µm)
A2: MG | B2: 1.344 | C2: 1.043 | D2: =B2/C2 -> 1.2885906 | E2: =((4*PI()*(C2/2)^2)+((PI()*C2)*(B2-C2))) -> 4.4038594 | F2: =(((4/3)*PI()*(C2/2)^3)+(PI()*((C2/2)^2)*(B2-C2))) -> 0.85126183 | G2: =E2/F2 -> 5.1733313
A3: MG | B3: 1.07 | C3: 0.785 | D3: =B3/C3 -> 1.3630573 | E3: =((4*PI()*(C3/2)^2)+((PI()*C3)*(B3-C3))) -> 2.6387807 | F3: =(((4/3)*PI()*(C3/2)^3)+(PI()*((C3/2)^2)*(B3-C3))) -> 0.39121877 | G3: =E3/F3 -> 6.7450259
A4: MG | B4: 1.06 | C4: 0.991 | D4: =B4/C4 -> 1.0696266 | E4: =((4*PI()*(C4/2)^2)+((PI()*C4)*(B4-C4))) -> 3.3001174 | F4: =(((4/3)*PI()*(C4/2)^3)+(PI()*((C4/2)^2)*(B4-C4))) -> 0.56280986 | G4: =E4/F4 -> 5.8636454
A5: MG | B5: 0.914 | C5: 0.861 | D5: =B5/C5 -> 1.0615563 | E5: =((4*PI()*(C5/2)^2)+((PI()*C5)*(B5-C5))) -> 2.4722889 | F5: =(((4/3)*PI()*(C5/2)^3)+(PI()*((C5/2)^2)*(B5-C5))) -> 0.36505956 | G5: =E5/F5 -> 6.7722892
A6: MG | B6: 1.483 | C6: 0.954 | D6: =B6/C6 -> 1.5545073 | E6: =((4*PI()*(C6/2)^2)+((PI()*C6)*(B6-C6))) -> 4.4446687 | F6: =(((4/3)*PI()*(C6/2)^3)+(PI()*((C6/2)^2)*(B6-C6))) -> 0.832746 | G6: =E6/F6 -> 5.3373642
A7: MG | B7: 1.13 | C7: 0.817 | D7: =B7/C7 -> 1.3831089 | E7: =((4*PI()*(C7/2)^2)+((PI()*C7)*(B7-C7))) -> 2.9003498 | F7: =(((4/3)*PI()*(C7/2)^3)+(PI()*((C7/2)^2)*(B7-C7))) -> 0.44962715 | G7: =E7/F7 -> 6.4505664
A8: MG | B8: 1.477 | C8: 1.129 | D8: =B8/C8 -> 1.3082374 | E8: =((4*PI()*(C8/2)^2)+((PI()*C8)*(B8-C8))) -> 5.2387094 | F8: =(((4/3)*PI()*(C8/2)^3)+(PI()*((C8/2)^2)*(B8-C8))) -> 1.1018782 | G8: =E8/F8 -> 4.7543454
A9: MG | B9: 1.172 | C9: 1.115 | D9: =B9/C9 -> 1.0511211 | E9: =((4*PI()*(C9/2)^2)+((PI()*C9)*(B9-C9))) -> 4.1053704 | F9: =(((4/3)*PI()*(C9/2)^3)+(PI()*((C9/2)^2)*(B9-C9))) -> 0.78146678 | G9: =E9/F9 -> 5.2534165
A10: MG | B10: 0.923 | C10: =(0.457+0.665)/2 -> 0.561 | D10: =B10/C10 -> 1.6452763 | E10: =((4*PI()*(C10/2)^2)+((PI()*C10)*(B10-C10))) -> 1.6267261 | F10: =(((4/3)*PI()*(C10/2)^3)+(PI()*((C10/2)^2)*(B10-C10))) -> 0.18192543 | G10: =E10/F10 -> 8.941719
A11: MG | B11: 0.98 | C11: 0.769 | D11: =B11/C11 -> 1.2743823 | E11: =((4*PI()*(C11/2)^2)+((PI()*C11)*(B11-C11))) -> 2.3675671 | F11: =(((4/3)*PI()*(C11/2)^3)+(PI()*((C11/2)^2)*(B11-C11))) -> 0.33610976 | G11: =E11/F11 -> 7.0440294
A12: MG | B12: 1.088 | C12: 0.856 | D12: =B12/C12 -> 1.271028 | E12: =((4*PI()*(C12/2)^2)+((PI()*C12)*(B12-C12))) -> 2.9258532 | F12: =(((4/3)*PI()*(C12/2)^3)+(PI()*((C12/2)^2)*(B12-C12))) -> 0.46192625 | G12: =E12/F12 -> 6.3340268
A13: MG | B13: 1.739 | C13: 1.113 | D13: =B13/C13 -> 1.5624438 | E13: =((4*PI()*(C13/2)^2)+((PI()*C13)*(B13-C13))) -> 6.0805746 | F13: =(((4/3)*PI()*(C13/2)^3)+(PI()*((C13/2)^2)*(B13-C13))) -> 1.330964 | G13: =E13/F13 -> 4.5685493
A14: MG | B14: 1.23 | C14: 1.066 | D14: =B14/C14 -> 1.1538462 | E14: =((4*PI()*(C14/2)^2)+((PI()*C14)*(B14-C14))) -> 4.1191935 | F14: =(((4/3)*PI()*(C14/2)^3)+(PI()*((C14/2)^2)*(B14-C14))) -> 0.78063293 | G14: =E14/F14 -> 5.2767355
A15: MG | B15: 0.987 | C15: 0.883 | D15: =B15/C15 -> 1.1177803 | E15: =((4*PI()*(C15/2)^2)+((PI()*C15)*(B15-C15))) -> 2.737964 | F15: =(((4/3)*PI()*(C15/2)^3)+(PI()*((C15/2)^2)*(B15-C15))) -> 0.42416573 | G15: =E15/F15 -> 6.4549391
A16: MG | B16: 1.16 | C16: 1.079 | D16: =B16/C16 -> 1.0750695 | E16: =((4*PI()*(C16/2)^2)+((PI()*C16)*(B16-C16))) -> 3.932143 | F16: =(((4/3)*PI()*(C16/2)^3)+(PI()*((C16/2)^2)*(B16-C16))) -> 0.73181899 | G16: =E16/F16 -> 5.3731087
A17: MG | B17: 1.43 | C17: 1.099 | D17: =B17/C17 -> 1.3011829 | E17: =((4*PI()*(C17/2)^2)+((PI()*C17)*(B17-C17))) -> 4.9372328 | F17: =(((4/3)*PI()*(C17/2)^3)+(PI()*((C17/2)^2)*(B17-C17))) -> 1.0089992 | G17: =E17/F17 -> 4.893198
A18: MG | B18: 0.902 | C18: 0.829 | D18: =B18/C18 -> 1.0880579 | E18: =((4*PI()*(C18/2)^2)+((PI()*C18)*(B18-C18))) -> 2.349151 | F18: =(((4/3)*PI()*(C18/2)^3)+(PI()*((C18/2)^2)*(B18-C18))) -> 0.33770848 | G18: =E18/F18 -> 6.9561507
A19: MG | B19: 0.933 | C19: 0.823 | D19: =B19/C19 -> 1.1336574 | E19: =((4*PI()*(C19/2)^2)+((PI()*C19)*(B19-C19))) -> 2.4123002 | F19: =(((4/3)*PI()*(C19/2)^3)+(PI()*((C19/2)^2)*(B19-C19))) -> 0.35039285 | G19: =E19/F19 -> 6.8845588
A20: MG | B20: 0.887 | C20: 0.748 | D20: =B20/C20 -> 1.1858289 | E20: =((4*PI()*(C20/2)^2)+((PI()*C20)*(B20-C20))) -> 2.0843713 | F20: =(((4/3)*PI()*(C20/2)^3)+(PI()*((C20/2)^2)*(B20-C20))) -> 0.28021204 | G20: =E20/F20 -> 7.4385502
A21: MG | B21: 1.424 | C21: 0.967 | D21: =B21/C21 -> 1.4725957 | E21: =((4*PI()*(C21/2)^2)+((PI()*C21)*(B21-C21))) -> 4.3259982 | F21: =(((4/3)*PI()*(C21/2)^3)+(PI()*((C21/2)^2)*(B21-C21))) -> 0.80908293 | G21: =E21/F21 -> 5.3467921
A22: MG | B22: 1.313 | C22: 0.823 | D22: =B22/C22 -> 1.5953827 | E22: =((4*PI()*(C22/2)^2)+((PI()*C22)*(B22-C22))) -> 3.3948019 | F22: =(((4/3)*PI()*(C22/2)^3)+(PI()*((C22/2)^2)*(B22-C22))) -> 0.55254257 | G22: =E22/F22 -> 6.1439644
... A86: MG | B86: 1.13 | C86: 0.943 | D86: =B86/C86 -> 1.1983033 | E86: =((4*PI()*(C86/2)^2)+((PI()*C86)*(B86-C86))) -> 3.3476497 | F86: =(((4/3)*PI()*(C86/2)^3)+(PI()*((C86/2)^2)*(B86-C86))) -> 0.56967345 | G86: =E86/F86 -> 5.8764362
A105: Count | B105: =COUNT(B1:B103) -> 85 | C105: =COUNT(C1:C103) -> 85 | D105: =COUNT(D1:D103) -> 85 | E105: =COUNT(E1:E103) -> 85 | F105: =COUNT(F1:F103) -> 85 | G105: =COUNT(G1:G103) -> 85
A106: Average | B106: =AVERAGE(B2:B103) -> 1.1546235 | C106: =AVERAGE(C2:C103) -> 0.91970588 | D106: =AVERAGE(D2:D103) -> 1.2637063 | E106: =AVERAGE(E2:E103) -> 3.3798474 | F106: =AVERAGE(F2:F103) -> 0.5864089 | G106: =AVERAGE(G2:G103) -> 6.0963567
A107: Standard Dev. | B107: =_xlfn.STDEV.S(B2:B103) -> 0.22574053 | C107: =_xlfn.STDEV.S(C2:C103) -> 0.12731811 | D107: =_xlfn.STDEV.S(D2:D103) -> 0.22779899 | E107: =_xlfn.STDEV.S(E2:E103) -> 0.96815705 | F107: =_xlfn.STDEV.S(F2:F103) -> 0.24612087 | G107: =_xlfn.STDEV.S(G2:G103) -> 0.87909282

Sheet G5 MG2 09281719
A1: Nutrient | B1: Length (mm) | C1: Width (mm) | D1: Length/Width | E1: Surface Area (µm^2) | F1: Volume (µm^3) | G1: SA/V (1/µm)
A2: MG | B2: 1.06 | C2: 0.852 | D2: =B2/C2 -> 1.2441315 | E2: =((4*PI()*(C2/2)^2)+((PI()*C2)*(B2-C2))) -> 2.8372352 | F2: =(((4/3)*PI()*(C2/2)^3)+(PI()*((C2/2)^2)*(B2-C2))) -> 0.44241597 | G2: =E2/F2 -> 6.4130487
A3: MG | B3: 0.943 | C3: 0.922 | D3: =B3/C3 -> 1.0227766 | E3: =((4*PI()*(C3/2)^2)+((PI()*C3)*(B3-C3))) -> 2.7314452 | F3: =(((4/3)*PI()*(C3/2)^3)+(PI()*((C3/2)^2)*(B3-C3))) -> 0.42440565 | G3: =E3/F3 -> 6.4359302
A4: MG | B4: 0.975 | C4: 0.818 | D4: =B4/C4 -> 1.1919315 | E4: =((4*PI()*(C4/2)^2)+((PI()*C4)*(B4-C4))) -> 2.5055772 | F4: =(((4/3)*PI()*(C4/2)^3)+(PI()*((C4/2)^2)*(B4-C4))) -> 0.36909637 | G4: =E4/F4 -> 6.7884093
A5: MG | B5: 1.244 | C5: 1.068 | D5: =B5/C5 -> 1.164794 | E5: =((4*PI()*(C5/2)^2)+((PI()*C5)*(B5-C5))) -> 4.1738949 | F5: =(((4/3)*PI()*(C5/2)^3)+(PI()*((C5/2)^2)*(B5-C5))) -> 0.79550947 | G5: =E5/F5 -> 5.2468199
A6: MG | B6: 1.025 | C6: 1.008 | D6: =B6/C6 -> 1.0168651 | E6: =((4*PI()*(C6/2)^2)+((PI()*C6)*(B6-C6))) -> 3.2458935 | F6: =(((4/3)*PI()*(C6/2)^3)+(PI()*((C6/2)^2)*(B6-C6))) -> 0.5498322 | G6: =E6/F6 -> 5.9034257
A7: MG | B7: 1.155 | C7: 0.729 | D7: =B7/C7 -> 1.5843621 | E7: =((4*PI()*(C7/2)^2)+((PI()*C7)*(B7-C7))) -> 2.6452053 | F7: =(((4/3)*PI()*(C7/2)^3)+(PI()*((C7/2)^2)*(B7-C7))) -> 0.38066222 | G7: =E7/F7 -> 6.9489568
A8: MG | B8: 1.042 | C8: 0.696 | D8: =B8/C8 -> 1.4971264 | E8: =((4*PI()*(C8/2)^2)+((PI()*C8)*(B8-C8))) -> 2.2783835 | F8: =(((4/3)*PI()*(C8/2)^3)+(PI()*((C8/2)^2)*(B8-C8))) -> 0.30817214 | G8: =E8/F8 -> 7.393217
A9: MG | B9: 1.198 | C9: 0.823 | D9: =B9/C9 -> 1.4556501 | E9: =((4*PI()*(C9/2)^2)+((PI()*C9)*(B9-C9))) -> 3.0974658 | F9: =(((4/3)*PI()*(C9/2)^3)+(PI()*((C9/2)^2)*(B9-C9))) -> 0.49136568 | G9: =E9/F9 -> 6.3037895
A10: MG | B10: 1.077 | C10: 1.005 | D10: =B10/C10 -> 1.0716418 | E10: =((4*PI()*(C10/2)^2)+((PI()*C10)*(B10-C10))) -> 3.4004128 | F10: =(((4/3)*PI()*(C10/2)^3)+(PI()*((C10/2)^2)*(B10-C10))) -> 0.58860766 | G10: =E10/F10 -> 5.7770447
A11: MG | B11: 0.923 | C11: 0.802 | D11: =B11/C11 -> 1.1508728 | E11: =((4*PI()*(C11/2)^2)+((PI()*C11)*(B11-C11))) -> 2.3255514 | F11: =(((4/3)*PI()*(C11/2)^3)+(PI()*((C11/2)^2)*(B11-C11))) -> 0.33122394 | G11: =E11/F11 -> 7.0210848
A12: MG | B12: 0.963 | C12: 0.923 | D12: =B12/C12 -> 1.0433369 | E12: =((4*PI()*(C12/2)^2)+((PI()*C12)*(B12-C12))) -> 2.7924015 | F12: =(((4/3)*PI()*(C12/2)^3)+(PI()*((C12/2)^2)*(B12-C12))) -> 0.43848581 | G12: =E12/F12 -> 6.3682825
A13: MG | B13: 1.023 | C13: 0.913 | D13: =B13/C13 -> 1.1204819 | E13: =((4*PI()*(C13/2)^2)+((PI()*C13)*(B13-C13))) -> 2.9342444 | F13: =(((4/3)*PI()*(C13/2)^3)+(PI()*((C13/2)^2)*(B13-C13))) -> 0.47049925 | G13: =E13/F13 -> 6.2364486
... A39: MG | B39: 1.004 | C39: 0.676 | D39: =B39/C39 -> 1.4852071 | E39: =((4*PI()*(C39/2)^2)+((PI()*C39)*(B39-C39))) -> 2.1322115 | F39: =(((4/3)*PI()*(C39/2)^3)+(PI()*((C39/2)^2)*(B39-C39))) -> 0.27946978 | G39: =E39/F39 -> 7.6294885
A40: MG | B40: 1.008 | C40: =(0.556+0.921)/2 -> 0.7385 | D40: =B40/C40 -> 1.3649289 | E40: =((4*PI()*(C40/2)^2)+((PI()*C40)*(B40-C40))) -> 2.3386267 | F40: =(((4/3)*PI()*(C40/2)^3)+(PI()*((C40/2)^2)*(B40-C40))) -> 0.32632538 | G40: =E40/F40 -> 7.1665486
A41: MG | B41: 1.127 | C41: 1.006 | D41: =B41/C41 -> 1.1202783 | E41: =((4*PI()*(C41/2)^2)+((PI()*C41)*(B41-C41))) -> 3.5618184 | F41: =(((4/3)*PI()*(C41/2)^3)+(PI()*((C41/2)^2)*(B41-C41))) -> 0.62925721 | G41: =E41/F41 -> 5.6603537
A42: MG | B42: 1.113 | C42: 0.97 | D42: =B42/C42 -> 1.1474227 | E42: =((4*PI()*(C42/2)^2)+((PI()*C42)*(B42-C42))) -> 3.3916948 | F42: =(((4/3)*PI()*(C42/2)^3)+(PI()*((C42/2)^2)*(B42-C42))) -> 0.58354877 | G42: =E42/F42 -> 5.8121875
A43: MG | B43: 1.032 | C43: 0.996 | D43: =B43/C43 -> 1.0361446 | E43: =((4*PI()*(C43/2)^2)+((PI()*C43)*(B43-C43))) -> 3.2291551 | F43: =(((4/3)*PI()*(C43/2)^3)+(PI()*((C43/2)^2)*(B43-C43))) -> 0.54538928 | G43: =E43/F43 -> 5.9208262
A44: MG | B44: 1.011 | C44: 0.787 | D44: =B44/C44 -> 1.2846252 | E44: =((4*PI()*(C44/2)^2)+((PI()*C44)*(B44-C44))) -> 2.4996302 | F44: =(((4/3)*PI()*(C44/2)^3)+(PI()*((C44/2)^2)*(B44-C44))) -> 0.36418985 | G44: =E44/F44 -> 6.863536
