Workbook

Sheet G1 LB1 09271137
A1: Nutrient | B1: Length | C1: Width | D1: Length/Width | E1: Surface Area | F1: Volume | G1: SA/V
A2: LB | B2: 1.127 | C2: 0.993 | D2: =B2/C2 -> 1.1349446 | E2: =((4*PI()*(C2/2)^2)+((PI()*C2)*(B2-C2))) -> 3.5157909 | F2: =(((4/3)*PI()*(C2/2)^3)+(PI()*((C2/2)^2)*(B2-C2))) -> 0.61645509 | G2: =E2/F2 -> 5.7032393
A3: LB | B3: 1.29 | C3: 1.038 | D3: =B3/C3 -> 1.2427746 | E3: =((4*PI()*(C3/2)^2)+((PI()*C3)*(B3-C3))) -> 4.2066554 | F3: =(((4/3)*PI()*(C3/2)^3)+(PI()*((C3/2)^2)*(B3-C3))) -> 0.79883408 | G3: =E3/F3 -> 5.2659939
A4: LB | B4: 1.41 | C4: 0.882 | D4: =B4/C4 -> 1.5986395 | E4: =((4*PI()*(C4/2)^2)+((PI()*C4)*(B4-C4))) -> 3.9069475 | F4: =(((4/3)*PI()*(C4/2)^3)+(PI()*((C4/2)^2)*(B4-C4))) -> 0.68185377 | G4: =E4/F4 -> 5.7298905
A5: LB | B5: 1.894 | C5: 1.196 | D5: =B5/C5 -> 1.583612 | E5: =((4*PI()*(C5/2)^2)+((PI()*C5)*(B5-C5))) -> 7.1164111 | F5: =(((4/3)*PI()*(C5/2)^3)+(PI()*((C5/2)^2)*(B5-C5))) -> 1.6799264 | G5: =E5/F5 -> 4.2361446
A6: LB | B6: 1.405 | C6: 0.936 | D6: =B6/C6 -> 1.5010684 | E6: =((4*PI()*(C6/2)^2)+((PI()*C6)*(B6-C6))) -> 4.1314457 | F6: =(((4/3)*PI()*(C6/2)^3)+(PI()*((C6/2)^2)*(B6-C6))) -> 0.75207602 | G6: =E6/F6 -> 5.4933884
A7: LB | B7: 1.115 | C7: 0.914 | D7: =B7/C7 -> 1.2199125 | E7: =((4*PI()*(C7/2)^2)+((PI()*C7)*(B7-C7))) -> 3.2016285 | F7: =(((4/3)*PI()*(C7/2)^3)+(PI()*((C7/2)^2)*(B7-C7))) -> 0.53167468 | G7: =E7/F7 -> 6.021781
A8: LB | B8: 2.018 | C8: 1.153 | D8: =B8/C8 -> 1.7502168 | E8: =((4*PI()*(C8/2)^2)+((PI()*C8)*(B8-C8))) -> 7.3097133 | F8: =(((4/3)*PI()*(C8/2)^3)+(PI()*((C8/2)^2)*(B8-C8))) -> 1.7057365 | G8: =E8/F8 -> 4.2853707
A9: LB | B9: 1.638 | C9: 1.171 | D9: =B9/C9 -> 1.3988044 | E9: =((4*PI()*(C9/2)^2)+((PI()*C9)*(B9-C9))) -> 6.0258826 | F9: =(((4/3)*PI()*(C9/2)^3)+(PI()*((C9/2)^2)*(B9-C9))) -> 1.3436998 | G9: =E9/F9 -> 4.4845454
A10: LB | B10: 1.29 | C10: 1.055 | D10: =B10/C10 -> 1.2227488 | E10: =((4*PI()*(C10/2)^2)+((PI()*C10)*(B10-C10))) -> 4.2755505 | F10: =(((4/3)*PI()*(C10/2)^3)+(PI()*((C10/2)^2)*(B10-C10))) -> 0.82026078 | G10: =E10/F10 -> 5.2124283
A11: LB | B11: 1.526 | C11: 1.036 | D11: =B11/C11 -> 1.472973 | E11: =((4*PI()*(C11/2)^2)+((PI()*C11)*(B11-C11))) -> 4.9666569 | F11: =(((4/3)*PI()*(C11/2)^3)+(PI()*((C11/2)^2)*(B11-C11))) -> 0.99526033 | G11: =E11/F11 -> 4.9903093
A12: LB | B12: 1.881 | C12: 1.123 | D12: =B12/C12 -> 1.6749777 | E12: =((4*PI()*(C12/2)^2)+((PI()*C12)*(B12-C12))) -> 6.6361841 | F12: =(((4/3)*PI()*(C12/2)^3)+(PI()*((C12/2)^2)*(B12-C12))) -> 1.4923359 | G12: =E12/F12 -> 4.4468436
A13: LB | B13: 1.316 | C13: 1.095 | D13: =B13/C13 -> 1.2018265 | E13: =((4*PI()*(C13/2)^2)+((PI()*C13)*(B13-C13))) -> 4.5270978 | F13: =(((4/3)*PI()*(C13/2)^3)+(PI()*((C13/2)^2)*(B13-C13))) -> 0.89556814 | G13: =E13/F13 -> 5.055001
... A19: LB | B19: 2.321 | C19: 0.9 | D19: =B19/C19 -> 2.5788889 | E19: =((4*PI()*(C19/2)^2)+((PI()*C19)*(B19-C19))) -> 6.5624729 | F19: =(((4/3)*PI()*(C19/2)^3)+(PI()*((C19/2)^2)*(B19-C19))) -> 1.2857046 | G19: =E19/F19 -> 5.1041838
A20: LB | B20: 1.424 | C20: =(0.804+0.235)/2 -> 0.5195 | D20: =B20/C20 -> 2.7410972 | E20: =((4*PI()*(C20/2)^2)+((PI()*C20)*(B20-C20))) -> 2.3240497 | F20: =(((4/3)*PI()*(C20/2)^3)+(PI()*((C20/2)^2)*(B20-C20))) -> 0.26513095 | G20: =E20/F20 -> 8.7656673
A21: LB | B21: 1.245 | C21: 0.974 | D21: =B21/C21 -> 1.2782341 | E21: =((4*PI()*(C21/2)^2)+((PI()*C21)*(B21-C21))) -> 3.8095895 | F21: =(((4/3)*PI()*(C21/2)^3)+(PI()*((C21/2)^2)*(B21-C21))) -> 0.68572968 | G21: =E21/F21 -> 5.5555266
A22: LB | B22: 1.276 | C22: 0.732 | D22: =B22/C22 -> 1.7431694 | E22: =((4*PI()*(C22/2)^2)+((PI()*C22)*(B22-C22))) -> 2.9343481 | F22: =(((4/3)*PI()*(C22/2)^3)+(PI()*((C22/2)^2)*(B22-C22))) -> 0.43430191 | G22: =E22/F22 -> 6.7564705
A23: LB | B23: 1.543 | C23: 1.09 | D23: =B23/C23 -> 1.4155963 | E23: =((4*PI()*(C23/2)^2)+((PI()*C23)*(B23-C23))) -> 5.2837504 | F23: =(((4/3)*PI()*(C23/2)^3)+(PI()*((C23/2)^2)*(B23-C23))) -> 1.1007842 | G23: =E23/F23 -> 4.7999876
A24: LB | B24: 2.074 | C24: 1.095 | D24: =B24/C24 -> 1.8940639 | E24: =((4*PI()*(C24/2)^2)+((PI()*C24)*(B24-C24))) -> 7.1346512 | F24: =(((4/3)*PI()*(C24/2)^3)+(PI()*((C24/2)^2)*(B24-C24))) -> 1.6093859 | G24: =E24/F24 -> 4.4331514
A25: LB | B25: 1.389 | C25: 1.121 | D25: =B25/C25 -> 1.2390723 | E25: =((4*PI()*(C25/2)^2)+((PI()*C25)*(B25-C25))) -> 4.8916765 | F25: =(((4/3)*PI()*(C25/2)^3)+(PI()*((C25/2)^2)*(B25-C25))) -> 1.002097 | G25: =E25/F25 -> 4.8814403
A26: LB | B26: 1.526 | C26: 1 | D26: =B26/C26 -> 1.526 | E26: =((4*PI()*(C26/2)^2)+((PI()*C26)*(B26-C26))) -> 4.7940704 | F26: =(((4/3)*PI()*(C26/2)^3)+(PI()*((C26/2)^2)*(B26-C26))) -> 0.93671821 | G26: =E26/F26 -> 5.117943
A27: LB | B27: 1.509 | C27: 1.083 | D27: =B27/C27 -> 1.3933518 | E27: =((4*PI()*(C27/2)^2)+((PI()*C27)*(B27-C27))) -> 5.1341384 | F27: =(((4/3)*PI()*(C27/2)^3)+(PI()*((C27/2)^2)*(B27-C27))) -> 1.0575202 | G27: =E27/F27 -> 4.8548843
A28: LB | B28: 1.175 | C28: =(1.044+0.741)/2 -> 0.8925 | D28: =B28/C28 -> 1.3165266 | E28: =((4*PI()*(C28/2)^2)+((PI()*C28)*(B28-C28))) -> 3.2945489 | F28: =(((4/3)*PI()*(C28/2)^3)+(PI()*((C28/2)^2)*(B28-C28))) -> 0.54897612 | G28: =E28/F28 -> 6.0012609
A29: LB | B29: 1.372 | C29: 1.086 | D29: =B29/C29 -> 1.2633517 | E29: =((4*PI()*(C29/2)^2)+((PI()*C29)*(B29-C29))) -> 4.6809479 | F29: =(((4/3)*PI()*(C29/2)^3)+(PI()*((C29/2)^2)*(B29-C29))) -> 0.93555841 | G29: =E29/F29 -> 5.0033733
A30: LB | B30: 1.855 | C30: 1.033 | D30: =B30/C30 -> 1.7957406 | E30: =((4*PI()*(C30/2)^2)+((PI()*C30)*(B30-C30))) -> 6.019967 | F30: =(((4/3)*PI()*(C30/2)^3)+(PI()*((C30/2)^2)*(B30-C30))) -> 1.2660742 | G30: =E30/F30 -> 4.7548294
A31: LB | B31: 1.118 | C31: 0.983 | D31: =B31/C31 -> 1.1373347 | E31: =((4*PI()*(C31/2)^2)+((PI()*C31)*(B31-C31))) -> 3.4525915 | F31: =(((4/3)*PI()*(C31/2)^3)+(PI()*((C31/2)^2)*(B31-C31))) -> 0.59980104 | G31: =E31/F31 -> 5.7562279
A32: LB | B32: 1.704 | C32: 0.954 | D32: =B32/C32 -> 1.7861635 | E32: =((4*PI()*(C32/2)^2)+((PI()*C32)*(B32-C32))) -> 5.1070233 | F32: =(((4/3)*PI()*(C32/2)^3)+(PI()*((C32/2)^2)*(B32-C32))) -> 0.99071756 | G32: =E32/F32 -> 5.1548731
A33: LB | B33: 1.659 | C33: 1.042 | D33: =B33/C33 -> 1.5921305 | E33: =((4*PI()*(C33/2)^2)+((PI()*C33)*(B33-C33))) -> 5.4308021 | F33: =(((4/3)*PI()*(C33/2)^3)+(PI()*((C33/2)^2)*(B33-C33))) -> 1.118533 | G33: =E33/F33 -> 4.85529
A34: LB | B34: 2.306 | C34: 1.042 | D34: =B34/C34 -> 2.2130518 | E34: =((4*PI()*(C34/2)^2)+((PI()*C34)*(B34-C34))) -> 7.5487822 | F34: =(((4/3)*PI()*(C34/2)^3)+(PI()*((C34/2)^2)*(B34-C34))) -> 1.6702668 | G34: =E34/F34 -> 4.5195068
A35: LB | B35: 1.497 | C35: 1.104 | D35: =B35/C35 -> 1.3559783 | E35: =((4*PI()*(C35/2)^2)+((PI()*C35)*(B35-C35))) -> 5.1920725 | F35: =(((4/3)*PI()*(C35/2)^3)+(PI()*((C35/2)^2)*(B35-C35))) -> 1.0807419 | G35: =E35/F35 -> 4.8041745
A36: LB | B36: 1.509 | C36: 1.056 | D36: =B36/C36 -> 1.4289773 | E36: =((4*PI()*(C36/2)^2)+((PI()*C36)*(B36-C36))) -> 5.0061405 | F36: =(((4/3)*PI()*(C36/2)^3)+(PI()*((C36/2)^2)*(B36-C36))) -> 1.0133304 | G36: =E36/F36 -> 4.9402844
A37: LB | B37: 1.951 | C37: 1.089 | D37: =B37/C37 -> 1.7915519 | E37: =((4*PI()*(C37/2)^2)+((PI()*C37)*(B37-C37))) -> 6.6747503 | F37: =(((4/3)*PI()*(C37/2)^3)+(PI()*((C37/2)^2)*(B37-C37))) -> 1.4790952 | G37: =E37/F37 -> 4.5127251
A38: LB | B38: 1.357 | C38: 0.871 | D38: =B38/C38 -> 1.5579793 | E38: =((4*PI()*(C38/2)^2)+((PI()*C38)*(B38-C38))) -> 3.713196 | F38: =(((4/3)*PI()*(C38/2)^3)+(PI()*((C38/2)^2)*(B38-C38))) -> 0.6355576 | G38: =E38/F38 -> 5.8424225
A39: LB | B39: 1.629 | C39: 0.91 | D39: =B39/C39 -> 1.7901099 | E39: =((4*PI()*(C39/2)^2)+((PI()*C39)*(B39-C39))) -> 4.6570655 | F39: =(((4/3)*PI()*(C39/2)^3)+(PI()*((C39/2)^2)*(B39-C39))) -> 0.86219798 | G39: =E39/F39 -> 5.4013876
A40: LB | B40: 2.187 | C40: 0.887 | D40: =B40/C40 -> 2.4656144 | E40: =((4*PI()*(C40/2)^2)+((PI()*C40)*(B40-C40))) -> 6.0942782 | F40: =(((4/3)*PI()*(C40/2)^3)+(PI()*((C40/2)^2)*(B40-C40))) -> 1.1687058 | G40: =E40/F40 -> 5.2145529
A41: LB | B41: 1.958 | C41: =(0.926+0.577)/2 -> 0.7515 | D41: =B41/C41 -> 2.6054558 | E41: =((4*PI()*(C41/2)^2)+((PI()*C41)*(B41-C41))) -> 4.6226557 | F41: =(((4/3)*PI()*(C41/2)^3)+(PI()*((C41/2)^2)*(B41-C41))) -> 0.75737081 | G41: =E41/F41 -> 6.1035567
A42: LB | B42: 1.324 | C42: 1.072 | D42: =B42/C42 -> 1.2350746 | E42: =((4*PI()*(C42/2)^2)+((PI()*C42)*(B42-C42))) -> 4.4589504 | F42: =(((4/3)*PI()*(C42/2)^3)+(PI()*((C42/2)^2)*(B42-C42))) -> 0.87248144 | G42: =E42/F42 -> 5.1106536
A43: LB | B43: 2.367 | C43: 1.158 | D43: =B43/C43 -> 2.0440415 | E43: =((4*PI()*(C43/2)^2)+((PI()*C43)*(B43-C43))) -> 8.6110615 | F43: =(((4/3)*PI()*(C43/2)^3)+(PI()*((C43/2)^2)*(B43-C43))) -> 2.0863707 | G43: =E43/F43 -> 4.1272922
A44: LB | B44: 1.175 | C44: =(0.941+0.527)/2 -> 0.734 | D44: =B44/C44 -> 1.6008174 | E44: =((4*PI()*(C44/2)^2)+((PI()*C44)*(B44-C44))) -> 2.7094666 | F44: =(((4/3)*PI()*(C44/2)^3)+(PI()*((C44/2)^2)*(B44-C44))) -> 0.39365936 | G44: =E44/F44 -> 6.8827694
A45: LB | B45: 1.227 | C45: 1.042 | D45: =B45/C45 -> 1.1775432 | E45: =((4*PI()*(C45/2)^2)+((PI()*C45)*(B45-C45))) -> 4.016633 | F45: =(((4/3)*PI()*(C45/2)^3)+(PI()*((C45/2)^2)*(B45-C45))) -> 0.75014195 | G45: =E45/F45 -> 5.3544972
...

Sheet G2 LB1 09291950
A1: Nutrient | B1: Length (mm) | C1: Width (mm) | D1: Length/Width | E1: Surface Area (µm^2) | F1: Volume (µm^3) | G1: SA/V (1/µm)
A2: LB | B2: 1.894 | C2: 0.99 | D2: =B2/C2 -> 1.9131313 | E2: =((4*PI()*(C2/2)^2)+((PI()*C2)*(B2-C2))) -> 5.8906747 | F2: =(((4/3)*PI()*(C2/2)^3)+(PI()*((C2/2)^2)*(B2-C2))) -> 1.2039183 | G2: =E2/F2 -> 4.892919
A3: LB | B3: 1.094 | C3: 1.056 | D3: =B3/C3 -> 1.0359848 | E3: =((4*PI()*(C3/2)^2)+((PI()*C3)*(B3-C3))) -> 3.6293689 | F3: =(((4/3)*PI()*(C3/2)^3)+(PI()*((C3/2)^2)*(B3-C3))) -> 0.64986272 | G3: =E3/F3 -> 5.584824
A4: LB | B4: 0.973 | C4: =(0.99+0.504)/2 -> 0.747 | D4: =B4/C4 -> 1.3025435 | E4: =((4*PI()*(C4/2)^2)+((PI()*C4)*(B4-C4))) -> 2.2834069 | F4: =(((4/3)*PI()*(C4/2)^3)+(PI()*((C4/2)^2)*(B4-C4))) -> 0.31729969 | G4: =E4/F4 -> 7.196373
A5: LB | B5: 0.975 | C5: 0.819 | D5: =B5/C5 -> 1.1904762 | E5: =((4*PI()*(C5/2)^2)+((PI()*C5)*(B5-C5))) -> 2.5086403 | F5: =(((4/3)*PI()*(C5/2)^3)+(PI()*((C5/2)^2)*(B5-C5))) -> 0.36982375 | G5: =E5/F5 -> 6.7833401
A6: LB | B6: 1.337 | C6: 1.125 | D6: =B6/C6 -> 1.1884444 | E6: =((4*PI()*(C6/2)^2)+((PI()*C6)*(B6-C6))) -> 4.7253481 | F6: =(((4/3)*PI()*(C6/2)^3)+(PI()*((C6/2)^2)*(B6-C6))) -> 0.95624681 | G6: =E6/F6 -> 4.9415569
A7: LB | B7: 1.032 | C7: 0.906 | D7: =B7/C7 -> 1.1390728 | E7: =((4*PI()*(C7/2)^2)+((PI()*C7)*(B7-C7))) -> 2.937364 | F7: =(((4/3)*PI()*(C7/2)^3)+(PI()*((C7/2)^2)*(B7-C7))) -> 0.47061865 | G7: =E7/F7 -> 6.2414951
A8: LB | B8: 1.037 | C8: 0.856 | D8: =B8/C8 -> 1.2114486 | E8: =((4*PI()*(C8/2)^2)+((PI()*C8)*(B8-C8))) -> 2.7887038 | F8: =(((4/3)*PI()*(C8/2)^3)+(PI()*((C8/2)^2)*(B8-C8))) -> 0.43257628 | G8: =E8/F8 -> 6.4467331
A9: LB | B9: 0.94 | C9: 0.858 | D9: =B9/C9 -> 1.0955711 | E9: =((4*PI()*(C9/2)^2)+((PI()*C9)*(B9-C9))) -> 2.5337573 | F9: =(((4/3)*PI()*(C9/2)^3)+(PI()*((C9/2)^2)*(B9-C9))) -> 0.37813093 | G9: =E9/F9 -> 6.7007406
A10: LB | B10: 1.167 | C10: =(0.976+0.609)/2 -> 0.7925 | D10: =B10/C10 -> 1.4725552 | E10: =((4*PI()*(C10/2)^2)+((PI()*C10)*(B10-C10))) -> 2.9054941 | F10: =(((4/3)*PI()*(C10/2)^3)+(PI()*((C10/2)^2)*(B10-C10))) -> 0.44534441 | G10: =E10/F10 -> 6.5241508
A11: LB | B11: 1.083 | C11: 0.961 | D11: =B11/C11 -> 1.1269511 | E11: =((4*PI()*(C11/2)^2)+((PI()*C11)*(B11-C11))) -> 3.2696534 | F11: =(((4/3)*PI()*(C11/2)^3)+(PI()*((C11/2)^2)*(B11-C11))) -> 0.55318631 | G11: =E11/F11 -> 5.9105827
A12: LB | B12: 1.357 | C12: 0.957 | D12: =B12/C12 -> 1.4179728 | E12: =((4*PI()*(C12/2)^2)+((PI()*C12)*(B12-C12))) -> 4.0798262 | F12: =(((4/3)*PI()*(C12/2)^3)+(PI()*((C12/2)^2)*(B12-C12))) -> 0.74663976 | G12: =E12/F12 -> 5.4642498
A13: LB | B13: 1.027 | C13: 0.946 | D13: =B13/C13 -> 1.0856237 | E13: =((4*PI()*(C13/2)^2)+((PI()*C13)*(B13-C13))) -> 3.0521892 | F13: =(((4/3)*PI()*(C13/2)^3)+(PI()*((C13/2)^2)*(B13-C13))) -> 0.50020586 | G13: =E13/F13 -> 6.1018661
A14: LB | B14: 1.874 | C14: 1.062 | D14: =B14/C14 -> 1.7645951 | E14: =((4*PI()*(C14/2)^2)+((PI()*C14)*(B14-C14))) -> 6.25236 | F14: =(((4/3)*PI()*(C14/2)^3)+(PI()*((C14/2)^2)*(B14-C14))) -> 1.346426 | G14: =E14/F14 -> 4.6436713
A15: LB | B15: 1.226 | C15: 1.051 | D15: =B15/C15 -> 1.1665081 | E15: =((4*PI()*(C15/2)^2)+((PI()*C15)*(B15-C15))) -> 4.0480238 | F15: =(((4/3)*PI()*(C15/2)^3)+(PI()*((C15/2)^2)*(B15-C15))) -> 0.75968601 | G15: =E15/F15 -> 5.3285486
A16: LB | B16: 1.34 | C16: 1.01 | D16: =B16/C16 -> 1.3267327 | E16: =((4*PI()*(C16/2)^2)+((PI()*C16)*(B16-C16))) -> 4.2518315 | F16: =(((4/3)*PI()*(C16/2)^3)+(PI()*((C16/2)^2)*(B16-C16))) -> 0.80385528 | G16: =E16/F16 -> 5.2892997
A17: LB | B17: 1.809 | C17: 1.104 | D17: =B17/C17 -> 1.638587 | E17: =((4*PI()*(C17/2)^2)+((PI()*C17)*(B17-C17))) -> 6.2741878 | F17: =(((4/3)*PI()*(C17/2)^3)+(PI()*((C17/2)^2)*(B17-C17))) -> 1.3794057 | G17: =E17/F17 -> 4.5484718
A18: LB | B18: 1.76 | C18: 1.032 | D18: =B18/C18 -> 1.7054264 | E18: =((4*PI()*(C18/2)^2)+((PI()*C18)*(B18-C18))) -> 5.7061376 | F18: =(((4/3)*PI()*(C18/2)^3)+(PI()*((C18/2)^2)*(B18-C18))) -> 1.1844385 | G18: =E18/F18 -> 4.8175886
A19: LB | B19: 0.988 | C19: 0.95 | D19: =B19/C19 -> 1.04 | E19: =((4*PI()*(C19/2)^2)+((PI()*C19)*(B19-C19))) -> 2.9486989 | F19: =(((4/3)*PI()*(C19/2)^3)+(PI()*((C19/2)^2)*(B19-C19))) -> 0.47585573 | G19: =E19/F19 -> 6.1966236
A20: LB | B20: 2.407 | C20: 1.034 | D20: =B20/C20 -> 2.327853 | E20: =((4*PI()*(C20/2)^2)+((PI()*C20)*(B20-C20))) -> 7.8189152 | F20: =(((4/3)*PI()*(C20/2)^3)+(PI()*((C20/2)^2)*(B20-C20))) -> 1.7317684 | G20: =E20/F20 -> 4.5149888
A21: LB | B21: 1.23 | C21: 0.938 | D21: =B21/C21 -> 1.3113006 | E21: =((4*PI()*(C21/2)^2)+((PI()*C21)*(B21-C21))) -> 3.6245811 | F21: =(((4/3)*PI()*(C21/2)^3)+(PI()*((C21/2)^2)*(B21-C21))) -> 0.63390289 | G21: =E21/F21 -> 5.7178807
A22: LB | B22: 1.067 | C22: 0.965 | D22: =B22/C22 -> 1.1056995 | E22: =((4*PI()*(C22/2)^2)+((PI()*C22)*(B22-C22))) -> 3.2347566 | F22: =(((4/3)*PI()*(C22/2)^3)+(PI()*((C22/2)^2)*(B22-C22))) -> 0.54512369 | G22: =E22/F22 -> 5.9339865
... A33: LB | B33: 1.101 | C33: 0.859 | D33: =B33/C33 -> 1.2817229 | E33: =((4*PI()*(C33/2)^2)+((PI()*C33)*(B33-C33))) -> 2.9711895 | F33: =(((4/3)*PI()*(C33/2)^3)+(PI()*((C33/2)^2)*(B33-C33))) -> 0.47212408 | G33: =E33/F33 -> 6.2932386
A34: LB | B34: 1.34 | C34: =(1.028+0.714)/2 -> 0.871 | D34: =B34/C34 -> 1.5384615 | E34: =((4*PI()*(C34/2)^2)+((PI()*C34)*(B34-C34))) -> 3.6666784 | F34: =(((4/3)*PI()*(C34/2)^3)+(PI()*((C34/2)^2)*(B34-C34))) -> 0.6254284 | G34: =E34/F34 -> 5.862667
A35: LB | B35: 1.045 | C35: 0.993 | D35: =B35/C35 -> 1.0523666 | E35: =((4*PI()*(C35/2)^2)+((PI()*C35)*(B35-C35))) -> 3.2599836 | F35: =(((4/3)*PI()*(C35/2)^3)+(PI()*((C35/2)^2)*(B35-C35))) -> 0.55295093 | G35: =E35/F35 -> 5.895611
A36: LB | B36: 1.865 | C36: 1.053 | D36: =B36/C36 -> 1.7711301 | E36: =((4*PI()*(C36/2)^2)+((PI()*C36)*(B36-C36))) -> 6.169601 | F36: =(((4/3)*PI()*(C36/2)^3)+(PI()*((C36/2)^2)*(B36-C36))) -> 1.3184768 | G36: =E36/F36 -> 4.6793398
A37: LB | B37: 1.587 | C37: 0.982 | D37: =B37/C37 -> 1.6160896 | E37: =((4*PI()*(C37/2)^2)+((PI()*C37)*(B37-C37))) -> 4.8959648 | F37: =(((4/3)*PI()*(C37/2)^3)+(PI()*((C37/2)^2)*(B37-C37))) -> 0.9540442 | G37: =E37/F37 -> 5.1318008
A38: LB | B38: 1.057 | C38: 0.925 | D38: =B38/C38 -> 1.1427027 | E38: =((4*PI()*(C38/2)^2)+((PI()*C38)*(B38-C38))) -> 3.0716137 | F38: =(((4/3)*PI()*(C38/2)^3)+(PI()*((C38/2)^2)*(B38-C38))) -> 0.50310872 | G38: =E38/F38 -> 6.1052682
A39: LB | B39: 1.404 | C39: 1.087 | D39: =B39/C39 -> 1.2916283 | E39: =((4*PI()*(C39/2)^2)+((PI()*C39)*(B39-C39))) -> 4.7945353 | F39: =(((4/3)*PI()*(C39/2)^3)+(PI()*((C39/2)^2)*(B39-C39))) -> 0.96666888 | G39: =E39/F39 -> 4.9598528
A40: LB | B40: 1.015 | C40: 0.996 | D40: =B40/C40 -> 1.0190763 | E40: =((4*PI()*(C40/2)^2)+((PI()*C40)*(B40-C40))) -> 3.1759617 | F40: =(((4/3)*PI()*(C40/2)^3)+(PI()*((C40/2)^2)*(B40-C40))) -> 0.53214411 | G40: =E40/F40 -> 5.968236
A41: LB | B41: 1.211 | C41: 1.042 | D41: =B41/C41 -> 1.1621881 | E41: =((4*PI()*(C41/2)^2)+((PI()*C41)*(B41-C41))) -> 3.9642564 | F41: =(((4/3)*PI()*(C41/2)^3)+(PI()*((C41/2)^2)*(B41-C41))) -> 0.73649784 | G41: =E41/F41 -> 5.3825771
A42: LB | B42: 1.092 | C42: 0.997 | D42: =B42/C42 -> 1.0952859 | E42: =((4*PI()*(C42/2)^2)+((PI()*C42)*(B42-C42))) -> 3.4203273 | F42: =(((4/3)*PI()*(C42/2)^3)+(PI()*((C42/2)^2)*(B42-C42))) -> 0.59306633 | G42: =E42/F42 -> 5.7671919
A43: LB | B43: 1.233 | C43: 0.907 | D43: =B43/C43 -> 1.3594267 | E43: =((4*PI()*(C43/2)^2)+((PI()*C43)*(B43-C43))) -> 3.5133405 | F43: =(((4/3)*PI()*(C43/2)^3)+(PI()*((C43/2)^2)*(B43-C43))) -> 0.60131026 | G43: =E43/F43 -> 5.8428081
A44: LB | B44: 1.686 | C44: 0.911 | D44: =B44/C44 -> 1.8507135 | E44: =((4*PI()*(C44/2)^2)+((PI()*C44)*(B44-C44))) -> 4.8253167 | F44: =(((4/3)*PI()*(C44/2)^3)+(PI()*((C44/2)^2)*(B44-C44))) -> 0.90103034 | G44: =E44/F44 -> 5.3553321
A45: LB | B45: 1.06 | C45: 1.06 | D45: =B45/C45 -> 1 | E45: =((4*PI()*(C45/2)^2)+((PI()*C45)*(B45-C45))) -> 3.5298935 | F45: =(((4/3)*PI()*(C45/2)^3)+(PI()*((C45/2)^2)*(B45-C45))) -> 0.62361452 | G45: =E45/F45 -> 5.6603774
A46: LB | B46: 1.019 | C46: 1.013 | D46: =B46/C46 -> 1.005923 | E46: =((4*PI()*(C46/2)^2)+((PI()*C46)*(B46-C46))) -> 3.2428996 | F46: =(((4/3)*PI()*(C46/2)^3)+(PI()*((C46/2)^2)*(B46-C46))) -> 0.54912145 | G46: =E46/F46 -> 5.9056145
... A55: LB | B55: 1.618 | C55: 0.982 | D55: =B55/C55 -> 1.6476578 | E55: =((4*PI()*(C55/2)^2)+((PI()*C55)*(B55-C55))) -> 4.9916012 | F55: =(((4/3)*PI()*(C55/2)^3)+(PI()*((C55/2)^2)*(B55-C55))) -> 0.97752292 | G55: =E55/F55 -> 5.1063776
A56: LB | B56: 1.211 | C56: =(1+0.509)/2 -> 0.7545 | D56: =B56/C56 -> 1.6050364 | E56: =((4*PI()*(C56/2)^2)+((PI()*C56)*(B56-C56))) -> 2.8704716 | F56: =(((4/3)*PI()*(C56/2)^3)+(PI()*((C56/2)^2)*(B56-C56))) -> 0.4289961 | G56: =E56/F56 -> 6.6911368
A57: LB | B57: 1.514 | C57: 1.004 | D57: =B57/C57 -> 1.5079681 | E57: =((4*PI()*(C57/2)^2)+((PI()*C57)*(B57-C57))) -> 4.7753968 | F57: =(((4/3)*PI()*(C57/2)^3)+(PI()*((C57/2)^2)*(B57-C57))) -> 0.93367102 | G57: =E57/F57 -> 5.114646
A58: LB | B58: 1.602 | C58: 0.996 | D58: =B58/C58 -> 1.6084337 | E58: =((4*PI()*(C58/2)^2)+((PI()*C58)*(B58-C58))) -> 5.0127001 | F58: =(((4/3)*PI()*(C58/2)^3)+(PI()*((C58/2)^2)*(B58-C58))) -> 0.98949198 | G58: =E58/F58 -> 5.065933
...

Sheet G3 LB1 09261610
A1: Nutrient | B1: Length (mm) | C1: Width (mm) | D1: Length/Width | E1: Surface Area (µm^2) | F1: Volume (µm^3) | G1: SA/V (1/µm)
A2: LB | B2: 1.478 | C2: 1.162 | D2: =B2/C2 -> 1.2719449 | E2: =((4*PI()*(C2/2)^2)+((PI()*C2)*(B2-C2))) -> 5.3954843 | F2: =(((4/3)*PI()*(C2/2)^3)+(PI()*((C2/2)^2)*(B2-C2))) -> 1.1566293 | G2: =E2/F2 -> 4.6648347
A3: LB | B3: 1.73 | C3: 0.956 | D3: =B3/C3 -> 1.8096234 | E3: =((4*PI()*(C3/2)^2)+((PI()*C3)*(B3-C3))) -> 5.1958173 | F3: =(((4/3)*PI()*(C3/2)^3)+(PI()*((C3/2)^2)*(B3-C3))) -> 1.0130602 | G3: =E3/F3 -> 5.1288335
A4: LB | B4: 1.455 | C4: 1.105 | D4: =B4/C4 -> 1.3167421 | E4: =((4*PI()*(C4/2)^2)+((PI()*C4)*(B4-C4))) -> 5.0509741 | F4: =(((4/3)*PI()*(C4/2)^3)+(PI()*((C4/2)^2)*(B4-C4))) -> 1.0421033 | G4: =E4/F4 -> 4.8469034
A5: LB | B5: 1.061 | C5: 0.987 | D5: =B5/C5 -> 1.0749747 | E5: =((4*PI()*(C5/2)^2)+((PI()*C5)*(B5-C5))) -> 3.2898978 | F5: =(((4/3)*PI()*(C5/2)^3)+(PI()*((C5/2)^2)*(B5-C5))) -> 0.56006092 | G5: =E5/F5 -> 5.8741785
A6: LB | B6: 1.327 | C6: =(0.978+0.785)/2 -> 0.8815 | D6: =B6/C6 -> 1.5053885 | E6: =((4*PI()*(C6/2)^2)+((PI()*C6)*(B6-C6))) -> 3.6748796 | F6: =(((4/3)*PI()*(C6/2)^3)+(PI()*((C6/2)^2)*(B6-C6))) -> 0.63052876 | G6: =E6/F6 -> 5.8282505
A7: LB | B7: 1.293 | C7: 1.1 | D7: =B7/C7 -> 1.1754545 | E7: =((4*PI()*(C7/2)^2)+((PI()*C7)*(B7-C7))) -> 4.4682872 | F7: =(((4/3)*PI()*(C7/2)^3)+(PI()*((C7/2)^2)*(B7-C7))) -> 0.880324 | G7: =E7/F7 -> 5.0757303
A8: LB | B8: 1.533 | C8: 1.181 | D8: =B8/C8 -> 1.2980525 | E8: =((4*PI()*(C8/2)^2)+((PI()*C8)*(B8-C8))) -> 5.6877687 | F8: =(((4/3)*PI()*(C8/2)^3)+(PI()*((C8/2)^2)*(B8-C8))) -> 1.2480744 | G8: =E8/F8 -> 4.5572352
A9: LB | B9: 1.118 | C9: 1.067 | D9: =B9/C9 -> 1.0477976 | E9: =((4*PI()*(C9/2)^2)+((PI()*C9)*(B9-C9))) -> 3.7476247 | F9: =(((4/3)*PI()*(C9/2)^3)+(PI()*((C9/2)^2)*(B9-C9))) -> 0.68165344 | G9: =E9/F9 -> 5.4978447
A10: LB | B10: 1.15 | C10: 1.098 | D10: =B10/C10 -> 1.0473588 | E10: =((4*PI()*(C10/2)^2)+((PI()*C10)*(B10-C10))) -> 3.966889 | F10: =(((4/3)*PI()*(C10/2)^3)+(PI()*((C10/2)^2)*(B10-C10))) -> 0.74235327 | G10: =E10/F10 -> 5.3436675
A11: LB | B11: 1.198 | C11: 1.111 | D11: =B11/C11 -> 1.0783078 | E11: =((4*PI()*(C11/2)^2)+((PI()*C11)*(B11-C11))) -> 4.1813907 | F11: =(((4/3)*PI()*(C11/2)^3)+(PI()*((C11/2)^2)*(B11-C11))) -> 0.80236775 | G11: =E11/F11 -> 5.2113145
A12: LB | B12: 2.046 | C12: 1.097 | D12: =B12/C12 -> 1.8650866 | E12: =((4*PI()*(C12/2)^2)+((PI()*C12)*(B12-C12))) -> 7.0511853 | F12: =(((4/3)*PI()*(C12/2)^3)+(PI()*((C12/2)^2)*(B12-C12))) -> 1.5881758 | G12: =E12/F12 -> 4.4398015
A13: LB | B13: 1.337 | C13: 1.052 | D13: =B13/C13 -> 1.2709125 | E13: =((4*PI()*(C13/2)^2)+((PI()*C13)*(B13-C13))) -> 4.4187255 | F13: =(((4/3)*PI()*(C13/2)^3)+(PI()*((C13/2)^2)*(B13-C13))) -> 0.85732418 | G13: =E13/F13 -> 5.1540894
A14: LB | B14: 1.33 | C14: 1.108 | D14: =B14/C14 -> 1.200361 | E14: =((4*PI()*(C14/2)^2)+((PI()*C14)*(B14-C14))) -> 4.6295766 | F14: =(((4/3)*PI()*(C14/2)^3)+(PI()*((C14/2)^2)*(B14-C14))) -> 0.92627965 | G14: =E14/F14 -> 4.9980334
A15: LB | B15: 1.594 | C15: 0.989 | D15: =B15/C15 -> 1.611729 | E15: =((4*PI()*(C15/2)^2)+((PI()*C15)*(B15-C15))) -> 4.952614 | F15: =(((4/3)*PI()*(C15/2)^3)+(PI()*((C15/2)^2)*(B15-C15))) -> 0.97127912 | G15: =E15/F15 -> 5.0990636
A16: LB | B16: 2.288 | C16: 1.082 | D16: =B16/C16 -> 2.1146026 | E16: =((4*PI()*(C16/2)^2)+((PI()*C16)*(B16-C16))) -> 7.777377 | F16: =(((4/3)*PI()*(C16/2)^3)+(PI()*((C16/2)^2)*(B16-C16))) -> 1.7721531 | G16: =E16/F16 -> 4.3886598
A17: LB | B17: 1.409 | C17: 1.086 | D17: =B17/C17 -> 1.2974217 | E17: =((4*PI()*(C17/2)^2)+((PI()*C17)*(B17-C17))) -> 4.8071834 | F17: =(((4/3)*PI()*(C17/2)^3)+(PI()*((C17/2)^2)*(B17-C17))) -> 0.96983134 | G17: =E17/F17 -> 4.956721
A18: LB | B18: 1.741 | C18: 1.114 | D18: =B18/C18 -> 1.5628366 | E18: =((4*PI()*(C18/2)^2)+((PI()*C18)*(B18-C18))) -> 6.0930373 | F18: =(((4/3)*PI()*(C18/2)^3)+(PI()*((C18/2)^2)*(B18-C18))) -> 1.3349812 | G18: =E18/F18 -> 4.5641371
... A20: LB | B20: 1.279 | C20: 1.02 | D20: =B20/C20 -> 1.2539216 | E20: =((4*PI()*(C20/2)^2)+((PI()*C20)*(B20-C20))) -> 4.0984589 | F20: =(((4/3)*PI()*(C20/2)^3)+(PI()*((C20/2)^2)*(B20-C20))) -> 0.76728343 | G20: =E20/F20 -> 5.3415189
A21: LB | B21: 1.066 | C21: =(0.934+0.78)/2 -> 0.857 | D21: =B21/C21 -> 1.243874 | E21: =((4*PI()*(C21/2)^2)+((PI()*C21)*(B21-C21))) -> 2.8700397 | F21: =(((4/3)*PI()*(C21/2)^3)+(PI()*((C21/2)^2)*(B21-C21))) -> 0.4501235 | G21: =E21/F21 -> 6.3761161
A22: LB | B22: 1.068 | C22: 0.935 | D22: =B22/C22 -> 1.142246 | E22: =((4*PI()*(C22/2)^2)+((PI()*C22)*(B22-C22))) -> 3.1371316 | F22: =(((4/3)*PI()*(C22/2)^3)+(PI()*((C22/2)^2)*(B22-C22))) -> 0.51930959 | G22: =E22/F22 -> 6.040966
A23: LB | B23: 1.292 | C23: 1.049 | D23: =B23/C23 -> 1.2316492 | E23: =((4*PI()*(C23/2)^2)+((PI()*C23)*(B23-C23))) -> 4.2578257 | F23: =(((4/3)*PI()*(C23/2)^3)+(PI()*((C23/2)^2)*(B23-C23))) -> 0.81441434 | G23: =E23/F23 -> 5.2280829
A24: LB | B24: 1.416 | C24: =(1.008+0.625)/2 -> 0.8165 | D24: =B24/C24 -> 1.7342315 | E24: =((4*PI()*(C24/2)^2)+((PI()*C24)*(B24-C24))) -> 3.6321963 | F24: =(((4/3)*PI()*(C24/2)^3)+(PI()*((C24/2)^2)*(B24-C24))) -> 0.59891475 | G24: =E24/F24 -> 6.06463
A25: LB | B25: 1.435 | C25: 1.068 | D25: =B25/C25 -> 1.343633 | E25: =((4*PI()*(C25/2)^2)+((PI()*C25)*(B25-C25))) -> 4.8147421 | F25: =(((4/3)*PI()*(C25/2)^3)+(PI()*((C25/2)^2)*(B25-C25))) -> 0.96661567 | G25: =E25/F25 -> 4.9810304
A26: LB | B26: 1.402 | C26: 1.037 | D26: =B26/C26 -> 1.3519769 | E26: =((4*PI()*(C26/2)^2)+((PI()*C26)*(B26-C26))) -> 4.5674799 | F26: =(((4/3)*PI()*(C26/2)^3)+(PI()*((C26/2)^2)*(B26-C26))) -> 0.89217157 | G26: =E26/F26 -> 5.1195084
A27: LB | B27: 1.379 | C27: =(1.049+0.661)/2 -> 0.855 | D27: =B27/C27 -> 1.6128655 | E27: =((4*PI()*(C27/2)^2)+((PI()*C27)*(B27-C27))) -> 3.7040791 | F27: =(((4/3)*PI()*(C27/2)^3)+(PI()*((C27/2)^2)*(B27-C27))) -> 0.62811539 | G27: =E27/F27 -> 5.8971316
A28: LB | B28: 1.324 | C28: 1.047 | D28: =B28/C28 -> 1.2645654 | E28: =((4*PI()*(C28/2)^2)+((PI()*C28)*(B28-C28))) -> 4.3549637 | F28: =(((4/3)*PI()*(C28/2)^3)+(PI()*((C28/2)^2)*(B28-C28))) -> 0.83943652 | G28: =E28/F28 -> 5.1879607
A29: LB | B29: 1.999 | C29: 1.06 | D29: =B29/C29 -> 1.8858491 | E29: =((4*PI()*(C29/2)^2)+((PI()*C29)*(B29-C29))) -> 6.6568463 | F29: =(((4/3)*PI()*(C29/2)^3)+(PI()*((C29/2)^2)*(B29-C29))) -> 1.452257 | G29: =E29/F29 -> 4.5837935
A30: LB | B30: 2.324 | C30: 1.118 | D30: =B30/C30 -> 2.078712 | E30: =((4*PI()*(C30/2)^2)+((PI()*C30)*(B30-C30))) -> 8.1625866 | F30: =(((4/3)*PI()*(C30/2)^3)+(PI()*((C30/2)^2)*(B30-C30))) -> 1.9156005 | G30: =E30/F30 -> 4.261111
A31: LB | B31: 1.652 | C31: 1.026 | D31: =B31/C31 -> 1.6101365 | E31: =((4*PI()*(C31/2)^2)+((PI()*C31)*(B31-C31))) -> 5.3248488 | F31: =(((4/3)*PI()*(C31/2)^3)+(PI()*((C31/2)^2)*(B31-C31))) -> 1.0830684 | G31: =E31/F31 -> 4.9164472
A32: LB | B32: 1.434 | C32: =(1.137+0.897)/2 -> 1.017 | D32: =B32/C32 -> 1.4100295 | E32: =((4*PI()*(C32/2)^2)+((PI()*C32)*(B32-C32))) -> 4.5816296 | F32: =(((4/3)*PI()*(C32/2)^3)+(PI()*((C32/2)^2)*(B32-C32))) -> 0.88949991 | G32: =E32/F32 -> 5.1507927
A33: LB | B33: 1.934 | C33: 1.126 | D33: =B33/C33 -> 1.7175844 | E33: =((4*PI()*(C33/2)^2)+((PI()*C33)*(B33-C33))) -> 6.8413961 | F33: =(((4/3)*PI()*(C33/2)^3)+(PI()*((C33/2)^2)*(B33-C33))) -> 1.5521008 | G33: =E33/F33 -> 4.4078299
A34: LB | B34: 1.249 | C34: 0.993 | D34: =B34/C34 -> 1.2578046 | E34: =((4*PI()*(C34/2)^2)+((PI()*C34)*(B34-C34))) -> 3.8963823 | F34: =(((4/3)*PI()*(C34/2)^3)+(PI()*((C34/2)^2)*(B34-C34))) -> 0.71093691 | G34: =E34/F34 -> 5.4806302
A35: LB | B35: 1.903 | C35: 1.126 | D35: =B35/C35 -> 1.6900533 | E35: =((4*PI()*(C35/2)^2)+((PI()*C35)*(B35-C35))) -> 6.7317356 | F35: =(((4/3)*PI()*(C35/2)^3)+(PI()*((C35/2)^2)*(B35-C35))) -> 1.5212313 | G35: =E35/F35 -> 4.4251886
A36: LB | B36: 0.998 | C36: 0.888 | D36: =B36/C36 -> 1.1238739 | E36: =((4*PI()*(C36/2)^2)+((PI()*C36)*(B36-C36))) -> 2.7841548 | F36: =(((4/3)*PI()*(C36/2)^3)+(PI()*((C36/2)^2)*(B36-C36))) -> 0.43476335 | G36: =E36/F36 -> 6.4038397
A37: LB | B37: 2.438 | C37: 1.167 | D37: =B37/C37 -> 2.0891174 | E37: =((4*PI()*(C37/2)^2)+((PI()*C37)*(B37-C37))) -> 8.9382898 | F37: =(((4/3)*PI()*(C37/2)^3)+(PI()*((C37/2)^2)*(B37-C37))) -> 2.1916619 | G37: =E37/F37 -> 4.078316
A38: LB | B38: 1.461 | C38: 1.096 | D38: =B38/C38 -> 1.3330292 | E38: =((4*PI()*(C38/2)^2)+((PI()*C38)*(B38-C38))) -> 5.0304941 | F38: =(((4/3)*PI()*(C38/2)^3)+(PI()*((C38/2)^2)*(B38-C38))) -> 1.0336879 | G38: =E38/F38 -> 4.8665502
A39: LB | B39: 1.275 | C39: 1.239 | D39: =B39/C39 -> 1.0290557 | E39: =((4*PI()*(C39/2)^2)+((PI()*C39)*(B39-C39))) -> 4.9628525 | F39: =(((4/3)*PI()*(C39/2)^3)+(PI()*((C39/2)^2)*(B39-C39))) -> 1.0392972 | G39: =E39/F39 -> 4.7752004
A40: LB | B40: 1.499 | C40: =(0.784+0.488)/2 -> 0.636 | D40: =B40/C40 -> 2.3569182 | E40: =((4*PI()*(C40/2)^2)+((PI()*C40)*(B40-C40))) -> 2.9950813 | F40: =(((4/3)*PI()*(C40/2)^3)+(PI()*((C40/2)^2)*(B40-C40))) -> 0.40886756 | G40: =E40/F40 -> 7.3253092
A41: LB | B41: 1.216 | C41: 1.025 | D41: =B41/C41 -> 1.1863415 | E41: =((4*PI()*(C41/2)^2)+((PI()*C41)*(B41-C41))) -> 3.9156811 | F41: =(((4/3)*PI()*(C41/2)^3)+(PI()*((C41/2)^2)*(B41-C41))) -> 0.72146397 | G41: =E41/F41 -> 5.4274104
...

Sheet G4 LB1 09281126
A1: Nutrient | B1: Length (mm) | C1: Width (mm) | D1: Length/Width | E1: Surface Area (µm^2) | F1: Volume (µm^3) | G1: SA/V (1/µm)
A2: LB | B2: 1.639 | C2: =(1.116+0.785)/2 -> 0.9505 | D2: =B2/C2 -> 1.7243556 | E2: =((4*PI()*(C2/2)^2)+((PI()*C2)*(B2-C2))) -> 4.8941914 | F2: =(((4/3)*PI()*(C2/2)^3)+(PI()*((C2/2)^2)*(B2-C2))) -> 0.93816738 | G2: =E2/F2 -> 5.2167571
A3: LB | B3: 1.373 | C3: =(1.012+0.363)/2 -> 0.6875 | D3: =B3/C3 -> 1.9970909 | E3: =((4*PI()*(C3/2)^2)+((PI()*C3)*(B3-C3))) -> 2.9654671 | F3: =(((4/3)*PI()*(C3/2)^3)+(PI()*((C3/2)^2)*(B3-C3))) -> 0.42461764 | G3: =E3/F3 -> 6.9838528
A4: LB | B4: 1.849 | C4: 1.264 | D4: =B4/C4 -> 1.4628165 | E4: =((4*PI()*(C4/2)^2)+((PI()*C4)*(B4-C4))) -> 7.3423293 | F4: =(((4/3)*PI()*(C4/2)^3)+(PI()*((C4/2)^2)*(B4-C4))) -> 1.7914754 | G4: =E4/F4 -> 4.0984818
A5: LB | B5: 1.237 | C5: 1.053 | D5: =B5/C5 -> 1.1747388 | E5: =((4*PI()*(C5/2)^2)+((PI()*C5)*(B5-C5))) -> 4.0921161 | F5: =(((4/3)*PI()*(C5/2)^3)+(PI()*((C5/2)^2)*(B5-C5))) -> 0.77157891 | G5: =E5/F5 -> 5.3035614
A6: LB | B6: 2.219 | C6: 1.206 | D6: =B6/C6 -> 1.8399668 | E6: =((4*PI()*(C6/2)^2)+((PI()*C6)*(B6-C6))) -> 8.4072601 | F6: =(((4/3)*PI()*(C6/2)^3)+(PI()*((C6/2)^2)*(B6-C6))) -> 2.0755797 | G6: =E6/F6 -> 4.0505599
A7: LB | B7: 2.421 | C7: 1.395 | D7: =B7/C7 -> 1.7354839 | E7: =((4*PI()*(C7/2)^2)+((PI()*C7)*(B7-C7))) -> 10.610085 | F7: =(((4/3)*PI()*(C7/2)^3)+(PI()*((C7/2)^2)*(B7-C7))) -> 2.9895591 | G7: =E7/F7 -> 3.5490468
A8: LB | B8: 1.358 | C8: 1.077 | D8: =B8/C8 -> 1.2609099 | E8: =((4*PI()*(C8/2)^2)+((PI()*C8)*(B8-C8))) -> 4.5947866 | F8: =(((4/3)*PI()*(C8/2)^3)+(PI()*((C8/2)^2)*(B8-C8))) -> 0.9100951 | G8: =E8/F8 -> 5.0486884
A9: LB | B9: 1.303 | C9: 1.133 | D9: =B9/C9 -> 1.1500441 | E9: =((4*PI()*(C9/2)^2)+((PI()*C9)*(B9-C9))) -> 4.6379301 | F9: =(((4/3)*PI()*(C9/2)^3)+(PI()*((C9/2)^2)*(B9-C9))) -> 0.93292753 | G9: =E9/F9 -> 4.9713723
A10: LB | B10: 1.113 | C10: 0.888 | D10: =B10/C10 -> 1.2533784 | E10: =((4*PI()*(C10/2)^2)+((PI()*C10)*(B10-C10))) -> 3.1049742 | F10: =(((4/3)*PI()*(C10/2)^3)+(PI()*((C10/2)^2)*(B10-C10))) -> 0.50598526 | G10: =E10/F10 -> 6.1364914
A11: LB | B11: 1.459 | C11: 1.178 | D11: =B11/C11 -> 1.2385399 | E11: =((4*PI()*(C11/2)^2)+((PI()*C11)*(B11-C11))) -> 5.3994616 | F11: =(((4/3)*PI()*(C11/2)^3)+(PI()*((C11/2)^2)*(B11-C11))) -> 1.1621801 | G11: =E11/F11 -> 4.6459765
A12: LB | B12: 1.408 | C12: 1.025 | D12: =B12/C12 -> 1.3736585 | E12: =((4*PI()*(C12/2)^2)+((PI()*C12)*(B12-C12))) -> 4.5339465 | F12: =(((4/3)*PI()*(C12/2)^3)+(PI()*((C12/2)^2)*(B12-C12))) -> 0.87989449 | G12: =E12/F12 -> 5.1528298
A13: LB | B13: 1.769 | C13: 1.119 | D13: =B13/C13 -> 1.5808758 | E13: =((4*PI()*(C13/2)^2)+((PI()*C13)*(B13-C13))) -> 6.2188172 | F13: =(((4/3)*PI()*(C13/2)^3)+(PI()*((C13/2)^2)*(B13-C13))) -> 1.3728891 | G13: =E13/F13 -> 4.52973
A14: LB | B14: 0.988 | C14: =(1.293+0.595)/2 -> 0.944 | D14: =B14/C14 -> 1.0466102 | E14: =((4*PI()*(C14/2)^2)+((PI()*C14)*(B14-C14))) -> 2.9300755 | F14: =(((4/3)*PI()*(C14/2)^3)+(PI()*((C14/2)^2)*(B14-C14))) -> 0.4712637 | G14: =E14/F14 -> 6.2174862
A15: LB | B15: 1.429 | C15: 1.055 | D15: =B15/C15 -> 1.3545024 | E15: =((4*PI()*(C15/2)^2)+((PI()*C15)*(B15-C15))) -> 4.7362494 | F15: =(((4/3)*PI()*(C15/2)^3)+(PI()*((C15/2)^2)*(B15-C15))) -> 0.9417701 | G15: =E15/F15 -> 5.029093
A16: LB | B16: 2.041 | C16: 1.187 | D16: =B16/C16 -> 1.7194608 | E16: =((4*PI()*(C16/2)^2)+((PI()*C16)*(B16-C16))) -> 7.6110328 | F16: =(((4/3)*PI()*(C16/2)^3)+(PI()*((C16/2)^2)*(B16-C16))) -> 1.8207286 | G16: =E16/F16 -> 4.1802127
A17: LB | B17: 1.959 | C17: 1.129 | D17: =B17/C17 -> 1.7351639 | E17: =((4*PI()*(C17/2)^2)+((PI()*C17)*(B17-C17))) -> 6.948295 | F17: =(((4/3)*PI()*(C17/2)^3)+(PI()*((C17/2)^2)*(B17-C17))) -> 1.5844087 | G17: =E17/F17 -> 4.3854184
A18: LB | B18: 1.418 | C18: 1.26 | D18: =B18/C18 -> 1.1253968 | E18: =((4*PI()*(C18/2)^2)+((PI()*C18)*(B18-C18))) -> 5.6130208 | F18: =(((4/3)*PI()*(C18/2)^3)+(PI()*((C18/2)^2)*(B18-C18))) -> 1.2444043 | G18: =E18/F18 -> 4.5106085
A19: LB | B19: 1.736 | C19: 1.097 | D19: =B19/C19 -> 1.5824977 | E19: =((4*PI()*(C19/2)^2)+((PI()*C19)*(B19-C19))) -> 5.9828239 | F19: =(((4/3)*PI()*(C19/2)^3)+(PI()*((C19/2)^2)*(B19-C19))) -> 1.2951777 | G19: =E19/F19 -> 4.6193074
A20: LB | B20: 1.511 | C20: 1.217 | D20: =B20/C20 -> 1.2415776 | E20: =((4*PI()*(C20/2)^2)+((PI()*C20)*(B20-C20))) -> 5.7770339 | F20: =(((4/3)*PI()*(C20/2)^3)+(PI()*((C20/2)^2)*(B20-C20))) -> 1.285773 | G20: =E20/F20 -> 4.4930434
A21: LB | B21: 1.374 | C21: 1.045 | D21: =B21/C21 -> 1.3148325 | E21: =((4*PI()*(C21/2)^2)+((PI()*C21)*(B21-C21))) -> 4.510793 | F21: =(((4/3)*PI()*(C21/2)^3)+(PI()*((C21/2)^2)*(B21-C21))) -> 0.87968807 | G21: =E21/F21 -> 5.1277187
A22: LB | B22: 1.506 | C22: 1.239 | D22: =B22/C22 -> 1.2154964 | E22: =((4*PI()*(C22/2)^2)+((PI()*C22)*(B22-C22))) -> 5.8620045 | F22: =(((4/3)*PI()*(C22/2)^3)+(PI()*((C22/2)^2)*(B22-C22))) -> 1.3178096 | G22: =E22/F22 -> 4.4482941
A23: LB | B23: 1.531 | C23: 0.905 | D23: =B23/C23 -> 1.6917127 | E23: =((4*PI()*(C23/2)^2)+((PI()*C23)*(B23-C23))) -> 4.3528494 | F23: =(((4/3)*PI()*(C23/2)^3)+(PI()*((C23/2)^2)*(B23-C23))) -> 0.79078186 | G23: =E23/F23 -> 5.5044882
A24: LB | B24: 2.308 | C24: =(1.011+0.568)/2 -> 0.7895 | D24: =B24/C24 -> 2.9233692 | E24: =((4*PI()*(C24/2)^2)+((PI()*C24)*(B24-C24))) -> 5.7245033 | F24: =(((4/3)*PI()*(C24/2)^3)+(PI()*((C24/2)^2)*(B24-C24))) -> 1.0010415 | G24: =E24/F24 -> 5.7185477
A25: LB | B25: 1.845 | C25: 0.896 | D25: =B25/C25 -> 2.0591518 | E25: =((4*PI()*(C25/2)^2)+((PI()*C25)*(B25-C25))) -> 5.1934296 | F25: =(((4/3)*PI()*(C25/2)^3)+(PI()*((C25/2)^2)*(B25-C25))) -> 0.97500988 | G25: =E25/F25 -> 5.3265405
A26: LB | B26: 1.563 | C26: 1.243 | D26: =B26/C26 -> 1.2574417 | E26: =((4*PI()*(C26/2)^2)+((PI()*C26)*(B26-C26))) -> 6.1035145 | F26: =(((4/3)*PI()*(C26/2)^3)+(PI()*((C26/2)^2)*(B26-C26))) -> 1.3938825 | G26: =E26/F26 -> 4.378787
A27: LB | B27: 1.303 | C27: 1.166 | D27: =B27/C27 -> 1.1174957 | E27: =((4*PI()*(C27/2)^2)+((PI()*C27)*(B27-C27))) -> 4.7730154 | F27: =(((4/3)*PI()*(C27/2)^3)+(PI()*((C27/2)^2)*(B27-C27))) -> 0.97631854 | G27: =E27/F27 -> 4.8887891
A28: LB | B28: 1.344 | C28: =(1.049+0.404) -> 1.453 | D28: =B28/C28 -> 0.92498279 | E28: =((4*PI()*(C28/2)^2)+((PI()*C28)*(B28-C28))) -> 6.1350027 | F28: =(((4/3)*PI()*(C28/2)^3)+(PI()*((C28/2)^2)*(B28-C28))) -> 1.4254474 | G28: =E28/F28 -> 4.3039137
A29: LB | B29: 1.416 | C29: 1.142 | D29: =B29/C29 -> 1.2399299 | E29: =((4*PI()*(C29/2)^2)+((PI()*C29)*(B29-C29))) -> 5.0801815 | F29: =(((4/3)*PI()*(C29/2)^3)+(PI()*((C29/2)^2)*(B29-C29))) -> 1.0604795 | G29: =E29/F29 -> 4.790457
A30: LB | B30: 2.075 | C30: 0.974 | D30: =B30/C30 -> 2.1303901 | E30: =((4*PI()*(C30/2)^2)+((PI()*C30)*(B30-C30))) -> 6.3493158 | F30: =(((4/3)*PI()*(C30/2)^3)+(PI()*((C30/2)^2)*(B30-C30))) -> 1.304153 | G30: =E30/F30 -> 4.8685358
A31: LB | B31: 1.768 | C31: 0.763 | D31: =B31/C31 -> 2.3171691 | E31: =((4*PI()*(C31/2)^2)+((PI()*C31)*(B31-C31))) -> 4.2379582 | F31: =(((4/3)*PI()*(C31/2)^3)+(PI()*((C31/2)^2)*(B31-C31))) -> 0.69210057 | G31: =E31/F31 -> 6.1233272
A32: LB | B32: 1.46 | C32: 0.99 | D32: =B32/C32 -> 1.4747475 | E32: =((4*PI()*(C32/2)^2)+((PI()*C32)*(B32-C32))) -> 4.540858 | F32: =(((4/3)*PI()*(C32/2)^3)+(PI()*((C32/2)^2)*(B32-C32))) -> 0.86983868 | G32: =E32/F32 -> 5.220345
A33: LB | B33: 1.273 | C33: 1.063 | D33: =B33/C33 -> 1.1975541 | E33: =((4*PI()*(C33/2)^2)+((PI()*C33)*(B33-C33))) -> 4.2512 | F33: =(((4/3)*PI()*(C33/2)^3)+(PI()*((C33/2)^2)*(B33-C33))) -> 0.81529423 | G33: =E33/F33 -> 5.2143139
A34: LB | B34: 1.25 | C34: 1.068 | D34: =B34/C34 -> 1.170412 | E34: =((4*PI()*(C34/2)^2)+((PI()*C34)*(B34-C34))) -> 4.1940262 | F34: =(((4/3)*PI()*(C34/2)^3)+(PI()*((C34/2)^2)*(B34-C34))) -> 0.80088453 | G34: =E34/F34 -> 5.2367427
A35: LB | B35: 0.989 | C35: 0.87 | D35: =B35/C35 -> 1.1367816 | E35: =((4*PI()*(C35/2)^2)+((PI()*C35)*(B35-C35))) -> 2.7031206 | F35: =(((4/3)*PI()*(C35/2)^3)+(PI()*((C35/2)^2)*(B35-C35))) -> 0.41553304 | G35: =E35/F35 -> 6.505188
A36: LB | B36: 2.03 | C36: 1.084 | D36: =B36/C36 -> 1.8726937 | E36: =((4*PI()*(C36/2)^2)+((PI()*C36)*(B36-C36))) -> 6.9131375 | F36: =(((4/3)*PI()*(C36/2)^3)+(PI()*((C36/2)^2)*(B36-C36))) -> 1.5399905 | G36: =E36/F36 -> 4.4890781
A37: LB | B37: 1.832 | C37: 1.186 | D37: =B37/C37 -> 1.544688 | E37: =((4*PI()*(C37/2)^2)+((PI()*C37)*(B37-C37))) -> 6.8259017 | F37: =(((4/3)*PI()*(C37/2)^3)+(PI()*((C37/2)^2)*(B37-C37))) -> 1.5871401 | G37: =E37/F37 -> 4.3007555
A38: LB | B38: 1.387 | C38: 0.965 | D38: =B38/C38 -> 1.4373057 | E38: =((4*PI()*(C38/2)^2)+((PI()*C38)*(B38-C38))) -> 4.2048804 | F38: =(((4/3)*PI()*(C38/2)^3)+(PI()*((C38/2)^2)*(B38-C38))) -> 0.77916606 | G38: =E38/F38 -> 5.3966422
A39: LB | B39: 1.338 | C39: 1.147 | D39: =B39/C39 -> 1.1665214 | E39: =((4*PI()*(C39/2)^2)+((PI()*C39)*(B39-C39))) -> 4.8213583 | F39: =(((4/3)*PI()*(C39/2)^3)+(PI()*((C39/2)^2)*(B39-C39))) -> 0.98746828 | G39: =E39/F39 -> 4.8825449
A40: LB | B40: 2.402 | C40: 1.217 | D40: =B40/C40 -> 1.9737058 | E40: =((4*PI()*(C40/2)^2)+((PI()*C40)*(B40-C40))) -> 9.1836105 | F40: =(((4/3)*PI()*(C40/2)^3)+(PI()*((C40/2)^2)*(B40-C40))) -> 2.3222239 | G40: =E40/F40 -> 3.9546619
...

Sheet G1 LE1 09271304
A1: Nutrient | B1: Length (mm) | C1: Width (mm) | D1: Length/Width | E1: Surface Area (µm^2) | F1: Volume (µm^3) | G1: SA/V (1/µm)
A2: LE | B2: 1.564 | C2: 0.765 | D2: =B2/C2 -> 2.0444444 | E2: =((4*PI()*(C2/2)^2)+((PI()*C2)*(B2-C2))) -> 3.7587899 | F2: =(((4/3)*PI()*(C2/2)^3)+(PI()*((C2/2)^2)*(B2-C2))) -> 0.60166174 | G2: =E2/F2 -> 6.2473474
A3: LE | B3: 1.744 | C3: 1.202 | D3: =B3/C3 -> 1.4509151 | E3: =((4*PI()*(C3/2)^2)+((PI()*C3)*(B3-C3))) -> 6.585683 | F3: =(((4/3)*PI()*(C3/2)^3)+(PI()*((C3/2)^2)*(B3-C3))) -> 1.5243427 | G3: =E3/F3 -> 4.3203429
A4: LE | B4: 1.801 | C4: 1.348 | D4: =B4/C4 -> 1.3360534 | E4: =((4*PI()*(C4/2)^2)+((PI()*C4)*(B4-C4))) -> 7.6269953 | F4: =(((4/3)*PI()*(C4/2)^3)+(PI()*((C4/2)^2)*(B4-C4))) -> 1.9290313 | G4: =E4/F4 -> 3.9537955
A5: LE | B5: 1.773 | C5: 1.147 | D5: =B5/C5 -> 1.5457716 | E5: =((4*PI()*(C5/2)^2)+((PI()*C5)*(B5-C5))) -> 6.3888402 | F5: =(((4/3)*PI()*(C5/2)^3)+(PI()*((C5/2)^2)*(B5-C5))) -> 1.4369437 | G5: =E5/F5 -> 4.4461311
A6: LE | B6: 1.629 | C6: 1.094 | D6: =B6/C6 -> 1.4890311 | E6: =((4*PI()*(C6/2)^2)+((PI()*C6)*(B6-C6))) -> 5.5987139 | F6: =(((4/3)*PI()*(C6/2)^3)+(PI()*((C6/2)^2)*(B6-C6))) -> 1.1884642 | G6: =E6/F6 -> 4.7108813
A7: LE | B7: 1.41 | C7: 1.251 | D7: =B7/C7 -> 1.1270983 | E7: =((4*PI()*(C7/2)^2)+((PI()*C7)*(B7-C7))) -> 5.5414867 | F7: =(((4/3)*PI()*(C7/2)^3)+(PI()*((C7/2)^2)*(B7-C7))) -> 1.2205449 | G7: =E7/F7 -> 4.5401745
A8: LE | B8: 1.018 | C8: 1.101 | D8: =B8/C8 -> 0.92461399 | E8: =((4*PI()*(C8/2)^2)+((PI()*C8)*(B8-C8))) -> 3.5211536 | F8: =(((4/3)*PI()*(C8/2)^3)+(PI()*((C8/2)^2)*(B8-C8))) -> 0.61979135 | G8: =E8/F8 -> 5.6811919
A9: LE | B9: 1.89 | C9: 1.207 | D9: =B9/C9 -> 1.5658658 | E9: =((4*PI()*(C9/2)^2)+((PI()*C9)*(B9-C9))) -> 7.1666954 | F9: =(((4/3)*PI()*(C9/2)^3)+(PI()*((C9/2)^2)*(B9-C9))) -> 1.7021979 | G9: =E9/F9 -> 4.2102598
A10: LE | B10: 1.703 | C10: 1.222 | D10: =B10/C10 -> 1.393617 | E10: =((4*PI()*(C10/2)^2)+((PI()*C10)*(B10-C10))) -> 6.5378617 | F10: =(((4/3)*PI()*(C10/2)^3)+(PI()*((C10/2)^2)*(B10-C10))) -> 1.519587 | G10: =E10/F10 -> 4.3023937
A11: LE | B11: 1.353 | C11: 1.191 | D11: =B11/C11 -> 1.1360202 | E11: =((4*PI()*(C11/2)^2)+((PI()*C11)*(B11-C11))) -> 5.0624347 | F11: =(((4/3)*PI()*(C11/2)^3)+(PI()*((C11/2)^2)*(B11-C11))) -> 1.0650532 | G11: =E11/F11 -> 4.7532224
A12: LE | B12: 2.577 | C12: 1.066 | D12: =B12/C12 -> 2.4174484 | E12: =((4*PI()*(C12/2)^2)+((PI()*C12)*(B12-C12))) -> 8.6302126 | F12: =(((4/3)*PI()*(C12/2)^3)+(PI()*((C12/2)^2)*(B12-C12))) -> 1.9828195 | G12: =E12/F12 -> 4.3524953
A13: LE | B13: 1.471 | C13: 1 | D13: =B13/C13 -> 1.471 | E13: =((4*PI()*(C13/2)^2)+((PI()*C13)*(B13-C13))) -> 4.6212828 | F13: =(((4/3)*PI()*(C13/2)^3)+(PI()*((C13/2)^2)*(B13-C13))) -> 0.89352131 | G13: =E13/F13 -> 5.1719895
... A28: LE | B28: 1.41 | C28: 0.831 | D28: =B28/C28 -> 1.6967509 | E28: =((4*PI()*(C28/2)^2)+((PI()*C28)*(B28-C28))) -> 3.6810355 | F28: =(((4/3)*PI()*(C28/2)^3)+(PI()*((C28/2)^2)*(B28-C28))) -> 0.61449993 | G28: =E28/F28 -> 5.9902944
A29: LE | B29: =1.044+0.98 -> 2.024 | C29: 1.113 | D29: =B29/C29 -> 1.8185085 | E29: =((4*PI()*(C29/2)^2)+((PI()*C29)*(B29-C29))) -> 7.0771035 | F29: =(((4/3)*PI()*(C29/2)^3)+(PI()*((C29/2)^2)*(B29-C29))) -> 1.6082482 | G29: =E29/F29 -> 4.4005046
A30: LE | B30: 2.894 | C30: 1.166 | D30: =B30/C30 -> 2.4819897 | E30: =((4*PI()*(C30/2)^2)+((PI()*C30)*(B30-C30))) -> 10.601003 | F30: =(((4/3)*PI()*(C30/2)^3)+(PI()*((C30/2)^2)*(B30-C30))) -> 2.6751769 | G30: =E30/F30 -> 3.9627297
A31: LE | B31: 2.34 | C31: 1.132 | D31: =B31/C31 -> 2.0671378 | E31: =((4*PI()*(C31/2)^2)+((PI()*C31)*(B31-C31))) -> 8.3217019 | F31: =(((4/3)*PI()*(C31/2)^3)+(PI()*((C31/2)^2)*(B31-C31))) -> 1.9752828 | G31: =E31/F31 -> 4.2129167
A32: LE | B32: 1.546 | C32: 1.319 | D32: =B32/C32 -> 1.1721001 | E32: =((4*PI()*(C32/2)^2)+((PI()*C32)*(B32-C32))) -> 6.4062541 | F32: =(((4/3)*PI()*(C32/2)^3)+(PI()*((C32/2)^2)*(B32-C32))) -> 1.5116995 | G32: =E32/F32 -> 4.2377827
A33: LE | B33: 1.617 | C33: 1.095 | D33: =B33/C33 -> 1.4767123 | E33: =((4*PI()*(C33/2)^2)+((PI()*C33)*(B33-C33))) -> 5.5625511 | F33: =(((4/3)*PI()*(C33/2)^3)+(PI()*((C33/2)^2)*(B33-C33))) -> 1.1790235 | G33: =E33/F33 -> 4.7179308
A34: LE | B34: 1.537 | C34: 0.98 | D34: =B34/C34 -> 1.5683673 | E34: =((4*PI()*(C34/2)^2)+((PI()*C34)*(B34-C34))) -> 4.7320554 | F34: =(((4/3)*PI()*(C34/2)^3)+(PI()*((C34/2)^2)*(B34-C34))) -> 0.91295007 | G34: =E34/F34 -> 5.1832575
A35: LE | B35: 2.585 | C35: 1.124 | D35: =B35/C35 -> 2.2998221 | E35: =((4*PI()*(C35/2)^2)+((PI()*C35)*(B35-C35))) -> 9.1280231 | F35: =(((4/3)*PI()*(C35/2)^3)+(PI()*((C35/2)^2)*(B35-C35))) -> 2.1932103 | G35: =E35/F35 -> 4.1619461
A36: LE | B36: 2.28 | C36: 1.275 | D36: =B36/C36 -> 1.7882353 | E36: =((4*PI()*(C36/2)^2)+((PI()*C36)*(B36-C36))) -> 9.1326098 | F36: =(((4/3)*PI()*(C36/2)^3)+(PI()*((C36/2)^2)*(B36-C36))) -> 2.3683952 | G36: =E36/F36 -> 3.856033
A37: LE | B37: 1.432 | C37: 1.195 | D37: =B37/C37 -> 1.1983264 | E37: =((4*PI()*(C37/2)^2)+((PI()*C37)*(B37-C37))) -> 5.376019 | F37: =(((4/3)*PI()*(C37/2)^3)+(PI()*((C37/2)^2)*(B37-C37))) -> 1.1593277 | G37: =E37/F37 -> 4.6371868
A38: LE | B38: 2.158 | C38: 1.264 | D38: =B38/C38 -> 1.7072785 | E38: =((4*PI()*(C38/2)^2)+((PI()*C38)*(B38-C38))) -> 8.56936 | F38: =(((4/3)*PI()*(C38/2)^3)+(PI()*((C38/2)^2)*(B38-C38))) -> 2.1792171 | G38: =E38/F38 -> 3.9323113
A39: LE | B39: 1.587 | C39: =(1.085+0.686)/2 -> 0.8855 | D39: =B39/C39 -> 1.7922078 | E39: =((4*PI()*(C39/2)^2)+((PI()*C39)*(B39-C39))) -> 4.414844 | F39: =(((4/3)*PI()*(C39/2)^3)+(PI()*((C39/2)^2)*(B39-C39))) -> 0.79556103 | G39: =E39/F39 -> 5.5493468
A40: LE | B40: 2.017 | C40: 1.146 | D40: =B40/C40 -> 1.7600349 | E40: =((4*PI()*(C40/2)^2)+((PI()*C40)*(B40-C40))) -> 7.2617349 | F40: =(((4/3)*PI()*(C40/2)^3)+(PI()*((C40/2)^2)*(B40-C40))) -> 1.6864632 | G40: =E40/F40 -> 4.3058958
A41: LE | B41: 1.655 | C41: 1.229 | D41: =B41/C41 -> 1.3466233 | E41: =((4*PI()*(C41/2)^2)+((PI()*C41)*(B41-C41))) -> 6.3899837 | F41: =(((4/3)*PI()*(C41/2)^3)+(PI()*((C41/2)^2)*(B41-C41))) -> 1.4773359 | G41: =E41/F41 -> 4.3253424
A42: LE | B42: 1.428 | C42: 0.903 | D42: =B42/C42 -> 1.5813953 | E42: =((4*PI()*(C42/2)^2)+((PI()*C42)*(B42-C42))) -> 4.0510335 | F42: =(((4/3)*PI()*(C42/2)^3)+(PI()*((C42/2)^2)*(B42-C42))) -> 0.72175416 | G42: =E42/F42 -> 5.6127608
A43: LE | B43: 1.66 | C43: 1.294 | D43: =B43/C43 -> 1.2828439 | E43: =((4*PI()*(C43/2)^2)+((PI()*C43)*(B43-C43))) -> 6.7482667 | F43: =(((4/3)*PI()*(C43/2)^3)+(PI()*((C43/2)^2)*(B43-C43))) -> 1.6158183 | G43: =E43/F43 -> 4.1763773
A44: LE | B44: 1.419 | C44: 1.093 | D44: =B44/C44 -> 1.2982617 | E44: =((4*PI()*(C44/2)^2)+((PI()*C44)*(B44-C44))) -> 4.8725065 | F44: =(((4/3)*PI()*(C44/2)^3)+(PI()*((C44/2)^2)*(B44-C44))) -> 0.9895675 | G44: =E44/F44 -> 4.9238748
A45: LE | B45: 1.933 | C45: 1.15 | D45: =B45/C45 -> 1.6808696 | E45: =((4*PI()*(C45/2)^2)+((PI()*C45)*(B45-C45))) -> 6.9836034 | F45: =(((4/3)*PI()*(C45/2)^3)+(PI()*((C45/2)^2)*(B45-C45))) -> 1.6096218 | G45: =E45/F45 -> 4.338661
A46: LE | B46: 1.403 | C46: 1.273 | D46: =B46/C46 -> 1.102121 | E46: =((4*PI()*(C46/2)^2)+((PI()*C46)*(B46-C46))) -> 5.6109442 | F46: =(((4/3)*PI()*(C46/2)^3)+(PI()*((C46/2)^2)*(B46-C46))) -> 1.2456083 | G46: =E46/F46 -> 4.5045816
A47: LE | B47: 1.749 | C47: 1.206 | D47: =B47/C47 -> 1.4502488 | E47: =((4*PI()*(C47/2)^2)+((PI()*C47)*(B47-C47))) -> 6.6265425 | F47: =(((4/3)*PI()*(C47/2)^3)+(PI()*((C47/2)^2)*(B47-C47))) -> 1.5386934 | G47: =E47/F47 -> 4.3066036
A48: LE | B48: 1.934 | C48: 1.097 | D48: =B48/C48 -> 1.76299 | E48: =((4*PI()*(C48/2)^2)+((PI()*C48)*(B48-C48))) -> 6.6651967 | F48: =(((4/3)*PI()*(C48/2)^3)+(PI()*((C48/2)^2)*(B48-C48))) -> 1.4823184 | G48: =E48/F48 -> 4.4964675
A49: LE | B49: 1.869 | C49: 1.341 | D49: =B49/C49 -> 1.393736 | E49: =((4*PI()*(C49/2)^2)+((PI()*C49)*(B49-C49))) -> 7.8738648 | F49: =(((4/3)*PI()*(C49/2)^3)+(PI()*((C49/2)^2)*(B49-C49))) -> 2.0083853 | G49: =E49/F49 -> 3.9204951
A50: LE | B50: 1.877 | C50: 1.147 | D50: =B50/C50 -> 1.6364429 | E50: =((4*PI()*(C50/2)^2)+((PI()*C50)*(B50-C50))) -> 6.7635945 | F50: =(((4/3)*PI()*(C50/2)^3)+(PI()*((C50/2)^2)*(B50-C50))) -> 1.5444045 | G50: =E50/F50 -> 4.379419
A51: LE | B51: 1.935 | C51: 1.173 | D51: =B51/C51 -> 1.6496164 | E51: =((4*PI()*(C51/2)^2)+((PI()*C51)*(B51-C51))) -> 7.1306456 | F51: =(((4/3)*PI()*(C51/2)^3)+(PI()*((C51/2)^2)*(B51-C51))) -> 1.6685269 | G51: =E51/F51 -> 4.2736175
... A56: LE | B56: 1.419 | C56: 1.329 | D56: =B56/C56 -> 1.0677201 | E56: =((4*PI()*(C56/2)^2)+((PI()*C56)*(B56-C56))) -> 5.9245756 | F56: =(((4/3)*PI()*(C56/2)^3)+(PI()*((C56/2)^2)*(B56-C56))) -> 1.3539096 | G56: =E56/F56 -> 4.375902
A57: LE | B57: 1.688 | C57: =(1.122+0.537)/2 -> 0.8295 | D57: =B57/C57 -> 2.0349608 | E57: =((4*PI()*(C57/2)^2)+((PI()*C57)*(B57-C57))) -> 4.3988455 | F57: =(((4/3)*PI()*(C57/2)^3)+(PI()*((C57/2)^2)*(B57-C57))) -> 0.76278746 | G57: =E57/F57 -> 5.7668036
A58: LE | B58: 2.353 | C58: 1.287 | D58: =B58/C58 -> 1.8282828 | E58: =((4*PI()*(C58/2)^2)+((PI()*C58)*(B58-C58))) -> 9.5137196 | F58: =(((4/3)*PI()*(C58/2)^3)+(PI()*((C58/2)^2)*(B58-C58))) -> 2.5029492 | G58: =E58/F58 -> 3.8010038
...

Sheet G1 LE1 (2) 10091418
A1: Nutrient | B1: Length (mm) | C1: Width (mm) | D1: Length/Width | E1: Surface Area (µm^2) | F1: Volume (µm^3) | G1: SA/V (1/µm)
A2: LE | B2: 1.561 | C2: 1.106 | D2: =B2/C2 -> 1.4113924 | E2: =((4*PI()*(C2/2)^2)+((PI()*C2)*(B2-C2))) -> 5.4238529 | F2: =(((4/3)*PI()*(C2/2)^3)+(PI()*((C2/2)^2)*(B2-C2))) -> 1.1455072 | G2: =E2/F2 -> 4.734892
A3: LE | B3: 2.488 | C3: 1.285 | D3: =B3/C3 -> 1.9361868 | E3: =((4*PI()*(C3/2)^2)+((PI()*C3)*(B3-C3))) -> 10.043923 | F3: =(((4/3)*PI()*(C3/2)^3)+(PI()*((C3/2)^2)*(B3-C3))) -> 2.671118 | G3: =E3/F3 -> 3.7601944
A4: LE | B4: 1.564 | C4: 1.147 | D4: =B4/C4 -> 1.3635571 | E4: =((4*PI()*(C4/2)^2)+((PI()*C4)*(B4-C4))) -> 5.6357282 | F4: =(((4/3)*PI()*(C4/2)^3)+(PI()*((C4/2)^2)*(B4-C4))) -> 1.2209889 | G4: =E4/F4 -> 4.6157081
A5: LE | B5: 1.986 | C5: 1.16 | D5: =B5/C5 -> 1.712069 | E5: =((4*PI()*(C5/2)^2)+((PI()*C5)*(B5-C5))) -> 7.2374755 | F5: =(((4/3)*PI()*(C5/2)^3)+(PI()*((C5/2)^2)*(B5-C5))) -> 1.6902263 | G5: =E5/F5 -> 4.2819566
A6: LE | B6: 2.908 | C6: 1.131 | D6: =B6/C6 -> 2.571176 | E6: =((4*PI()*(C6/2)^2)+((PI()*C6)*(B6-C6))) -> 10.332535 | F6: =(((4/3)*PI()*(C6/2)^3)+(PI()*((C6/2)^2)*(B6-C6))) -> 2.5427709 | G6: =E6/F6 -> 4.0634942
A7: LE | B7: 1.561 | C7: 1.198 | D7: =B7/C7 -> 1.303005 | E7: =((4*PI()*(C7/2)^2)+((PI()*C7)*(B7-C7))) -> 5.8750233 | F7: =(((4/3)*PI()*(C7/2)^3)+(PI()*((C7/2)^2)*(B7-C7))) -> 1.3094383 | G7: =E7/F7 -> 4.4866743
A8: LE | B8: 1.791 | C8: 1.319 | D8: =B8/C8 -> 1.3578469 | E8: =((4*PI()*(C8/2)^2)+((PI()*C8)*(B8-C8))) -> 7.4214754 | F8: =(((4/3)*PI()*(C8/2)^3)+(PI()*((C8/2)^2)*(B8-C8))) -> 1.8464688 | G8: =E8/F8 -> 4.0192803
A9: LE | B9: 1.748 | C9: 1.219 | D9: =B9/C9 -> 1.4339623 | E9: =((4*PI()*(C9/2)^2)+((PI()*C9)*(B9-C9))) -> 6.6941433 | F9: =(((4/3)*PI()*(C9/2)^3)+(PI()*((C9/2)^2)*(B9-C9))) -> 1.5658203 | G9: =E9/F9 -> 4.275167
A10: LE | B10: 1.37 | C10: 1.155 | D10: =B10/C10 -> 1.1861472 | E10: =((4*PI()*(C10/2)^2)+((PI()*C10)*(B10-C10))) -> 4.9710991 | F10: =(((4/3)*PI()*(C10/2)^3)+(PI()*((C10/2)^2)*(B10-C10))) -> 1.0320247 | G10: =E10/F10 -> 4.8168414
A11: LE | B11: 1.422 | C11: 0.919 | D11: =B11/C11 -> 1.5473341 | E11: =((4*PI()*(C11/2)^2)+((PI()*C11)*(B11-C11))) -> 4.1054898 | F11: =(((4/3)*PI()*(C11/2)^3)+(PI()*((C11/2)^2)*(B11-C11))) -> 0.74004029 | G11: =E11/F11 -> 5.5476572
A12: LE | B12: 1.365 | C12: 1.384 | D12: =B12/C12 -> 0.98627168 | E12: =((4*PI()*(C12/2)^2)+((PI()*C12)*(B12-C12))) -> 5.9349712 | F12: =(((4/3)*PI()*(C12/2)^3)+(PI()*((C12/2)^2)*(B12-C12))) -> 1.3594722 | G12: =E12/F12 -> 4.3656437
A13: LE | B13: 1.668 | C13: 1.165 | D13: =B13/C13 -> 1.4317597 | E13: =((4*PI()*(C13/2)^2)+((PI()*C13)*(B13-C13))) -> 6.1048057 | F13: =(((4/3)*PI()*(C13/2)^3)+(PI()*((C13/2)^2)*(B13-C13))) -> 1.3640761 | G13: =E13/F13 -> 4.4754144
... A76: LE | B76: 2.68 | C76: 1.054 | D76: =B76/C76 -> 2.5426945 | E76: =((4*PI()*(C76/2)^2)+((PI()*C76)*(B76-C76))) -> 8.8741196 | F76: =(((4/3)*PI()*(C76/2)^3)+(PI()*((C76/2)^2)*(B76-C76))) -> 2.0317882 | G76: =E76/F76 -> 4.3676401
A105: Count | B105: =COUNT(B2:B104) -> 75 | C105: =COUNT(C2:C104) -> 75 | D105: =COUNT(D2:D104) -> 75 | E105: =COUNT(E2:E104) -> 75 | F105: =COUNT(F2:F104) -> 75 | G105: =COUNT(G2:G104) -> 75
A106: Average | B106: =AVERAGE(B2:B104) -> 1.7672133 | C106: =AVERAGE(C2:C104) -> 1.1353333 | D106: =AVERAGE(D2:D104) -> 1.5756497 | E106: =AVERAGE(E2:E104) -> 6.3013026 | F106: =AVERAGE(F2:F104) -> 1.4118652 | G106: =AVERAGE(G2:G104) -> 4.6061192
A107: Standard Dev. | B107: =_xlfn.STDEV.S(B2:B104) -> 0.41073695 | C107: =_xlfn.STDEV.S(C2:C104) -> 0.12367441 | D107: =_xlfn.STDEV.S(D2:D104) -> 0.41427151 | E107: =_xlfn.STDEV.S(E2:E104) -> 1.5784621 | F107: =_xlfn.STDEV.S(F2:F104) -> 0.47762969 | G107: =_xlfn.STDEV.S(G2:G104) -> 0.48088779

Sheet G1 LE2 09291453
A1: Nutrient | B1: Length (mm) | C1: Width (mm) | D1: Length/Width | E1: Surface Area (µm^2) | F1: Volume (µm^3) | G1: SA/V (1/µm)
A2: LE | B2: 1.825 | C2: 1.063 | D2: =B2/C2 -> 1.7168391 | E2: =((4*PI()*(C2/2)^2)+((PI()*C2)*(B2-C2))) -> 6.0946112 | F2: =(((4/3)*PI()*(C2/2)^3)+(PI()*((C2/2)^2)*(B2-C2))) -> 1.3051807 | G2: =E2/F2 -> 4.6695534
A3: LE | B3: 1.41 | C3: 1.277 | D3: =B3/C3 -> 1.1041504 | E3: =((4*PI()*(C3/2)^2)+((PI()*C3)*(B3-C3))) -> 5.6566575 | F3: =(((4/3)*PI()*(C3/2)^3)+(PI()*((C3/2)^2)*(B3-C3))) -> 1.2607061 | G3: =E3/F3 -> 4.4868961
A4: LE | B4: 2.047 | C4: 1.089 | D4: =B4/C4 -> 1.8797062 | E4: =((4*PI()*(C4/2)^2)+((PI()*C4)*(B4-C4))) -> 7.0031849 | F4: =(((4/3)*PI()*(C4/2)^3)+(PI()*((C4/2)^2)*(B4-C4))) -> 1.5685116 | G4: =E4/F4 -> 4.4648602
A5: LE | B5: 2.225 | C5: 1.105 | D5: =B5/C5 -> 2.0135747 | E5: =((4*PI()*(C5/2)^2)+((PI()*C5)*(B5-C5))) -> 7.7239982 | F5: =(((4/3)*PI()*(C5/2)^3)+(PI()*((C5/2)^2)*(B5-C5))) -> 1.7805262 | G5: =E5/F5 -> 4.3380424
A6: LE | B6: 2.592 | C6: 1.209 | D6: =B6/C6 -> 2.1439206 | E6: =((4*PI()*(C6/2)^2)+((PI()*C6)*(B6-C6))) -> 9.8448969 | F6: =(((4/3)*PI()*(C6/2)^3)+(PI()*((C6/2)^2)*(B6-C6))) -> 2.5129754 | G6: =E6/F6 -> 3.9176256
A7: LE | B7: 2.437 | C7: 1.366 | D7: =B7/C7 -> 1.784041 | E7: =((4*PI()*(C7/2)^2)+((PI()*C7)*(B7-C7))) -> 10.45818 | F7: =(((4/3)*PI()*(C7/2)^3)+(PI()*((C7/2)^2)*(B7-C7))) -> 2.904169 | G7: =E7/F7 -> 3.601092
A8: LE | B8: 2.398 | C8: =(1.341+1.124)/2 -> 1.2325 | D8: =B8/C8 -> 1.9456389 | E8: =((4*PI()*(C8/2)^2)+((PI()*C8)*(B8-C8))) -> 9.285087 | F8: =(((4/3)*PI()*(C8/2)^3)+(PI()*((C8/2)^2)*(B8-C8))) -> 2.370817 | G8: =E8/F8 -> 3.9164082
A9: LE | B9: 2.66 | C9: 1.168 | D9: =B9/C9 -> 2.2773973 | E9: =((4*PI()*(C9/2)^2)+((PI()*C9)*(B9-C9))) -> 9.7605514 | F9: =(((4/3)*PI()*(C9/2)^3)+(PI()*((C9/2)^2)*(B9-C9))) -> 2.4329263 | G9: =E9/F9 -> 4.0118566
A10: LE | B10: 1.759 | C10: 1.17 | D10: =B10/C10 -> 1.5034188 | E10: =((4*PI()*(C10/2)^2)+((PI()*C10)*(B10-C10))) -> 6.4654919 | F10: =(((4/3)*PI()*(C10/2)^3)+(PI()*((C10/2)^2)*(B10-C10))) -> 1.4718551 | G10: =E10/F10 -> 4.3927503
A11: LE | B11: 1.69 | C11: 1.237 | D11: =B11/C11 -> 1.3662086 | E11: =((4*PI()*(C11/2)^2)+((PI()*C11)*(B11-C11))) -> 6.5675937 | F11: =(((4/3)*PI()*(C11/2)^3)+(PI()*((C11/2)^2)*(B11-C11))) -> 1.5354895 | G11: =E11/F11 -> 4.2771988
A12: LE | B12: 1.739 | C12: 0.963 | D12: =B12/C12 -> 1.8058152 | E12: =((4*PI()*(C12/2)^2)+((PI()*C12)*(B12-C12))) -> 5.2610901 | F12: =(((4/3)*PI()*(C12/2)^3)+(PI()*((C12/2)^2)*(B12-C12))) -> 1.0328058 | G12: =E12/F12 -> 5.0939779
A13: LE | B13: 1.255 | C13: 1.107 | D13: =B13/C13 -> 1.1336947 | E13: =((4*PI()*(C13/2)^2)+((PI()*C13)*(B13-C13))) -> 4.3645675 | F13: =(((4/3)*PI()*(C13/2)^3)+(PI()*((C13/2)^2)*(B13-C13))) -> 0.85274434 | G13: =E13/F13 -> 5.1182604
A14: LE | B14: 1.972 | C14: =(1.156+1.067)/2 -> 1.1115 | D14: =B14/C14 -> 1.774179 | E14: =((4*PI()*(C14/2)^2)+((PI()*C14)*(B14-C14))) -> 6.8859878 | F14: =(((4/3)*PI()*(C14/2)^3)+(PI()*((C14/2)^2)*(B14-C14))) -> 1.5539454 | G14: =E14/F14 -> 4.4312933
A15: LE | B15: 1.425 | C15: 0.873 | D15: =B15/C15 -> 1.6323024 | E15: =((4*PI()*(C15/2)^2)+((PI()*C15)*(B15-C15))) -> 3.9082198 | F15: =(((4/3)*PI()*(C15/2)^3)+(PI()*((C15/2)^2)*(B15-C15))) -> 0.67878373 | G15: =E15/F15 -> 5.7576804
A16: LE | B16: 2.497 | C16: =(1.309+1.04)/2 -> 1.1745 | D16: =B16/C16 -> 2.1260111 | E16: =((4*PI()*(C16/2)^2)+((PI()*C16)*(B16-C16))) -> 9.213432 | F16: =(((4/3)*PI()*(C16/2)^3)+(PI()*((C16/2)^2)*(B16-C16))) -> 2.281136 | G16: =E16/F16 -> 4.0389666
A17: LE | B17: 1.779 | C17: 0.797 | D17: =B17/C17 -> 2.2321205 | E17: =((4*PI()*(C17/2)^2)+((PI()*C17)*(B17-C17))) -> 4.454348 | F17: =(((4/3)*PI()*(C17/2)^3)+(PI()*((C17/2)^2)*(B17-C17))) -> 0.75498987 | G17: =E17/F17 -> 5.8998778
A18: LE | B18: 1.617 | C18: 0.857 | D18: =B18/C18 -> 1.8868145 | E18: =((4*PI()*(C18/2)^2)+((PI()*C18)*(B18-C18))) -> 4.3535217 | F18: =(((4/3)*PI()*(C18/2)^3)+(PI()*((C18/2)^2)*(B18-C18))) -> 0.76795952 | G18: =E18/F18 -> 5.6689468
A19: LE | B19: 1.542 | C19: 0.88 | D19: =B19/C19 -> 1.7522727 | E19: =((4*PI()*(C19/2)^2)+((PI()*C19)*(B19-C19))) -> 4.2630156 | F19: =(((4/3)*PI()*(C19/2)^3)+(PI()*((C19/2)^2)*(B19-C19))) -> 0.75945447 | G19: =E19/F19 -> 5.6132602
A20: LE | B20: 2.08 | C20: 1.223 | D20: =B20/C20 -> 1.7007359 | E20: =((4*PI()*(C20/2)^2)+((PI()*C20)*(B20-C20))) -> 7.9917091 | F20: =(((4/3)*PI()*(C20/2)^3)+(PI()*((C20/2)^2)*(B20-C20))) -> 1.9645616 | G20: =E20/F20 -> 4.0679352
A21: LE | B21: 1.645 | C21: 1.058 | D21: =B21/C21 -> 1.5548204 | E21: =((4*PI()*(C21/2)^2)+((PI()*C21)*(B21-C21))) -> 5.4676593 | F21: =(((4/3)*PI()*(C21/2)^3)+(PI()*((C21/2)^2)*(B21-C21))) -> 1.1361502 | G21: =E21/F21 -> 4.8124439
A22: LE | B22: 1.093 | C22: 0.847 | D22: =B22/C22 -> 1.2904368 | E22: =((4*PI()*(C22/2)^2)+((PI()*C22)*(B22-C22))) -> 2.9083954 | F22: =(((4/3)*PI()*(C22/2)^3)+(PI()*((C22/2)^2)*(B22-C22))) -> 0.45677152 | G22: =E22/F22 -> 6.367287
A23: LE | B23: 2.339 | C23: 1.298 | D23: =B23/C23 -> 1.8020031 | E23: =((4*PI()*(C23/2)^2)+((PI()*C23)*(B23-C23))) -> 9.5379444 | F23: =(((4/3)*PI()*(C23/2)^3)+(PI()*((C23/2)^2)*(B23-C23))) -> 2.5225403 | G23: =E23/F23 -> 3.7810871
A24: LE | B24: 1.332 | C24: 1.224 | D24: =B24/C24 -> 1.0882353 | E24: =((4*PI()*(C24/2)^2)+((PI()*C24)*(B24-C24))) -> 5.1219521 | F24: =(((4/3)*PI()*(C24/2)^3)+(PI()*((C24/2)^2)*(B24-C24))) -> 1.0872382 | G24: =E24/F24 -> 4.7109753
A25: LE | B25: 1.749 | C25: 1.166 | D25: =B25/C25 -> 1.5 | E25: =((4*PI()*(C25/2)^2)+((PI()*C25)*(B25-C25))) -> 6.4067567 | F25: =(((4/3)*PI()*(C25/2)^3)+(PI()*((C25/2)^2)*(B25-C25))) -> 1.4525541 | G25: =E25/F25 -> 4.4106837
A26: LE | B26: 1.497 | C26: 1.31 | D26: =B26/C26 -> 1.1427481 | E26: =((4*PI()*(C26/2)^2)+((PI()*C26)*(B26-C26))) -> 6.1608831 | F26: =(((4/3)*PI()*(C26/2)^3)+(PI()*((C26/2)^2)*(B26-C26))) -> 1.4291404 | G26: =E26/F26 -> 4.3109013
A27: LE | B27: 2.195 | C27: 1.056 | D27: =B27/C27 -> 2.0785985 | E27: =((4*PI()*(C27/2)^2)+((PI()*C27)*(B27-C27))) -> 7.2819604 | F27: =(((4/3)*PI()*(C27/2)^3)+(PI()*((C27/2)^2)*(B27-C27))) -> 1.6141469 | G27: =E27/F27 -> 4.5113369
A28: LE | B28: 1.614 | C28: 1.185 | D28: =B28/C28 -> 1.3620253 | E28: =((4*PI()*(C28/2)^2)+((PI()*C28)*(B28-C28))) -> 6.0085787 | F28: =(((4/3)*PI()*(C28/2)^3)+(PI()*((C28/2)^2)*(B28-C28))) -> 1.3444055 | G28: =E28/F28 -> 4.4693202
... A71: LE | B71: 2.74 | C71: 0.985 | D71: =B71/C71 -> 2.7817259 | E71: =((4*PI()*(C71/2)^2)+((PI()*C71)*(B71-C71))) -> 8.4788444 | F71: =(((4/3)*PI()*(C71/2)^3)+(PI()*((C71/2)^2)*(B71-C71))) -> 1.8377212 | G71: =E71/F71 -> 4.6137817
A72: LE | B72: 1.484 | C72: =(1.154+0.655)/2 -> 0.9045 | D72: =B72/C72 -> 1.6406855 | E72: =((4*PI()*(C72/2)^2)+((PI()*C72)*(B72-C72))) -> 4.2168907 | F72: =(((4/3)*PI()*(C72/2)^3)+(PI()*((C72/2)^2)*(B72-C72))) -> 0.75981554 | G72: =E72/F72 -> 5.5498874
A73: LE | B73: 1.459 | C73: 0.989 | D73: =B73/C73 -> 1.4752275 | E73: =((4*PI()*(C73/2)^2)+((PI()*C73)*(B73-C73))) -> 4.5331643 | F73: =(((4/3)*PI()*(C73/2)^3)+(PI()*((C73/2)^2)*(B73-C73))) -> 0.86757017 | G73: =E73/F73 -> 5.2251269
A74: LE | B74: 1.38 | C74: 1.142 | D74: =B74/C74 -> 1.2084063 | E74: =((4*PI()*(C74/2)^2)+((PI()*C74)*(B74-C74))) -> 4.9510244 | F74: =(((4/3)*PI()*(C74/2)^3)+(PI()*((C74/2)^2)*(B74-C74))) -> 1.0236052 | G74: =E74/F74 -> 4.8368498
A75: LE | B75: 1.368 | C75: 1.209 | D75: =B75/C75 -> 1.1315136 | E75: =((4*PI()*(C75/2)^2)+((PI()*C75)*(B75-C75))) -> 5.1959178 | F75: =(((4/3)*PI()*(C75/2)^3)+(PI()*((C75/2)^2)*(B75-C75))) -> 1.1078215 | G75: =E75/F75 -> 4.690212
A76: LE | B76: 1.447 | C76: 1.004 | D76: =B76/C76 -> 1.4412351 | E76: =((4*PI()*(C76/2)^2)+((PI()*C76)*(B76-C76))) -> 4.5640681 | F76: =(((4/3)*PI()*(C76/2)^3)+(PI()*((C76/2)^2)*(B76-C76))) -> 0.88062753 | G76: =E76/F76 -> 5.1827452
A105: Count | B105: =COUNT(B2:B101) -> 75 | C105: =COUNT(C2:C101) -> 75 | D105: =COUNT(D2:D101) -> 75 | E105: =COUNT(E2:E101) -> 75 | F105: =COUNT(F2:F101) -> 75 | G105: =COUNT(G2:G101) -> 75
A106: Average | B106: =AVERAGE(B2:B101) -> 1.78024 | C106: =AVERAGE(C2:C101) -> 1.0841467 | D106: =AVERAGE(D2:D101) -> 1.6534097 | E106: =AVERAGE(E2:E101) -> 6.135387 | F106: =AVERAGE(F2:F101) -> 1.3586993 | G106: =AVERAGE(G2:G101) -> 4.7886143
A107: Standard Dev. | B107: =_xlfn.STDEV.S(B2:B101) -> 0.4419227 | C107: =_xlfn.STDEV.S(C2:C101) -> 0.14544588 | D107: =_xlfn.STDEV.S(D2:D101) -> 0.38426867 | E107: =_xlfn.STDEV.S(E2:E101) -> 1.9562799 | F107: =_xlfn.STDEV.S(F2:F101) -> 0.59721716 | G107: =_xlfn.STDEV.S(G2:G101) -> 0.73182396

Sheet G1 LE4 10041045
A1: Nutrient | B1: Length (mm) | C1: Width (mm) | D1: Length/Width | E1: Surface Area (µm^2) | F1: Volume (µm^3) | G1: SA/V (1/µm)
A2: LE | B2: 1.356 | C2: 1.281 | D2: =B2/C2 -> 1.058548 | E2: =((4*PI()*(C2/2)^2)+((PI()*C2)*(B2-C2))) -> 5.4570595 | F2: =(((4/3)*PI()*(C2/2)^3)+(PI()*((C2/2)^2)*(B2-C2))) -> 1.1973024 | G2: =E2/F2 -> 4.5577955
A3: LE | B3: 1.379 | C3: 1.007 | D3: =B3/C3 -> 1.3694141 | E3: =((4*PI()*(C3/2)^2)+((PI()*C3)*(B3-C3))) -> 4.3625821 | F3: =(((4/3)*PI()*(C3/2)^3)+(PI()*((C3/2)^2)*(B3-C3))) -> 0.83094429 | G3: =E3/F3 -> 5.2501499
A4: LE | B4: 1.718 | C4: 1.09 | D4: =B4/C4 -> 1.5761468 | E4: =((4*PI()*(C4/2)^2)+((PI()*C4)*(B4-C4))) -> 5.8830092 | F4: =(((4/3)*PI()*(C4/2)^3)+(PI()*((C4/2)^2)*(B4-C4))) -> 1.2640822 | G4: =E4/F4 -> 4.6539767
A5: LE | B5: 1.964 | C5: 1.112 | D5: =B5/C5 -> 1.7661871 | E5: =((4*PI()*(C5/2)^2)+((PI()*C5)*(B5-C5))) -> 6.8611378 | F5: =(((4/3)*PI()*(C5/2)^3)+(PI()*((C5/2)^2)*(B5-C5))) -> 1.5474125 | G5: =E5/F5 -> 4.4339424
A6: LE | B6: 1.435 | C6: 1.176 | D6: =B6/C6 -> 1.2202381 | E6: =((4*PI()*(C6/2)^2)+((PI()*C6)*(B6-C6))) -> 5.3016261 | F6: =(((4/3)*PI()*(C6/2)^3)+(PI()*((C6/2)^2)*(B6-C6))) -> 1.1328928 | G6: =E6/F6 -> 4.6797242
A7: LE | B7: 1.334 | C7: 0.967 | D7: =B7/C7 -> 1.3795243 | E7: =((4*PI()*(C7/2)^2)+((PI()*C7)*(B7-C7))) -> 4.0525854 | F7: =(((4/3)*PI()*(C7/2)^3)+(PI()*((C7/2)^2)*(B7-C7))) -> 0.74298538 | G7: =E7/F7 -> 5.4544618
A8: LE | B8: 1.724 | C8: 1.149 | D8: =B8/C8 -> 1.5004352 | E8: =((4*PI()*(C8/2)^2)+((PI()*C8)*(B8-C8))) -> 6.2231055 | F8: =(((4/3)*PI()*(C8/2)^3)+(PI()*((C8/2)^2)*(B8-C8))) -> 1.3904607 | G8: =E8/F8 -> 4.475571
A9: LE | B9: 1.912 | C9: 1.251 | D9: =B9/C9 -> 1.5283773 | E9: =((4*PI()*(C9/2)^2)+((PI()*C9)*(B9-C9))) -> 7.5144132 | F9: =(((4/3)*PI()*(C9/2)^3)+(PI()*((C9/2)^2)*(B9-C9))) -> 1.8375776 | G9: =E9/F9 -> 4.0893038
A10: LE | B10: 1.616 | C10: 1.234 | D10: =B10/C10 -> 1.3095624 | E10: =((4*PI()*(C10/2)^2)+((PI()*C10)*(B10-C10))) -> 6.2647881 | F10: =(((4/3)*PI()*(C10/2)^3)+(PI()*((C10/2)^2)*(B10-C10))) -> 1.4407449 | G10: =E10/F10 -> 4.3482979
